RMassBank 1.1.1 Michael Stravs, Emma Schymanski
Snapshot Date: 2013-03-23 17:02:20 -0700 (Sat, 23 Mar 2013) | URL: https://hedgehog.fhcrc.org/bioconductor/trunk/madman/Rpacks/RMassBank | Last Changed Rev: 74064 / Revision: 74756 | Last Changed Date: 2013-03-08 02:48:57 -0800 (Fri, 08 Mar 2013) |
| george2 | Linux (Ubuntu 12.04.1 LTS) / x86_64 | OK | ERROR | |
moscato2 | Windows Server 2008 R2 Enterprise SP1 (64-bit) / x64 | OK | ERROR | OK |
petty | Mac OS X Leopard (10.5.8) / i386 | OK | ERROR | [ OK ] |
pelham | Mac OS X Snow Leopard (10.6.8) / x86_64 | OK | ERROR | OK |
* installing to library '/Library/Frameworks/R.framework/Versions/3.0/Resources/library'
* installing *source* package 'RMassBank' ...
** R
** inst
** preparing package for lazy loading
** help
*** installing help indices
** building package indices
** installing vignettes
'RMassBank.Rnw'
packaged installation of 'RMassBank' as 'RMassBank_1.1.1.tgz'
* DONE (RMassBank)