VariantTools 1.1.13 Michael Lawrence
Snapshot Date: 2013-03-24 17:01:43 -0700 (Sun, 24 Mar 2013) | URL: https://hedgehog.fhcrc.org/bioconductor/trunk/madman/Rpacks/VariantTools | Last Changed Rev: 74288 / Revision: 74774 | Last Changed Date: 2013-03-13 09:37:58 -0700 (Wed, 13 Mar 2013) |
| george2 | Linux (Ubuntu 12.04.1 LTS) / x86_64 | [ OK ] | WARNINGS | |
moscato2 | Windows Server 2008 R2 Enterprise SP1 (64-bit) / x64 | N O T S U P P O R T E D |
petty | Mac OS X Leopard (10.5.8) / i386 | N O T S U P P O R T E D |
* checking for file ‘VariantTools/DESCRIPTION’ ... OK
* preparing ‘VariantTools’:
* checking DESCRIPTION meta-information ... OK
* installing the package to re-build vignettes
* creating vignettes ... OK
* checking for LF line-endings in source and make files
* checking for empty or unneeded directories
* building ‘VariantTools_1.1.13.tar.gz’