Back to the "Multiple platform build/check report" A  B  C  D [E] F  G  H  I  J  K  L  M  N  O  P  Q  R  S  T  U  V  W  X  Y  Z 

Package 201/658HostnameOS / ArchBUILDCHECKBUILD BIN
eisa 1.11.0
Gabor Csardi
Snapshot Date: 2013-03-24 17:01:43 -0700 (Sun, 24 Mar 2013)
URL: https://hedgehog.fhcrc.org/bioconductor/trunk/madman/Rpacks/eisa
Last Changed Rev: 70052 / Revision: 74774
Last Changed Date: 2012-10-01 15:43:56 -0700 (Mon, 01 Oct 2012)
george2 Linux (Ubuntu 12.04.1 LTS) / x86_64  OK [ OK ]
moscato2 Windows Server 2008 R2 Enterprise SP1 (64-bit) / x64  OK  OK  OK 
petty Mac OS X Leopard (10.5.8) / i386  OK  OK  OK 

Summary

Package: eisa
Version: 1.11.0
Command: /home/biocbuild/bbs-2.12-bioc/R/bin/R CMD check --no-vignettes --timings eisa_1.11.0.tar.gz
StartedAt: 2013-03-25 01:22:33 -0700 (Mon, 25 Mar 2013)
EndedAt: 2013-03-25 01:31:08 -0700 (Mon, 25 Mar 2013)
EllapsedTime: 515.2 seconds
RetCode: 0
Status:  OK 
CheckDir: eisa.Rcheck
Warnings: 0

Command output

* using log directory ‘/home/biocbuild/bbs-2.12-bioc/meat/eisa.Rcheck’
* using R version 3.0.0 beta (2013-03-19 r62328)
* using platform: x86_64-unknown-linux-gnu (64-bit)
* using session charset: UTF-8
* using option ‘--no-vignettes’
* checking for file ‘eisa/DESCRIPTION’ ... OK
* this is package ‘eisa’ version ‘1.11.0’
* checking package namespace information ... OK
* checking package dependencies ... OK
* checking if this is a source package ... OK
* checking if there is a namespace ... OK
* checking for hidden files and directories ... OK
* checking for portable file names ... OK
* checking for sufficient/correct file permissions ... OK
* checking whether package ‘eisa’ can be installed ... [28s/31s] OK
* checking installed package size ... OK
* checking package directory ... OK
* checking DESCRIPTION meta-information ... OK
* checking top-level files ... OK
* checking for left-over files ... OK
* checking index information ... OK
* checking package subdirectories ... OK
* checking R files for non-ASCII characters ... OK
* checking R files for syntax errors ... OK
* checking whether the package can be loaded ... OK
* checking whether the package can be loaded with stated dependencies ... OK
* checking whether the package can be unloaded cleanly ... OK
* checking whether the namespace can be loaded with stated dependencies ... OK
* checking whether the namespace can be unloaded cleanly ... OK
* checking for unstated dependencies in R code ... OK
* checking S3 generic/method consistency ... OK
* checking replacement functions ... OK
* checking foreign function calls ... OK
* checking R code for possible problems ... NOTE
NB: .Last.lib will not be used unless it is exported
* checking Rd files ... OK
* checking Rd metadata ... OK
* checking Rd cross-references ... OK
* checking for missing documentation entries ... OK
* checking for code/documentation mismatches ... OK
* checking Rd \usage sections ... OK
* checking Rd contents ... OK
* checking for unstated dependencies in examples ... OK
* checking contents of ‘data’ directory ... OK
* checking data for non-ASCII characters ... OK
* checking data for ASCII and uncompressed saves ... OK
* checking installed files from ‘inst/doc’ ... OK
* checking examples ... [228s/233s] OK
Examples with CPU or elapsed time > 5s
                         user system elapsed
ISA                    59.563  0.276  61.191
ISA.html               26.100  0.500  26.600
ISA.sweep              21.466  0.092  22.523
ISA.GO                 12.909  0.316  14.400
ISA.iterate            12.430  0.110  12.550
ISA.unique             10.168  0.052  10.293
ISA.normalize           8.210  0.150   8.490
ISAExpressionSet        8.077  0.052   9.153
gograph                 7.950  0.110   8.100
ListHyperGParams-class  7.144  0.096   7.429
ListHyperGResult-class  7.009  0.088   7.095
ISA.KEGG                6.329  0.100   6.432
eisa.biclust            5.316  0.056   5.372
* checking for unstated dependencies in vignettes ... OK
* checking package vignettes in ‘inst/doc’ ... OK
* checking running R code from vignettes ... SKIPPED
* checking re-building of vignettes ... SKIPPED
* checking PDF version of manual ... OK

NOTE: There was 1 note.
See
  ‘/home/biocbuild/bbs-2.12-bioc/meat/eisa.Rcheck/00check.log’
for details.

eisa.Rcheck/00install.out:

* installing *source* package ‘eisa’ ...
** R
** data
** inst
** preparing package for lazy loading
in method for ‘coerce’ with signature ‘"Biclust","ISAModules"’: no definition for class “Biclust”
in method for ‘coerce’ with signature ‘"ISAModules","Biclust"’: no definition for class “Biclust”
** help
*** installing help indices
** building package indices
** installing vignettes
   ‘EISA_biclust.Rnw’ 
   ‘EISA_tutorial.Rnw’ 
** testing if installed package can be loaded
* DONE (eisa)

eisa.Rcheck/eisa-Ex.timings:

nameusersystemelapsed
ALLModules0.5000.0200.523
ISA.CHR2.1000.0442.263
ISA.GO12.909 0.31614.400
ISA.KEGG6.3290.1006.432
ISA59.563 0.27661.191
ISA.html26.1 0.526.6
ISA.iterate12.43 0.1112.55
ISA.miRNA1.4760.0441.676
ISA.normalize8.210.158.49
ISA.sweep21.466 0.09222.523
ISA.unique10.168 0.05210.293
ISA2heatmap1.200.021.22
ISAExpressionSet8.0770.0529.153
ISAModules-class0.0320.0040.046
ListHyperGParams-class7.1440.0967.429
ListHyperGResult-class7.0090.0887.095
cond.plot2.5520.0522.606
eisa.biclust5.3160.0565.372
enrichment0.790.000.79
exp.plot2.1080.0522.250
gograph7.950.118.10
mnplot2.660.082.74
overlap0.800.611.45
profilePlot1.1760.0121.185
robustness3.460.043.51