Back to the "Multiple platform build/check report" A  B  C  D  E  F  G  H  I  J  K  L [M] N  O  P  Q  R  S  T  U  V  W  X  Y  Z 

Package 404/658HostnameOS / ArchBUILDCHECKBUILD BIN
mgsa 1.7.1
Sebastian Bauer
Snapshot Date: 2013-03-24 17:01:43 -0700 (Sun, 24 Mar 2013)
URL: https://hedgehog.fhcrc.org/bioconductor/trunk/madman/Rpacks/mgsa
Last Changed Rev: 74216 / Revision: 74774
Last Changed Date: 2013-03-12 03:26:47 -0700 (Tue, 12 Mar 2013)
george2 Linux (Ubuntu 12.04.1 LTS) / x86_64  OK [ OK ]
moscato2 Windows Server 2008 R2 Enterprise SP1 (64-bit) / x64  OK  OK  OK 
petty Mac OS X Leopard (10.5.8) / i386  OK  WARNINGS  OK 

Summary

Package: mgsa
Version: 1.7.1
Command: /home/biocbuild/bbs-2.12-bioc/R/bin/R CMD check --no-vignettes --timings mgsa_1.7.1.tar.gz
StartedAt: 2013-03-25 03:04:13 -0700 (Mon, 25 Mar 2013)
EndedAt: 2013-03-25 03:05:35 -0700 (Mon, 25 Mar 2013)
EllapsedTime: 82.3 seconds
RetCode: 0
Status:  OK 
CheckDir: mgsa.Rcheck
Warnings: 0

Command output

* using log directory ‘/home/biocbuild/bbs-2.12-bioc/meat/mgsa.Rcheck’
* using R version 3.0.0 beta (2013-03-19 r62328)
* using platform: x86_64-unknown-linux-gnu (64-bit)
* using session charset: UTF-8
* using option ‘--no-vignettes’
* checking for file ‘mgsa/DESCRIPTION’ ... OK
* this is package ‘mgsa’ version ‘1.7.1’
* checking package namespace information ... OK
* checking package dependencies ... OK
* checking if this is a source package ... OK
* checking if there is a namespace ... OK
* checking for hidden files and directories ... OK
* checking for portable file names ... OK
* checking for sufficient/correct file permissions ... OK
* checking whether package ‘mgsa’ can be installed ... [6s/6s] OK
* checking installed package size ... OK
* checking package directory ... OK
* checking DESCRIPTION meta-information ... OK
* checking top-level files ... OK
* checking for left-over files ... OK
* checking index information ... OK
* checking package subdirectories ... OK
* checking R files for non-ASCII characters ... OK
* checking R files for syntax errors ... OK
* checking whether the package can be loaded ... OK
* checking whether the package can be loaded with stated dependencies ... OK
* checking whether the package can be unloaded cleanly ... OK
* checking whether the namespace can be loaded with stated dependencies ... OK
* checking whether the namespace can be unloaded cleanly ... OK
* checking for unstated dependencies in R code ... OK
* checking S3 generic/method consistency ... OK
* checking replacement functions ... OK
* checking foreign function calls ... OK
* checking R code for possible problems ... NOTE
NB: .Last.lib will not be used unless it is exported
File ‘mgsa/R/zzz.R’:
  .Last.lib calls:
    library.dynam.unload("mgsa", paste(.libPaths(), "/mgsa", sep = ""))

Package detach functions should not call ‘library.dynam.unload’.
See section ‘Good practice’ in '?.Last.lib'.

readGAF: no visible binding for global variable ‘aspect.code’
readGAF: no visible binding for global variable ‘evidence.code’
* checking Rd files ... OK
* checking Rd metadata ... OK
* checking Rd cross-references ... OK
* checking for missing documentation entries ... OK
* checking for code/documentation mismatches ... OK
* checking Rd \usage sections ... OK
* checking Rd contents ... OK
* checking for unstated dependencies in examples ... OK
* checking contents of ‘data’ directory ... OK
* checking data for non-ASCII characters ... NOTE
  '.path.package' is deprecated.
  Use 'path.package' instead.
  See help("Deprecated")
* checking data for ASCII and uncompressed saves ... OK
* checking line endings in C/C++/Fortran sources/headers ... OK
* checking line endings in Makefiles ... OK
* checking for portable compilation flags in Makevars ... OK
* checking for portable use of $(BLAS_LIBS) and $(LAPACK_LIBS) ... OK
* checking compiled code ... OK
* checking installed files from ‘inst/doc’ ... OK
* checking examples ... [21s/16s] OK
Examples with CPU or elapsed time > 5s
               user system elapsed
readGAF      10.501  0.240  10.856
mgsa-methods  8.436  0.016   3.455
* checking for unstated dependencies in vignettes ... OK
* checking package vignettes in ‘inst/doc’ ... OK
* checking running R code from vignettes ... SKIPPED
* checking re-building of vignettes ... SKIPPED
* checking PDF version of manual ... OK

NOTE: There were 2 notes.
See
  ‘/home/biocbuild/bbs-2.12-bioc/meat/mgsa.Rcheck/00check.log’
for details.

mgsa.Rcheck/00install.out:

* installing *source* package ‘mgsa’ ...
checking for gcc... gcc
checking whether the C compiler works... yes
checking for C compiler default output file name... a.out
checking for suffix of executables... 
checking whether we are cross compiling... no
checking for suffix of object files... o
checking whether we are using the GNU C compiler... yes
checking whether gcc accepts -g... yes
checking for gcc option to accept ISO C89... none needed
checking for OpenMP flag of C compiler... -fopenmp
configure: creating ./config.status
config.status: creating src/Makevars
** libs
gcc -std=gnu99 -I/home/biocbuild/bbs-2.12-bioc/R/include -DNDEBUG -g -O2 -fopenmp -DPACKAGE_NAME=\"mgsa\" -DPACKAGE_TARNAME=\"mgsa\" -DPACKAGE_VERSION=\"0.99.0\" -DPACKAGE_STRING=\"mgsa\ 0.99.0\" -DPACKAGE_BUGREPORT=\"\" -DPACKAGE_URL=\"\" -DHAVE_OPENMP=1 -I/usr/local/include    -fpic  -g -O2  -Wall -c mgsa.c -o mgsa.o
gcc -std=gnu99 -shared -L/usr/local/lib -o mgsa.so mgsa.o -fopenmp -L/home/biocbuild/bbs-2.12-bioc/R/lib -lR
installing to /home/biocbuild/bbs-2.12-bioc/meat/mgsa.Rcheck/mgsa/libs
** R
** data
** inst
** preparing package for lazy loading
'.path.package' is deprecated.
Use 'path.package' instead.
See help("Deprecated")
Creating a generic function for ‘plot’ from package ‘graphics’ in package ‘mgsa’
** help
*** installing help indices
** building package indices
** installing vignettes
   ‘mgsa.Rnw’ 
** testing if installed package can be loaded
'.path.package' is deprecated.
Use 'path.package' instead.
See help("Deprecated")
* DONE (mgsa)

mgsa.Rcheck/mgsa-Ex.timings:

nameusersystemelapsed
MgsaSets-class0.0360.0000.036
mgsa-methods8.4360.0163.455
readGAF10.501 0.24010.856