pathview 0.99.9 Weijun Luo
Snapshot Date: 2013-03-24 17:01:43 -0700 (Sun, 24 Mar 2013) | URL: https://hedgehog.fhcrc.org/bioconductor/trunk/madman/Rpacks/pathview | Last Changed Rev: 74615 / Revision: 74774 | Last Changed Date: 2013-03-20 13:31:09 -0700 (Wed, 20 Mar 2013) |
| george2 | Linux (Ubuntu 12.04.1 LTS) / x86_64 | OK | [ OK ] | |
moscato2 | Windows Server 2008 R2 Enterprise SP1 (64-bit) / x64 | OK | OK | OK |
petty | Mac OS X Leopard (10.5.8) / i386 | OK | OK | OK |
* using log directory ‘/home/biocbuild/bbs-2.12-bioc/meat/pathview.Rcheck’
* using R version 3.0.0 beta (2013-03-19 r62328)
* using platform: x86_64-unknown-linux-gnu (64-bit)
* using session charset: UTF-8
* using option ‘--no-vignettes’
* checking for file ‘pathview/DESCRIPTION’ ... OK
* checking extension type ... Package
* this is package ‘pathview’ version ‘0.99.9’
* checking package namespace information ... OK
* checking package dependencies ... OK
* checking if this is a source package ... OK
* checking if there is a namespace ... OK
* checking for hidden files and directories ... OK
* checking for portable file names ... OK
* checking for sufficient/correct file permissions ... OK
* checking whether package ‘pathview’ can be installed ... [20s/22s] OK
* checking installed package size ... OK
* checking package directory ... OK
* checking DESCRIPTION meta-information ... OK
* checking top-level files ... OK
* checking for left-over files ... OK
* checking index information ... OK
* checking package subdirectories ... OK
* checking R files for non-ASCII characters ... OK
* checking R files for syntax errors ... OK
* checking whether the package can be loaded ... OK
* checking whether the package can be loaded with stated dependencies ... OK
* checking whether the package can be unloaded cleanly ... OK
* checking whether the namespace can be loaded with stated dependencies ... OK
* checking whether the namespace can be unloaded cleanly ... OK
* checking for unstated dependencies in R code ... OK
* checking S3 generic/method consistency ... OK
* checking replacement functions ... OK
* checking foreign function calls ... OK
* checking R code for possible problems ... NOTE
File ‘pathview/R/zzz.R’:
.onLoad calls:
installed.packages()
packageStartupMessage(wordwrap(disclaimer, 80))
Package startup functions should not call ‘installed.packages’.
See section ‘Good practice’ in '?.onAttach'.
col.key: no visible binding for global variable ‘node.sizes’
cpd2kegg: no visible binding for global variable ‘rn.list’
cpdidmap: no visible binding for global variable ‘cpd.accs’
cpdkegg2name: no visible binding for global variable ‘kegg.met’
cpdname2kegg: no visible binding for global variable ‘cpd.names’
eg2id: no visible global function definition for ‘biocLite’
id2eg: no visible global function definition for ‘biocLite’
kegg.species.code: no visible binding for global variable ‘korg’
keggview.graph: no visible binding for global variable
‘KEGGEdgeSubtype’
keggview.graph: no visible binding for global variable ‘nplot’
keggview.graph: no visible binding for global variable ‘sci.gene’
keggview.native: no visible binding for global variable ‘nplot’
pathview: no visible binding for global variable ‘bods’
pathview: no visible binding for global variable ‘rn.list’
sim.mol.data: no visible binding for global variable ‘cpd.accs’
sim.mol.data: no visible binding for global variable ‘rn.list’
sim.mol.data: no visible binding for global variable ‘ko.ids’
* checking Rd files ... OK
* checking Rd metadata ... OK
* checking Rd cross-references ... OK
* checking for missing documentation entries ... OK
* checking for code/documentation mismatches ... OK
* checking Rd \usage sections ... OK
* checking Rd contents ... OK
* checking for unstated dependencies in examples ... OK
* checking contents of ‘data’ directory ... OK
* checking data for non-ASCII characters ... OK
* checking data for ASCII and uncompressed saves ... OK
* checking installed files from ‘inst/doc’ ... OK
* checking examples ... [68s/73s] OK
Examples with CPU or elapsed time > 5s
user system elapsed
pathview 27.674 0.244 29.457
eg2id 16.501 0.180 16.990
mol.sum 6.153 0.012 6.166
* checking for unstated dependencies in tests ... OK
* checking tests ...
Running ‘runTests.R’ [25s/26s]
[26s/27s] OK
* checking for unstated dependencies in vignettes ... OK
* checking package vignettes in ‘inst/doc’ ... OK
* checking running R code from vignettes ... SKIPPED
* checking re-building of vignettes ... SKIPPED
* checking PDF version of manual ... OK
NOTE: There was 1 note.
See
‘/home/biocbuild/bbs-2.12-bioc/meat/pathview.Rcheck/00check.log’
for details.