Back to the "Multiple platform build/check report" A  B  C  D  E  F  G  H  I  J  K  L  M  N  O  P  Q [R] S  T  U  V  W  X  Y  Z 

Package 553/658HostnameOS / ArchBUILDCHECKBUILD BIN
rols 1.1.6
Laurent Gatto
Snapshot Date: 2013-03-24 17:01:43 -0700 (Sun, 24 Mar 2013)
URL: https://hedgehog.fhcrc.org/bioconductor/trunk/madman/Rpacks/rols
Last Changed Rev: 74366 / Revision: 74774
Last Changed Date: 2013-03-14 17:33:44 -0700 (Thu, 14 Mar 2013)
george2 Linux (Ubuntu 12.04.1 LTS) / x86_64  OK [ OK ]
moscato2 Windows Server 2008 R2 Enterprise SP1 (64-bit) / x64  OK  OK  OK 
petty Mac OS X Leopard (10.5.8) / i386  OK  OK  OK 

Summary

Package: rols
Version: 1.1.6
Command: /home/biocbuild/bbs-2.12-bioc/R/bin/R CMD check --no-vignettes --timings rols_1.1.6.tar.gz
StartedAt: 2013-03-25 04:25:58 -0700 (Mon, 25 Mar 2013)
EndedAt: 2013-03-25 04:30:08 -0700 (Mon, 25 Mar 2013)
EllapsedTime: 250.6 seconds
RetCode: 0
Status:  OK 
CheckDir: rols.Rcheck
Warnings: 0

Command output

* using log directory ‘/home/biocbuild/bbs-2.12-bioc/meat/rols.Rcheck’
* using R version 3.0.0 beta (2013-03-19 r62328)
* using platform: x86_64-unknown-linux-gnu (64-bit)
* using session charset: UTF-8
* using option ‘--no-vignettes’
* checking for file ‘rols/DESCRIPTION’ ... OK
* checking extension type ... Package
* this is package ‘rols’ version ‘1.1.6’
* checking package namespace information ... OK
* checking package dependencies ... OK
* checking if this is a source package ... OK
* checking if there is a namespace ... OK
* checking for hidden files and directories ... OK
* checking for portable file names ... OK
* checking for sufficient/correct file permissions ... OK
* checking whether package ‘rols’ can be installed ... [10s/10s] OK
* checking installed package size ... OK
* checking package directory ... OK
* checking DESCRIPTION meta-information ... OK
* checking top-level files ... OK
* checking for left-over files ... OK
* checking index information ... OK
* checking package subdirectories ... OK
* checking R files for non-ASCII characters ... OK
* checking R files for syntax errors ... OK
* checking whether the package can be loaded ... OK
* checking whether the package can be loaded with stated dependencies ... OK
* checking whether the package can be unloaded cleanly ... OK
* checking whether the namespace can be loaded with stated dependencies ... OK
* checking whether the namespace can be unloaded cleanly ... OK
* checking for unstated dependencies in R code ... OK
* checking S3 generic/method consistency ... OK
* checking replacement functions ... OK
* checking foreign function calls ... OK
* checking R code for possible problems ... NOTE
Found the following possibly unsafe calls:
File ‘rols/R/queries.R’:
  unlockBinding("ontologies", .rolsEnv)
* checking Rd files ... OK
* checking Rd metadata ... OK
* checking Rd cross-references ... OK
* checking for missing documentation entries ... OK
* checking for code/documentation mismatches ... OK
* checking Rd \usage sections ... OK
* checking Rd contents ... OK
* checking for unstated dependencies in examples ... OK
* checking installed files from ‘inst/doc’ ... OK
* checking examples ... [112s/144s] OK
Examples with CPU or elapsed time > 5s
                 user system elapsed
allIds        101.354  0.292 112.318
olsQuery        2.076  0.008   5.290
CVParam-class   1.576  0.008   9.045
* checking for unstated dependencies in vignettes ... OK
* checking package vignettes in ‘inst/doc’ ... OK
* checking running R code from vignettes ... SKIPPED
* checking re-building of vignettes ... SKIPPED
* checking PDF version of manual ... OK

NOTE: There was 1 note.
See
  ‘/home/biocbuild/bbs-2.12-bioc/meat/rols.Rcheck/00check.log’
for details.

rols.Rcheck/00install.out:

* installing *source* package ‘rols’ ...
** R
** inst
** preparing package for lazy loading
Warning in .simpleDuplicateClass(def, prev) :
  the specification for S3 class “connection” in package ‘BiocGenerics’ seems equivalent to one from package ‘SSOAP’ and is not turning on duplicate class definitions for this class
** help
*** installing help indices
** building package indices
** installing vignettes
   ‘rols.Rnw’ 
processing file: rols.Rnw
output file: /home/biocbuild/bbs-2.12-bioc/meat/rols.Rcheck/rols/doc/rols.R
** testing if installed package can be loaded
Warning in .simpleDuplicateClass(def, prev) :
  the specification for S3 class “connection” in package ‘BiocGenerics’ seems equivalent to one from package ‘SSOAP’ and is not turning on duplicate class definitions for this class
* DONE (rols)

rols.Rcheck/rols-Ex.timings:

nameusersystemelapsed
CVParam-class1.5760.0089.045
allIds101.354 0.292112.318
childrenRelations0.1240.0000.459
olsQuery2.0760.0085.290
olsVersion0.0520.0000.386
ontologies0.0640.0000.063
ontologyLoadDate0.1400.0040.822
ontologyNames0.0560.0000.055
parents0.2120.0040.551
rootId0.260.001.75
term0.1920.0004.077
termMetadata0.2280.0043.825