ChemmineR 2.12.3 ChemmineR Team
Snapshot Date: 2013-10-08 17:00:48 -0700 (Tue, 08 Oct 2013) | URL: https://hedgehog.fhcrc.org/bioconductor/branches/RELEASE_2_12/madman/Rpacks/ChemmineR | Last Changed Rev: 79833 / Revision: 81334 | Last Changed Date: 2013-08-26 19:51:37 -0700 (Mon, 26 Aug 2013) |
| george2 | Linux (Ubuntu 12.04.1 LTS) / x86_64 | OK | [ OK ] | |
moscato2 | Windows Server 2008 R2 Enterprise SP1 (64-bit) / x64 | OK | OK | OK |
petty | Mac OS X Snow Leopard (10.6.8) / x86_64 | OK | OK | OK |
* using log directory ‘/home/biocbuild/bbs-2.12-bioc/meat/ChemmineR.Rcheck’
* using R version 3.0.1 (2013-05-16)
* using platform: x86_64-unknown-linux-gnu (64-bit)
* using session charset: UTF-8
* using option ‘--no-vignettes’
* checking for file ‘ChemmineR/DESCRIPTION’ ... OK
* checking extension type ... Package
* this is package ‘ChemmineR’ version ‘2.12.3’
* checking package namespace information ... OK
* checking package dependencies ... OK
* checking if this is a source package ... OK
* checking if there is a namespace ... OK
* checking for hidden files and directories ... OK
* checking for portable file names ... OK
* checking for sufficient/correct file permissions ... OK
* checking whether package ‘ChemmineR’ can be installed ... [14s/16s] OK
* checking installed package size ... OK
* checking package directory ... OK
* checking DESCRIPTION meta-information ... OK
* checking top-level files ... OK
* checking for left-over files ... OK
* checking index information ... OK
* checking package subdirectories ... OK
* checking R files for non-ASCII characters ... OK
* checking R files for syntax errors ... OK
* checking whether the package can be loaded ... OK
* checking whether the package can be loaded with stated dependencies ... OK
* checking whether the package can be unloaded cleanly ... OK
* checking whether the namespace can be loaded with stated dependencies ... OK
* checking whether the namespace can be unloaded cleanly ... OK
* checking for unstated dependencies in R code ... OK
* checking S3 generic/method consistency ... OK
* checking replacement functions ... OK
* checking foreign function calls ... OK
* checking R code for possible problems ... NOTE
Found the following possibly unsafe calls:
File ‘ChemmineR/R/sim.R’:
unlockBinding(".progress_bar_int_cnt", environment(.progress_bar))
.data.frame.to.str: no visible binding for global variable ‘string’
* checking Rd files ... NOTE
prepare_Rd: batchByIndex.Rd:27-29: Dropping empty section \details
prepare_Rd: batchByIndex.Rd:30-36: Dropping empty section \value
prepare_Rd: batchByIndex.Rd:43-45: Dropping empty section \note
prepare_Rd: batchByIndex.Rd:40-42: Dropping empty section \author
prepare_Rd: batchByIndex.Rd:37-39: Dropping empty section \references
prepare_Rd: batchByIndex.Rd:49-51: Dropping empty section \seealso
prepare_Rd: bufferLines.Rd:25-27: Dropping empty section \details
prepare_Rd: bufferLines.Rd:28-34: Dropping empty section \value
prepare_Rd: bufferLines.Rd:41-43: Dropping empty section \note
prepare_Rd: bufferLines.Rd:38-40: Dropping empty section \author
prepare_Rd: bufferLines.Rd:35-37: Dropping empty section \references
prepare_Rd: bufferLines.Rd:47-49: Dropping empty section \seealso
prepare_Rd: bufferResultSet.Rd:28-30: Dropping empty section \details
prepare_Rd: bufferResultSet.Rd:31-37: Dropping empty section \value
prepare_Rd: bufferResultSet.Rd:44-46: Dropping empty section \note
prepare_Rd: bufferResultSet.Rd:41-43: Dropping empty section \author
prepare_Rd: bufferResultSet.Rd:38-40: Dropping empty section \references
prepare_Rd: bufferResultSet.Rd:50-52: Dropping empty section \seealso
prepare_Rd: jarvisPatrick_c.Rd:40-42: Dropping empty section \details
prepare_Rd: jarvisPatrick_c.Rd:43-49: Dropping empty section \value
prepare_Rd: jarvisPatrick_c.Rd:56-58: Dropping empty section \note
prepare_Rd: jarvisPatrick_c.Rd:53-55: Dropping empty section \author
prepare_Rd: jarvisPatrick_c.Rd:50-52: Dropping empty section \references
prepare_Rd: jarvisPatrick_c.Rd:62-64: Dropping empty section \seealso
prepare_Rd: jarvisPatrick_c.Rd:65-67: Dropping empty section \examples
prepare_Rd: selectInBatches.Rd:30-32: Dropping empty section \details
prepare_Rd: selectInBatches.Rd:33-39: Dropping empty section \value
prepare_Rd: selectInBatches.Rd:46-48: Dropping empty section \note
prepare_Rd: selectInBatches.Rd:43-45: Dropping empty section \author
prepare_Rd: selectInBatches.Rd:40-42: Dropping empty section \references
prepare_Rd: selectInBatches.Rd:52-54: Dropping empty section \seealso
* checking Rd metadata ... OK
* checking Rd cross-references ... OK
* checking for missing documentation entries ... OK
* checking for code/documentation mismatches ... OK
* checking Rd \usage sections ... OK
* checking Rd contents ... OK
* checking for unstated dependencies in examples ... OK
* checking contents of ‘data’ directory ... OK
* checking data for non-ASCII characters ... OK
* checking data for ASCII and uncompressed saves ... OK
* checking line endings in C/C++/Fortran sources/headers ... OK
* checking line endings in Makefiles ... OK
* checking for portable compilation flags in Makevars ... OK
* checking for portable use of $(BLAS_LIBS) and $(LAPACK_LIBS) ... OK
* checking compiled code ... NOTE
File ‘/home/biocbuild/bbs-2.12-bioc/meat/ChemmineR.Rcheck/ChemmineR/libs/ChemmineR.so’:
Found ‘_ZSt4cerr’, possibly from ‘std::cerr’ (C++)
Objects: ‘desc.o’, ‘formats.o’, ‘script.o’
Found ‘_ZSt4cout’, possibly from ‘std::cout’ (C++)
Object: ‘cluster.o’
Compiled code should not call entry points which might terminate R nor
write to stdout/stderr instead of to the console.
See ‘Writing portable packages’ in the ‘Writing R Extensions’ manual.
* checking installed files from ‘inst/doc’ ... OK
* checking examples ... [83s/88s] OK
Examples with CPU or elapsed time > 5s
user system elapsed
jarvisPatrick 9.517 0.388 10.690
trimNeighbors 5.640 0.036 6.375
addNewFeatures 5.572 0.048 5.768
loadSdf 4.972 0.032 5.237
* checking for unstated dependencies in tests ... OK
* checking tests ...
Running ‘runTests.R’ [29s/32s]
[30s/32s] OK
* checking for unstated dependencies in vignettes ... OK
* checking package vignettes in ‘inst/doc’ ... OK
* checking running R code from vignettes ... SKIPPED
* checking re-building of vignettes ... SKIPPED
* checking PDF version of manual ... OK
NOTE: There were 3 notes.
See
‘/home/biocbuild/bbs-2.12-bioc/meat/ChemmineR.Rcheck/00check.log’
for details.
* installing *source* package ‘ChemmineR’ ...
** libs
g++ -I/home/biocbuild/bbs-2.12-bioc/R/include -DNDEBUG -I/usr/local/include -DNO_MAIN -fpic -g -O2 -Wall -c DisjointSets.cpp -o DisjointSets.o
g++ -I/home/biocbuild/bbs-2.12-bioc/R/include -DNDEBUG -I/usr/local/include -DNO_MAIN -fpic -g -O2 -Wall -c cluster.cc -o cluster.o
cluster.cc: In function ‘int nbr_intersect(std::vector<int>&, std::vector<int>&)’:
cluster.cc:118:24: warning: comparison between signed and unsigned integer expressions [-Wsign-compare]
cluster.cc:118:45: warning: comparison between signed and unsigned integer expressions [-Wsign-compare]
cluster.cc: In function ‘int contains(int, std::vector<int>&)’:
cluster.cc:131:29: warning: comparison between signed and unsigned integer expressions [-Wsign-compare]
cluster.cc: In function ‘DisjointSets cluster(int, int, int, int)’:
cluster.cc:267:40: warning: comparison between signed and unsigned integer expressions [-Wsign-compare]
cluster.cc: In function ‘void loadNNMatrix(int, int, int, SEXP)’:
cluster.cc:284:22: warning: comparison between signed and unsigned integer expressions [-Wsign-compare]
cluster.cc:298:20: warning: comparison between signed and unsigned integer expressions [-Wsign-compare]
cluster.cc: In function ‘void loadNNList(int, int, SEXP)’:
cluster.cc:314:22: warning: comparison between signed and unsigned integer expressions [-Wsign-compare]
cluster.cc:332:20: warning: comparison between signed and unsigned integer expressions [-Wsign-compare]
cluster.cc: In function ‘SEXPREC* jarvis_patrick(SEXP, SEXP, SEXP, SEXP, SEXP)’:
cluster.cc:390:22: warning: comparison between signed and unsigned integer expressions [-Wsign-compare]
cluster.cc: At global scope:
cluster.cc:49:13: warning: ‘void prepare_neighbors(const char*, int, int)’ defined but not used [-Wunused-function]
g++ -I/home/biocbuild/bbs-2.12-bioc/R/include -DNDEBUG -I/usr/local/include -DNO_MAIN -fpic -g -O2 -Wall -c desc.cc -o desc.o
g++ -I/home/biocbuild/bbs-2.12-bioc/R/include -DNDEBUG -I/usr/local/include -DNO_MAIN -fpic -g -O2 -Wall -c formats.cc -o formats.o
g++ -I/home/biocbuild/bbs-2.12-bioc/R/include -DNDEBUG -I/usr/local/include -DNO_MAIN -fpic -g -O2 -Wall -c molecule.cc -o molecule.o
g++ -I/home/biocbuild/bbs-2.12-bioc/R/include -DNDEBUG -I/usr/local/include -DNO_MAIN -fpic -g -O2 -Wall -c r_wrap.cc -o r_wrap.o
r_wrap.cc: In function ‘SEXPREC* SWIG_MakePtr(void*, const char*, R_SWIG_Owner)’:
r_wrap.cc:943:15: warning: variable ‘p’ set but not used [-Wunused-but-set-variable]
g++ -I/home/biocbuild/bbs-2.12-bioc/R/include -DNDEBUG -I/usr/local/include -DNO_MAIN -fpic -g -O2 -Wall -c script.cc -o script.o
g++ -I/home/biocbuild/bbs-2.12-bioc/R/include -DNDEBUG -I/usr/local/include -DNO_MAIN -fpic -g -O2 -Wall -c similarity.cc -o similarity.o
g++ -shared -L/usr/local/lib -o ChemmineR.so DisjointSets.o cluster.o desc.o formats.o molecule.o r_wrap.o script.o similarity.o -L/home/biocbuild/bbs-2.12-bioc/R/lib -lR
installing to /home/biocbuild/bbs-2.12-bioc/meat/ChemmineR.Rcheck/ChemmineR/libs
** R
** data
** inst
** preparing package for lazy loading
Creating a generic function for ‘as.vector’ from package ‘base’ in package ‘ChemmineR’
Creating a generic function for ‘as.matrix’ from package ‘base’ in package ‘ChemmineR’
Creating a generic function for ‘plot’ from package ‘graphics’ in package ‘ChemmineR’
Creating a generic function for ‘print’ from package ‘base’ in package ‘ChemmineR’
** help
*** installing help indices
** building package indices
** installing vignettes
** testing if installed package can be loaded
* DONE (ChemmineR)