Back to the "Multiple platform build/check report" | A B C D E F [G] H I J K L M N O P Q R S T U V W X Y Z |
Package 249/671 | Hostname | OS / Arch | BUILD | CHECK | BUILD BIN | ||||
GENE.E 1.1.0 Joshua Gould
| george2 | Linux (Ubuntu 12.04.1 LTS) / x86_64 | OK | OK | |||||
moscato2 | Windows Server 2008 R2 Enterprise SP1 (64-bit) / x64 | OK | OK | OK | |||||
petty | Mac OS X Snow Leopard (10.6.8) / x86_64 | OK | OK | OK | |||||
pelham | Mac OS X Snow Leopard (10.6.8) / x86_64 | OK | ERROR | [ OK ] |
Package: GENE.E |
Version: 1.1.0 |
Command: rm -rf GENE.E.buildbin-libdir && mkdir GENE.E.buildbin-libdir && /Library/Frameworks/R.framework/Versions/Current/Resources/bin/R CMD INSTALL --build --no-multiarch --library=GENE.E.buildbin-libdir GENE.E_1.1.0.tar.gz |
StartedAt: 2013-04-11 14:24:11 -0700 (Thu, 11 Apr 2013) |
EndedAt: 2013-04-11 14:24:15 -0700 (Thu, 11 Apr 2013) |
EllapsedTime: 3.9 seconds |
RetCode: 0 |
Status: OK |
PackageFile: GENE.E_1.1.0.tgz |
PackageFileSize: 12.43 KiB |
* installing *source* package 'GENE.E' ... ** R ** inst ** preparing package for lazy loading ** help *** installing help indices ** building package indices ** installing vignettes ** testing if installed package can be loaded packaged installation of 'GENE.E' as 'GENE.E_1.1.0.tgz' * DONE (GENE.E)