GeneGroupAnalysis 1.6.0 Alejandro Quiroz-Zarate
Snapshot Date: 2013-10-08 17:00:48 -0700 (Tue, 08 Oct 2013) | URL: https://hedgehog.fhcrc.org/bioconductor/branches/RELEASE_2_12/madman/Rpacks/GeneGroupAnalysis | Last Changed Rev: 75263 / Revision: 81334 | Last Changed Date: 2013-04-03 14:32:27 -0700 (Wed, 03 Apr 2013) |
| george2 | Linux (Ubuntu 12.04.1 LTS) / x86_64 | OK | OK | |
moscato2 | Windows Server 2008 R2 Enterprise SP1 (64-bit) / x64 | OK | OK | [ OK ] |
petty | Mac OS X Snow Leopard (10.6.8) / x86_64 | OK | OK | OK |
install for i386
* installing *source* package 'GeneGroupAnalysis' ...
** libs
gcc -m32 -I"E:/biocbld/BBS-2˜1.12-/R/include" -DNDEBUG -I"d:/RCompile/CRANpkg/extralibs64/local/include" -O3 -Wall -std=gnu99 -mtune=core2 -c ConditionalsAll.c -o ConditionalsAll.o
In file included from Densidades.h:8:0,
from InvWishart.h:8,
from ConditionalsAll.c:8:
OpMat.h:20:2: warning: "/*" within comment [-Wcomment]
OpMat.h:40:2: warning: "/*" within comment [-Wcomment]
OpMat.h:58:2: warning: "/*" within comment [-Wcomment]
OpMat.h:76:2: warning: "/*" within comment [-Wcomment]
OpMat.h:95:2: warning: "/*" within comment [-Wcomment]
OpMat.h:119:2: warning: "/*" within comment [-Wcomment]
OpMat.h:153:2: warning: "/*" within comment [-Wcomment]
OpMat.h:197:2: warning: "/*" within comment [-Wcomment]
ConditionalsAll.c: In function 'conditionalSg':
ConditionalsAll.c:42:3: warning: "/*" within comment [-Wcomment]
ConditionalsAll.c: In function 'conditionalBeta':
ConditionalsAll.c:193:3: warning: "/*" within comment [-Wcomment]
ConditionalsAll.c: In function 'conditionalNPAlfa0':
ConditionalsAll.c:342:3: warning: "/*" within comment [-Wcomment]
ConditionalsAll.c: In function 'conditionalNPAlfa':
ConditionalsAll.c:460:3: warning: "/*" within comment [-Wcomment]
ConditionalsAll.c: In function 'conditionalALLAlfa':
ConditionalsAll.c:646:3: warning: "/*" within comment [-Wcomment]
In file included from OpMat.h:8:0,
from Densidades.h:8,
from InvWishart.h:8,
from ConditionalsAll.c:8:
libMatInv.h: In function 'LUdcmp':
libMatInv.h:13:15: warning: 'imax' may be used uninitialized in this function [-Wuninitialized]
gcc -m32 -shared -s -static-libgcc -o GeneGroupAnalysis.dll tmp.def ConditionalsAll.o -Ld:/RCompile/CRANpkg/extralibs64/local/lib/i386 -Ld:/RCompile/CRANpkg/extralibs64/local/lib -LE:/biocbld/BBS-2˜1.12-/R/bin/i386 -lR
installing to E:/biocbld/bbs-2.12-bioc/meat/GeneGroupAnalysis.buildbin-libdir/GeneGroupAnalysis/libs/i386
** R
** data
** inst
** preparing package for lazy loading
** help
*** installing help indices
** building package indices
** installing vignettes
** testing if installed package can be loaded
install for x64
* installing *source* package 'GeneGroupAnalysis' ...
** libs
gcc -m64 -I"E:/biocbld/BBS-2˜1.12-/R/include" -DNDEBUG -I"d:/RCompile/CRANpkg/extralibs64/local/include" -O2 -Wall -std=gnu99 -mtune=core2 -c ConditionalsAll.c -o ConditionalsAll.o
In file included from Densidades.h:8:0,
from InvWishart.h:8,
from ConditionalsAll.c:8:
OpMat.h:20:2: warning: "/*" within comment [-Wcomment]
OpMat.h:40:2: warning: "/*" within comment [-Wcomment]
OpMat.h:58:2: warning: "/*" within comment [-Wcomment]
OpMat.h:76:2: warning: "/*" within comment [-Wcomment]
OpMat.h:95:2: warning: "/*" within comment [-Wcomment]
OpMat.h:119:2: warning: "/*" within comment [-Wcomment]
OpMat.h:153:2: warning: "/*" within comment [-Wcomment]
OpMat.h:197:2: warning: "/*" within comment [-Wcomment]
ConditionalsAll.c: In function 'conditionalSg':
ConditionalsAll.c:42:3: warning: "/*" within comment [-Wcomment]
ConditionalsAll.c: In function 'conditionalBeta':
ConditionalsAll.c:193:3: warning: "/*" within comment [-Wcomment]
ConditionalsAll.c: In function 'conditionalNPAlfa0':
ConditionalsAll.c:342:3: warning: "/*" within comment [-Wcomment]
ConditionalsAll.c: In function 'conditionalNPAlfa':
ConditionalsAll.c:460:3: warning: "/*" within comment [-Wcomment]
ConditionalsAll.c: In function 'conditionalALLAlfa':
ConditionalsAll.c:646:3: warning: "/*" within comment [-Wcomment]
In file included from OpMat.h:8:0,
from Densidades.h:8,
from InvWishart.h:8,
from ConditionalsAll.c:8:
libMatInv.h: In function 'LUdcmp':
libMatInv.h:13:15: warning: 'imax' may be used uninitialized in this function [-Wuninitialized]
gcc -m64 -shared -s -static-libgcc -o GeneGroupAnalysis.dll tmp.def ConditionalsAll.o -Ld:/RCompile/CRANpkg/extralibs64/local/lib/x64 -Ld:/RCompile/CRANpkg/extralibs64/local/lib -LE:/biocbld/BBS-2˜1.12-/R/bin/x64 -lR
installing to E:/biocbld/bbs-2.12-bioc/meat/GeneGroupAnalysis.buildbin-libdir/GeneGroupAnalysis/libs/x64
** testing if installed package can be loaded
* MD5 sums
packaged installation of 'GeneGroupAnalysis' as GeneGroupAnalysis_1.6.0.zip
* DONE (GeneGroupAnalysis)