RCytoscape 1.10.0 Paul Shannon
Snapshot Date: 2013-10-07 17:00:49 -0700 (Mon, 07 Oct 2013) | URL: https://hedgehog.fhcrc.org/bioconductor/branches/RELEASE_2_12/madman/Rpacks/RCytoscape | Last Changed Rev: 75263 / Revision: 81259 | Last Changed Date: 2013-04-03 14:32:27 -0700 (Wed, 03 Apr 2013) |
| george2 | Linux (Ubuntu 12.04.1 LTS) / x86_64 | OK | OK | |
moscato2 | Windows Server 2008 R2 Enterprise SP1 (64-bit) / x64 | OK | OK | OK |
petty | Mac OS X Snow Leopard (10.6.8) / x86_64 | OK | OK | [ OK ] |
>>>>>>>
>>>>>>> INSTALLATION WITH 'R CMD INSTALL --preclean --no-multiarch --library=RCytoscape.buildbin-libdir RCytoscape_1.10.0.tar.gz'
>>>>>>>
* installing *source* package 'RCytoscape' ...
** R
** inst
** preparing package for lazy loading
Warning in .simpleDuplicateClass(def, prev) :
the specification for S3 class "AsIs" in package 'XMLRPC' seems equivalent to one from package 'BiocGenerics' and is not turning on duplicate class definitions for this class
** help
*** installing help indices
** building package indices
** installing vignettes
** testing if installed package can be loaded
Warning in .simpleDuplicateClass(def, prev) :
the specification for S3 class "AsIs" in package 'XMLRPC' seems equivalent to one from package 'BiocGenerics' and is not turning on duplicate class definitions for this class
* DONE (RCytoscape)