Rsubread 1.9.1 Wei Shi
Snapshot Date: 2013-01-15 17:01:14 -0800 (Tue, 15 Jan 2013) | URL: https://hedgehog.fhcrc.org/bioconductor/trunk/madman/Rpacks/Rsubread | Last Changed Rev: 70675 / Revision: 72575 | Last Changed Date: 2012-10-18 17:00:05 -0700 (Thu, 18 Oct 2012) |
| george2 | Linux (Ubuntu 12.04.1 LTS) / x86_64 | OK | WARNINGS | |
lamb2 | Linux (openSUSE 11.4) / x86_64 | [ OK ] | WARNINGS | |
moscato2 | Windows Server 2008 R2 Enterprise SP1 (64-bit) / x64 | N O T S U P P O R T E D |
petty | Mac OS X Leopard (10.5.8) / i386 | N O T S U P P O R T E D |
* checking for file ‘Rsubread/DESCRIPTION’ ... OK
* preparing ‘Rsubread’:
* checking DESCRIPTION meta-information ... OK
* cleaning src
* installing the package to re-build vignettes
* creating vignettes ... OK
* cleaning src
* checking for LF line-endings in source and make files
* checking for empty or unneeded directories
* building ‘Rsubread_1.9.1.tar.gz’