affxparser 1.31.2 Kasper Daniel Hansen
Snapshot Date: 2013-01-15 17:01:14 -0800 (Tue, 15 Jan 2013) | URL: https://hedgehog.fhcrc.org/bioconductor/trunk/madman/Rpacks/affxparser | Last Changed Rev: 72353 / Revision: 72575 | Last Changed Date: 2013-01-07 19:05:54 -0800 (Mon, 07 Jan 2013) |
| george2 | Linux (Ubuntu 12.04.1 LTS) / x86_64 | OK | WARNINGS | |
lamb2 | Linux (openSUSE 11.4) / x86_64 | [ OK ] | WARNINGS | |
moscato2 | Windows Server 2008 R2 Enterprise SP1 (64-bit) / x64 | OK | OK | OK |
petty | Mac OS X Leopard (10.5.8) / i386 | OK | WARNINGS | OK |
* checking for file ‘affxparser/DESCRIPTION’ ... OK
* preparing ‘affxparser’:
* checking DESCRIPTION meta-information ... OK
* cleaning src
* running ‘cleanup’
* checking for LF line-endings in source and make files
* checking for empty or unneeded directories
WARNING: directory ‘affxparser/tests/benchmarking’ is empty
* building ‘affxparser_1.31.2.tar.gz’
Warning in utils::tar(filepath, pkgname, compression = "gzip", compression_level = 9L, :
storing paths of more than 100 bytes is not portable:
‘affxparser/src/fusion_sdk/calvin_files/writers/src/CalvinCHPQuantificationDetectionFileBufferWriter.cpp’
Warning in utils::tar(filepath, pkgname, compression = "gzip", compression_level = 9L, :
storing paths of more than 100 bytes is not portable:
‘affxparser/src/fusion_sdk/calvin_files/writers/src/CalvinCHPQuantificationDetectionFileBufferWriter.h’