Back to the "Multiple platform build/check report" | [A] B C D E F G H I J K L M N O P Q R S T U V W X Y Z |
Package 42/631 | Hostname | OS / Arch | BUILD | CHECK | BUILD BIN | ||||
aroma.light 1.29.0 Henrik Bengtsson
| george2 | Linux (Ubuntu 12.04.1 LTS) / x86_64 | OK | OK | |||||
lamb2 | Linux (openSUSE 11.4) / x86_64 | [ OK ] | OK | ||||||
moscato2 | Windows Server 2008 R2 Enterprise SP1 (64-bit) / x64 | OK | OK | OK | |||||
petty | Mac OS X Leopard (10.5.8) / i386 | OK | WARNINGS | OK |
Package: aroma.light |
Version: 1.29.0 |
Command: /home/biocbuild/bbs-2.12-bioc/R/bin/R CMD build --keep-empty-dirs --no-resave-data aroma.light |
StartedAt: 2013-01-15 21:08:41 -0800 (Tue, 15 Jan 2013) |
EndedAt: 2013-01-15 21:08:43 -0800 (Tue, 15 Jan 2013) |
EllapsedTime: 2.0 seconds |
RetCode: 0 |
Status: OK |
PackageFile: aroma.light_1.29.0.tar.gz |
PackageFileSize: 380.5 KiB |
* checking for file ‘aroma.light/DESCRIPTION’ ... OK * preparing ‘aroma.light’: * checking DESCRIPTION meta-information ... OK * checking for LF line-endings in source and make files * checking for empty or unneeded directories * building ‘aroma.light_1.29.0.tar.gz’