beadarray 2.10.0 Mark Dunning
Snapshot Date: 2013-10-08 17:00:48 -0700 (Tue, 08 Oct 2013) | URL: https://hedgehog.fhcrc.org/bioconductor/branches/RELEASE_2_12/madman/Rpacks/beadarray | Last Changed Rev: 75263 / Revision: 81334 | Last Changed Date: 2013-04-03 14:32:27 -0700 (Wed, 03 Apr 2013) |
| george2 | Linux (Ubuntu 12.04.1 LTS) / x86_64 | OK | [ OK ] | |
moscato2 | Windows Server 2008 R2 Enterprise SP1 (64-bit) / x64 | OK | OK | OK |
petty | Mac OS X Snow Leopard (10.6.8) / x86_64 | OK | OK | OK |
* using log directory ‘/home/biocbuild/bbs-2.12-bioc/meat/beadarray.Rcheck’
* using R version 3.0.1 (2013-05-16)
* using platform: x86_64-unknown-linux-gnu (64-bit)
* using session charset: UTF-8
* using option ‘--no-vignettes’
* checking for file ‘beadarray/DESCRIPTION’ ... OK
* this is package ‘beadarray’ version ‘2.10.0’
* checking package namespace information ... OK
* checking package dependencies ... OK
* checking if this is a source package ... OK
* checking if there is a namespace ... OK
* checking for hidden files and directories ... OK
* checking for portable file names ... OK
* checking for sufficient/correct file permissions ... OK
* checking whether package ‘beadarray’ can be installed ... [23s/24s] OK
* checking installed package size ... NOTE
installed size is 5.7Mb
sub-directories of 1Mb or more:
data 2.5Mb
doc 2.6Mb
* checking package directory ... OK
* checking DESCRIPTION meta-information ... OK
* checking top-level files ... OK
* checking for left-over files ... OK
* checking index information ... OK
* checking package subdirectories ... OK
* checking R files for non-ASCII characters ... OK
* checking R files for syntax errors ... OK
* checking whether the package can be loaded ... OK
* checking whether the package can be loaded with stated dependencies ... OK
* checking whether the package can be unloaded cleanly ... OK
* checking whether the namespace can be loaded with stated dependencies ... OK
* checking whether the namespace can be unloaded cleanly ... OK
* checking for unstated dependencies in R code ... OK
* checking S3 generic/method consistency ... OK
* checking replacement functions ... OK
* checking foreign function calls ... NOTE
Foreign function call with ‘PACKAGE’ argument in a different package:
.Call("roundLocsFileValues", ..., PACKAGE = "BeadDataPackR")
See the chapter ‘System and foreign language interfaces’ of the
‘Writing R Extensions’ manual.
* checking R code for possible problems ... NOTE
expressionQCPipeline: warning in ggsave(im, file = fname.im, width = 4,
height = 1): partial argument match of 'file' to 'filename'
makeControlProfile: warning in packageDescription(annoPkg, field =
"Version"): partial argument match of 'field' to 'fields'
plotMAXY: warning in close.screen(all = TRUE): partial argument match
of 'all' to 'all.screens'
summarize: warning in packageDescription(annoPkg, field = "Version"):
partial argument match of 'field' to 'fields'
combinedControlPlot: no visible binding for global variable ‘Control’
combinedControlPlot: no visible binding for global variable ‘Negative’
combinedControlPlot: no visible binding for global variable ‘ID’
combinedControlPlot: no visible binding for global variable
‘Log2Intensity’
combinedControlPlot: no visible binding for global variable
‘ControlType’
combinedControlPlot: no visible binding for global variable ‘Masked’
getPlatformSigs: no visible global function definition for
‘lumiHumanIDMapping_dbconn’
getPlatformSigs: no visible global function definition for
‘lumiMouseIDMapping_dbconn’
getPlatformSigs: no visible global function definition for
‘lumiRatIDMapping_dbconn’
imageplot: no visible binding for global variable ‘Var1’
imageplot: no visible binding for global variable ‘Var2’
imageplot: no visible binding for global variable ‘value’
* checking Rd files ... OK
* checking Rd metadata ... OK
* checking Rd cross-references ... OK
* checking for missing documentation entries ... OK
* checking for code/documentation mismatches ... OK
* checking Rd \usage sections ... OK
* checking Rd contents ... OK
* checking for unstated dependencies in examples ... OK
* checking contents of ‘data’ directory ... OK
* checking data for non-ASCII characters ... OK
* checking data for ASCII and uncompressed saves ... OK
* checking line endings in C/C++/Fortran sources/headers ... OK
* checking line endings in Makefiles ... OK
* checking for portable use of $(BLAS_LIBS) and $(LAPACK_LIBS) ... OK
* checking compiled code ... OK
* checking installed files from ‘inst/doc’ ... OK
* checking examples ... [580s/591s] OK
Examples with CPU or elapsed time > 5s
user system elapsed
squeezedVarOutlierMethod 89.306 0.364 91.549
summarize 77.844 1.708 81.759
calculateOutlierStats 38.111 2.232 40.645
outlierplot 35.118 0.836 36.368
normaliseIllumina 31.762 0.176 32.666
calculateDetection 23.089 0.080 23.367
addFeatureData 22.561 0.384 23.590
poscontPlot 22.266 0.488 23.825
controlProbeDetection 19.681 0.344 20.741
quickSummary 19.121 0.776 20.294
makeQCTable 18.961 0.484 19.625
insertSectionData 19.185 0.136 19.352
identifyControlBeads 16.786 0.172 17.450
annotationInterface 15.473 0.760 16.569
combine 14.689 0.684 15.893
showArrayMask 12.865 1.376 14.327
imageplot 11.213 0.156 11.457
boxplot 8.589 0.092 8.681
plotBeadIntensities 6.833 0.440 7.279
transformationFunctions 6.053 0.464 6.529
plotMAXY 5.756 0.084 6.049
illuminaOutlierMethod 5.180 0.148 5.336
* checking for unstated dependencies in vignettes ... OK
* checking package vignettes in ‘inst/doc’ ... OK
* checking running R code from vignettes ... SKIPPED
* checking re-building of vignettes ... SKIPPED
* checking PDF version of manual ... OK
NOTE: There were 3 notes.
See
‘/home/biocbuild/bbs-2.12-bioc/meat/beadarray.Rcheck/00check.log’
for details.
* installing *source* package ‘beadarray’ ...
** libs
gcc -std=gnu99 -I/home/biocbuild/bbs-2.12-bioc/R/include -DNDEBUG -I/usr/local/include -fpic -g -O2 -Wall -c BASH.c -o BASH.o
gcc -std=gnu99 -I/home/biocbuild/bbs-2.12-bioc/R/include -DNDEBUG -I/usr/local/include -fpic -g -O2 -Wall -c HULK.c -o HULK.o
gcc -std=gnu99 -I/home/biocbuild/bbs-2.12-bioc/R/include -DNDEBUG -I/usr/local/include -fpic -g -O2 -Wall -c determiningGridPositions.c -o determiningGridPositions.o
gcc -std=gnu99 -I/home/biocbuild/bbs-2.12-bioc/R/include -DNDEBUG -I/usr/local/include -fpic -g -O2 -Wall -c findAllOutliers.c -o findAllOutliers.o
findAllOutliers.c: In function ‘findBeadStatus’:
findAllOutliers.c:196:29: warning: ‘ma’ may be used uninitialized in this function [-Wuninitialized]
findAllOutliers.c:196:53: warning: ‘m’ may be used uninitialized in this function [-Wuninitialized]
findAllOutliers.c: In function ‘findAllOutliers’:
findAllOutliers.c:247:13: warning: ‘status’ may be used uninitialized in this function [-Wuninitialized]
gcc -std=gnu99 -I/home/biocbuild/bbs-2.12-bioc/R/include -DNDEBUG -I/usr/local/include -fpic -g -O2 -Wall -c imageProcessing.c -o imageProcessing.o
imageProcessing.c: In function ‘illuminaBackground’:
imageProcessing.c:88:0: warning: ignoring #pragma omp parallel [-Wunknown-pragmas]
imageProcessing.c: In function ‘medianBackground’:
imageProcessing.c:135:0: warning: ignoring #pragma omp parallel [-Wunknown-pragmas]
imageProcessing.c: In function ‘illuminaSharpen’:
imageProcessing.c:244:0: warning: ignoring #pragma omp parallel [-Wunknown-pragmas]
imageProcessing.c:251:0: warning: ignoring #pragma omp parallel [-Wunknown-pragmas]
gcc -std=gnu99 -shared -L/usr/local/lib -o beadarray.so BASH.o HULK.o determiningGridPositions.o findAllOutliers.o imageProcessing.o -L/home/biocbuild/bbs-2.12-bioc/R/lib -lR
installing to /home/biocbuild/bbs-2.12-bioc/meat/beadarray.Rcheck/beadarray/libs
** R
** data
*** moving datasets to lazyload DB
** inst
** preparing package for lazy loading
** help
*** installing help indices
** building package indices
** installing vignettes
** testing if installed package can be loaded
* DONE (beadarray)