categoryCompare 1.3.0 Robert M. Flight
Snapshot Date: 2013-03-24 17:01:43 -0700 (Sun, 24 Mar 2013) | URL: https://hedgehog.fhcrc.org/bioconductor/trunk/madman/Rpacks/categoryCompare | Last Changed Rev: 70052 / Revision: 74774 | Last Changed Date: 2012-10-01 15:43:56 -0700 (Mon, 01 Oct 2012) |
| george2 | Linux (Ubuntu 12.04.1 LTS) / x86_64 | OK | OK | |
moscato2 | Windows Server 2008 R2 Enterprise SP1 (64-bit) / x64 | OK | OK | OK |
petty | Mac OS X Snow Leopard (10.6.8) / x86_64 | OK | OK | OK |
pelham | Mac OS X Snow Leopard (10.6.8) / x86_64 | OK | OK | [ OK ] |
* installing *source* package 'categoryCompare' ...
** R
** data
** inst
** preparing package for lazy loading
Warning in .simpleDuplicateClass(def, prev) :
the specification for S3 class "AsIs" in package 'XMLRPC' seems equivalent to one from package 'BiocGenerics' and is not turning on duplicate class definitions for this class
** help
*** installing help indices
** building package indices
** installing vignettes
'categoryCompare_vignette.Rnw'
** testing if installed package can be loaded
Warning in .simpleDuplicateClass(def, prev) :
the specification for S3 class "AsIs" in package 'XMLRPC' seems equivalent to one from package 'BiocGenerics' and is not turning on duplicate class definitions for this class
packaged installation of 'categoryCompare' as 'categoryCompare_1.3.0.tgz'
* DONE (categoryCompare)