cosmo 1.25.1 Oliver Bembom
Snapshot Date: 2013-03-18 17:01:46 -0700 (Mon, 18 Mar 2013) | URL: https://hedgehog.fhcrc.org/bioconductor/trunk/madman/Rpacks/cosmo | Last Changed Rev: 70686 / Revision: 74537 | Last Changed Date: 2012-10-19 12:17:05 -0700 (Fri, 19 Oct 2012) |
| george2 | Linux (Ubuntu 12.04.1 LTS) / x86_64 | ERROR | skipped | |
moscato2 | Windows Server 2008 R2 Enterprise SP1 (64-bit) / x64 | [ ERROR ] | skipped | skipped |
petty | Mac OS X Leopard (10.5.8) / i386 | ERROR | skipped | skipped |
* checking for file 'cosmo/DESCRIPTION' ... OK
* preparing 'cosmo':
* checking DESCRIPTION meta-information ... OK
* cleaning src
* installing the package to re-build vignettes
-----------------------------------
* installing *source* package 'cosmo' ...
** libs
gcc -m32 -I"E:/biocbld/BBS-2˜1.12-/R/include" -DNDEBUG -IINCLUDE -I"d:/RCompile/CRANpkg/extralibs64/local/include" -O3 -Wall -std=gnu99 -mtune=core2 -c alloc.c -o alloc.o
In file included from alloc.c:66:0:
INCLUDE/cosmo.h:57:30: error: 'Rf_eval' redeclared as different kind of symbol
E:/biocbld/BBS-2˜1.12-/R/include/Rinternals.h:664:6: note: previous declaration of 'Rf_eval' was here
make: *** [alloc.o] Error 1
ERROR: compilation failed for package 'cosmo'
* removing 'E:/biocbld/bbs-2.12-bioc/tmpdir/Rtmp2DixAS/Rinst13841ddc61fb/cosmo'
-----------------------------------
ERROR: package installation failed