gCMAP 1.1.0 Thomas Sandmann
Snapshot Date: 2012-10-14 17:01:51 -0700 (Sun, 14 Oct 2012) | URL: https://hedgehog.fhcrc.org/bioconductor/trunk/madman/Rpacks/gCMAP | Last Changed Rev: 70052 / Revision: 70534 | Last Changed Date: 2012-10-01 15:43:56 -0700 (Mon, 01 Oct 2012) |
| lamb2 | Linux (openSUSE 11.4) / x86_64 | OK | OK | |
moscato2 | Windows Server 2008 R2 Enterprise SP1 (64-bit) / x64 | [ ERROR ] | skipped | skipped |
petty | Mac OS X Leopard (10.5.8) / i386 | OK | OK | OK |
* checking for file 'gCMAP/DESCRIPTION' ... OK
* preparing 'gCMAP':
* checking DESCRIPTION meta-information ... OK
* installing the package to re-build vignettes
-----------------------------------
ERROR: Unix-only package
* removing 'E:/biocbld/bbs-2.12-bioc/tmpdir/RtmpaSAZgu/Rinstb98729b2f90/gCMAP'
-----------------------------------
ERROR: package installation failed