girafe 1.12.0 J. Toedling
Snapshot Date: 2013-04-30 17:01:37 -0700 (Tue, 30 Apr 2013) | URL: https://hedgehog.fhcrc.org/bioconductor/branches/RELEASE_2_12/madman/Rpacks/girafe | Last Changed Rev: 75263 / Revision: 76155 | Last Changed Date: 2013-04-03 14:32:27 -0700 (Wed, 03 Apr 2013) |
| george2 | Linux (Ubuntu 12.04.1 LTS) / x86_64 | OK | OK | |
moscato2 | Windows Server 2008 R2 Enterprise SP1 (64-bit) / x64 | OK | OK | OK |
petty | Mac OS X Snow Leopard (10.6.8) / x86_64 | OK | OK | OK |
pelham | Mac OS X Snow Leopard (10.6.8) / x86_64 | OK | OK | [ OK ] |
>>>>>>>
>>>>>>> INSTALLATION WITH 'R CMD INSTALL --preclean --no-multiarch --library=girafe.buildbin-libdir girafe_1.12.0.tar.gz'
>>>>>>>
* installing *source* package 'girafe' ...
** libs
clang++ -I/Library/Frameworks/R.framework/Resources/include -DNDEBUG -I/usr/local/include -fPIC -mtune=native -g -O2 -Wall -pedantic -Wconversion -c coverage.cpp -o coverage.o
coverage.cpp:2:17: warning: using directive refers to implicitly-defined namespace 'std'
using namespace std;
^
coverage.cpp:55:12: warning: variable length arrays are a C99 feature [-Wvla]
int xx [maxlen];
^
coverage.cpp:56:12: warning: variable length arrays are a C99 feature [-Wvla]
int yy [maxlen];
^
3 warnings generated.
clang -I/Library/Frameworks/R.framework/Resources/include -DNDEBUG -I/usr/local/include -fPIC -mtune=native -g -O2 -Wall -pedantic -Wconversion -c girafe_init.c -o girafe_init.o
clang++ -dynamiclib -Wl,-headerpad_max_install_names -undefined dynamic_lookup -single_module -multiply_defined suppress -L/usr/local/lib -L/usr/local/lib -o girafe.so coverage.o girafe_init.o -F/Library/Frameworks/R.framework/.. -framework R -Wl,-framework -Wl,CoreFoundation
installing to /Users/biocbuild/bbs-2.12-bioc/meat/girafe.buildbin-libdir/girafe/libs
** R
** inst
** preparing package for lazy loading
Warning: replacing previous import 'coerce' when loading 'intervals'
Warning: replacing previous import 'initialize' when loading 'intervals'
Creating a generic function for 'hist' from package 'graphics' in package 'girafe'
Creating a generic function for 'sample' from package 'base' in package 'girafe'
** help
*** installing help indices
** building package indices
** installing vignettes
** testing if installed package can be loaded
Warning: replacing previous import 'coerce' when loading 'intervals'
Warning: replacing previous import 'initialize' when loading 'intervals'
* DONE (girafe)
>>>>>>>
>>>>>>> FIXING LINKS FOR girafe.buildbin-libdir/girafe/libs//girafe.so
>>>>>>>
install_name_tool -change "/usr/local/lib/libgcc_s.1.dylib" "/Library/Frameworks/R.framework/Versions/3.0/Resources/lib/libgcc_s.1.dylib" "girafe.buildbin-libdir/girafe/libs//girafe.so"
install_name_tool -change "/usr/local/lib/libgfortran.2.dylib" "/Library/Frameworks/R.framework/Versions/3.0/Resources/lib/libgfortran.2.dylib" "girafe.buildbin-libdir/girafe/libs//girafe.so"
install_name_tool -change "/usr/local/lib/libreadline.5.2.dylib" "/Library/Frameworks/R.framework/Versions/3.0/Resources/lib/libreadline.5.2.dylib" "girafe.buildbin-libdir/girafe/libs//girafe.so"
install_name_tool -change "/usr/local/lib/libreadline.dylib" "/Library/Frameworks/R.framework/Versions/3.0/Resources/lib/libreadline.dylib" "girafe.buildbin-libdir/girafe/libs//girafe.so"