gwascat 1.4.0 VJ Carey
Snapshot Date: 2013-10-01 17:00:45 -0700 (Tue, 01 Oct 2013) | URL: https://hedgehog.fhcrc.org/bioconductor/branches/RELEASE_2_12/madman/Rpacks/gwascat | Last Changed Rev: 75263 / Revision: 81032 | Last Changed Date: 2013-04-03 14:32:27 -0700 (Wed, 03 Apr 2013) |
| george2 | Linux (Ubuntu 12.04.1 LTS) / x86_64 | OK | OK | |
moscato2 | Windows Server 2008 R2 Enterprise SP1 (64-bit) / x64 | OK | OK | [ OK ] |
petty | Mac OS X Snow Leopard (10.6.8) / x86_64 | OK | OK | OK |
install for i386
* installing *source* package 'gwascat' ...
** R
** data
** inst
** preparing package for lazy loading
** help
*** installing help indices
** building package indices
** installing vignettes
** testing if installed package can be loaded
NOTE: input data had non-ASCII characters replaced by '*'.
install for x64
* installing *source* package 'gwascat' ...
** testing if installed package can be loaded
NOTE: input data had non-ASCII characters replaced by '*'.
* MD5 sums
packaged installation of 'gwascat' as gwascat_1.4.0.zip
* DONE (gwascat)