inSilicoMerging 1.4.1 Jonatan Taminau , Stijn Meganck
Snapshot Date: 2013-10-08 17:00:48 -0700 (Tue, 08 Oct 2013) | URL: https://hedgehog.fhcrc.org/bioconductor/branches/RELEASE_2_12/madman/Rpacks/inSilicoMerging | Last Changed Rev: 79307 / Revision: 81334 | Last Changed Date: 2013-08-07 12:16:53 -0700 (Wed, 07 Aug 2013) |
| george2 | Linux (Ubuntu 12.04.1 LTS) / x86_64 | OK | OK | |
moscato2 | Windows Server 2008 R2 Enterprise SP1 (64-bit) / x64 | OK | OK | [ OK ] |
petty | Mac OS X Snow Leopard (10.6.8) / x86_64 | OK | OK | OK |
install for i386
* installing *source* package 'inSilicoMerging' ...
** R
** inst
** preparing package for lazy loading
** help
*** installing help indices
** building package indices
** installing vignettes
** testing if installed package can be loaded
install for x64
* installing *source* package 'inSilicoMerging' ...
** testing if installed package can be loaded
* MD5 sums
packaged installation of 'inSilicoMerging' as inSilicoMerging_1.4.1.zip
* DONE (inSilicoMerging)