metaArray 1.38.0 Hyungwon Choi
Snapshot Date: 2013-10-08 17:00:48 -0700 (Tue, 08 Oct 2013) | URL: https://hedgehog.fhcrc.org/bioconductor/branches/RELEASE_2_12/madman/Rpacks/metaArray | Last Changed Rev: 75263 / Revision: 81334 | Last Changed Date: 2013-04-03 14:32:27 -0700 (Wed, 03 Apr 2013) |
| george2 | Linux (Ubuntu 12.04.1 LTS) / x86_64 | OK | OK | |
moscato2 | Windows Server 2008 R2 Enterprise SP1 (64-bit) / x64 | OK | OK | [ OK ] |
petty | Mac OS X Snow Leopard (10.6.8) / x86_64 | OK | OK | OK |
install for i386
* installing *source* package 'metaArray' ...
** libs
gcc -m32 -I"E:/biocbld/BBS-2˜1.12-/R/include" -DNDEBUG -I"d:/RCompile/CRANpkg/extralibs64/local/include" -DUSEDOUBLE -DWINDOWS -O3 -Wall -std=gnu99 -mtune=core2 -c contr.c -o contr.o
gcc -m32 -I"E:/biocbld/BBS-2˜1.12-/R/include" -DNDEBUG -I"d:/RCompile/CRANpkg/extralibs64/local/include" -DUSEDOUBLE -DWINDOWS -O3 -Wall -std=gnu99 -mtune=core2 -c dproc.c -o dproc.o
dproc.c: In function 'malloc_CH':
dproc.c:111:21: warning: variable 'num' set but not used [-Wunused-but-set-variable]
dproc.c: In function 'free_CH':
dproc.c:192:16: warning: unused variable 'nc' [-Wunused-variable]
dproc.c:192:12: warning: variable 'nr' set but not used [-Wunused-but-set-variable]
dproc.c:192:7: warning: variable 'num' set but not used [-Wunused-but-set-variable]
gcc -m32 -I"E:/biocbld/BBS-2˜1.12-/R/include" -DNDEBUG -I"d:/RCompile/CRANpkg/extralibs64/local/include" -DUSEDOUBLE -DWINDOWS -O3 -Wall -std=gnu99 -mtune=core2 -c dproc2.c -o dproc2.o
gcc -m32 -I"E:/biocbld/BBS-2˜1.12-/R/include" -DNDEBUG -I"d:/RCompile/CRANpkg/extralibs64/local/include" -DUSEDOUBLE -DWINDOWS -O3 -Wall -std=gnu99 -mtune=core2 -c intcor.c -o intcor.o
gcc -m32 -I"E:/biocbld/BBS-2˜1.12-/R/include" -DNDEBUG -I"d:/RCompile/CRANpkg/extralibs64/local/include" -DUSEDOUBLE -DWINDOWS -O3 -Wall -std=gnu99 -mtune=core2 -c lowess.c -o lowess.o
gcc -m32 -I"E:/biocbld/BBS-2˜1.12-/R/include" -DNDEBUG -I"d:/RCompile/CRANpkg/extralibs64/local/include" -DUSEDOUBLE -DWINDOWS -O3 -Wall -std=gnu99 -mtune=core2 -c mmath.c -o mmath.o
gcc -m32 -I"E:/biocbld/BBS-2˜1.12-/R/include" -DNDEBUG -I"d:/RCompile/CRANpkg/extralibs64/local/include" -DUSEDOUBLE -DWINDOWS -O3 -Wall -std=gnu99 -mtune=core2 -c perm.c -o perm.o
gcc -m32 -I"E:/biocbld/BBS-2˜1.12-/R/include" -DNDEBUG -I"d:/RCompile/CRANpkg/extralibs64/local/include" -DUSEDOUBLE -DWINDOWS -O3 -Wall -std=gnu99 -mtune=core2 -c poe.c -o poe.o
poe.c: In function 'poe_one_iter':
poe.c:131:53: warning: variable 'shift' set but not used [-Wunused-but-set-variable]
poe.c:120:20: warning: variable 'accept' set but not used [-Wunused-but-set-variable]
gcc -m32 -shared -s -static-libgcc -o metaArray.dll tmp.def contr.o dproc.o dproc2.o intcor.o lowess.o mmath.o perm.o poe.o -lm -Ld:/RCompile/CRANpkg/extralibs64/local/lib/i386 -Ld:/RCompile/CRANpkg/extralibs64/local/lib -LE:/biocbld/BBS-2˜1.12-/R/bin/i386 -lR
installing to E:/biocbld/bbs-2.12-bioc/meat/metaArray.buildbin-libdir/metaArray/libs/i386
** R
** data
** inst
** preparing package for lazy loading
** help
*** installing help indices
** building package indices
** installing vignettes
** testing if installed package can be loaded
install for x64
* installing *source* package 'metaArray' ...
** libs
gcc -m64 -I"E:/biocbld/BBS-2˜1.12-/R/include" -DNDEBUG -I"d:/RCompile/CRANpkg/extralibs64/local/include" -DUSEDOUBLE -DWINDOWS -O2 -Wall -std=gnu99 -mtune=core2 -c contr.c -o contr.o
gcc -m64 -I"E:/biocbld/BBS-2˜1.12-/R/include" -DNDEBUG -I"d:/RCompile/CRANpkg/extralibs64/local/include" -DUSEDOUBLE -DWINDOWS -O2 -Wall -std=gnu99 -mtune=core2 -c dproc.c -o dproc.o
dproc.c: In function 'malloc_CH':
dproc.c:111:21: warning: variable 'num' set but not used [-Wunused-but-set-variable]
dproc.c: In function 'free_CH':
dproc.c:192:16: warning: unused variable 'nc' [-Wunused-variable]
dproc.c:192:12: warning: variable 'nr' set but not used [-Wunused-but-set-variable]
dproc.c:192:7: warning: variable 'num' set but not used [-Wunused-but-set-variable]
gcc -m64 -I"E:/biocbld/BBS-2˜1.12-/R/include" -DNDEBUG -I"d:/RCompile/CRANpkg/extralibs64/local/include" -DUSEDOUBLE -DWINDOWS -O2 -Wall -std=gnu99 -mtune=core2 -c dproc2.c -o dproc2.o
gcc -m64 -I"E:/biocbld/BBS-2˜1.12-/R/include" -DNDEBUG -I"d:/RCompile/CRANpkg/extralibs64/local/include" -DUSEDOUBLE -DWINDOWS -O2 -Wall -std=gnu99 -mtune=core2 -c intcor.c -o intcor.o
gcc -m64 -I"E:/biocbld/BBS-2˜1.12-/R/include" -DNDEBUG -I"d:/RCompile/CRANpkg/extralibs64/local/include" -DUSEDOUBLE -DWINDOWS -O2 -Wall -std=gnu99 -mtune=core2 -c lowess.c -o lowess.o
gcc -m64 -I"E:/biocbld/BBS-2˜1.12-/R/include" -DNDEBUG -I"d:/RCompile/CRANpkg/extralibs64/local/include" -DUSEDOUBLE -DWINDOWS -O2 -Wall -std=gnu99 -mtune=core2 -c mmath.c -o mmath.o
gcc -m64 -I"E:/biocbld/BBS-2˜1.12-/R/include" -DNDEBUG -I"d:/RCompile/CRANpkg/extralibs64/local/include" -DUSEDOUBLE -DWINDOWS -O2 -Wall -std=gnu99 -mtune=core2 -c perm.c -o perm.o
gcc -m64 -I"E:/biocbld/BBS-2˜1.12-/R/include" -DNDEBUG -I"d:/RCompile/CRANpkg/extralibs64/local/include" -DUSEDOUBLE -DWINDOWS -O2 -Wall -std=gnu99 -mtune=core2 -c poe.c -o poe.o
poe.c: In function 'poe_one_iter':
poe.c:131:53: warning: variable 'shift' set but not used [-Wunused-but-set-variable]
poe.c:120:20: warning: variable 'accept' set but not used [-Wunused-but-set-variable]
gcc -m64 -shared -s -static-libgcc -o metaArray.dll tmp.def contr.o dproc.o dproc2.o intcor.o lowess.o mmath.o perm.o poe.o -lm -Ld:/RCompile/CRANpkg/extralibs64/local/lib/x64 -Ld:/RCompile/CRANpkg/extralibs64/local/lib -LE:/biocbld/BBS-2˜1.12-/R/bin/x64 -lR
installing to E:/biocbld/bbs-2.12-bioc/meat/metaArray.buildbin-libdir/metaArray/libs/x64
** testing if installed package can be loaded
* MD5 sums
packaged installation of 'metaArray' as metaArray_1.38.0.zip
* DONE (metaArray)