phyloseq 1.4.5 Paul J. McMurdie
Snapshot Date: 2013-10-08 17:00:48 -0700 (Tue, 08 Oct 2013) | URL: https://hedgehog.fhcrc.org/bioconductor/branches/RELEASE_2_12/madman/Rpacks/phyloseq | Last Changed Rev: 80531 / Revision: 81334 | Last Changed Date: 2013-09-17 16:32:32 -0700 (Tue, 17 Sep 2013) |
| george2 | Linux (Ubuntu 12.04.1 LTS) / x86_64 | OK | [ OK ] | |
moscato2 | Windows Server 2008 R2 Enterprise SP1 (64-bit) / x64 | OK | WARNINGS | OK |
petty | Mac OS X Snow Leopard (10.6.8) / x86_64 | OK | OK | OK |
* using log directory ‘/home/biocbuild/bbs-2.12-bioc/meat/phyloseq.Rcheck’
* using R version 3.0.1 (2013-05-16)
* using platform: x86_64-unknown-linux-gnu (64-bit)
* using session charset: UTF-8
* using option ‘--no-vignettes’
* checking for file ‘phyloseq/DESCRIPTION’ ... OK
* this is package ‘phyloseq’ version ‘1.4.5’
* checking package namespace information ... OK
* checking package dependencies ... OK
* checking if this is a source package ... OK
* checking if there is a namespace ... OK
* checking for hidden files and directories ... OK
* checking for portable file names ... OK
* checking for sufficient/correct file permissions ... OK
* checking whether package ‘phyloseq’ can be installed ... [30s/33s] OK
* checking installed package size ... OK
* checking package directory ... OK
* checking DESCRIPTION meta-information ... OK
* checking top-level files ... OK
* checking for left-over files ... OK
* checking index information ... OK
* checking package subdirectories ... OK
* checking R files for non-ASCII characters ... OK
* checking R files for syntax errors ... OK
* checking whether the package can be loaded ... OK
* checking whether the package can be loaded with stated dependencies ... OK
* checking whether the package can be unloaded cleanly ... OK
* checking whether the namespace can be loaded with stated dependencies ... OK
* checking whether the namespace can be unloaded cleanly ... OK
* checking for unstated dependencies in R code ... OK
* checking S3 generic/method consistency ... OK
* checking replacement functions ... OK
* checking foreign function calls ... OK
* checking R code for possible problems ... NOTE
JSD: no visible binding for global variable ‘i’
fastUniFrac: no visible binding for global variable ‘i’
import_qiime_otu_tax: no visible binding for global variable ‘i’
nodeplotboot : <anonymous>: no visible binding for global variable ‘x’
nodeplotboot : <anonymous>: no visible binding for global variable ‘y’
nodeplotdefault : <anonymous>: no visible binding for global variable
‘x’
nodeplotdefault : <anonymous>: no visible binding for global variable
‘y’
nodeplotdefault : <anonymous>: no visible binding for global variable
‘label’
originalUniFrac: no visible binding for global variable ‘i’
otu2df : trimdf: no visible binding for global variable ‘TaxaGroup’
otu2df : trimdf: no visible binding for global variable ‘Abundance’
plot_heatmap: no visible binding for global variable ‘x’
plot_heatmap: no visible binding for global variable ‘y’
plot_heatmap: no visible binding for global variable ‘value’
plot_network: no visible binding for global variable ‘x’
plot_network: no visible binding for global variable ‘y’
plot_richness: no visible binding for global variable ‘variable’
plot_richness: no visible binding for global variable ‘value’
plot_richness: no visible binding for global variable ‘se’
plot_richness_estimates: no visible binding for global variable
‘variable’
plot_richness_estimates: no visible binding for global variable ‘value’
plot_richness_estimates: no visible binding for global variable ‘se’
plot_scree: no visible binding for global variable ‘eigenvalue’
plot_taxa_bar: no visible binding for global variable ‘Abundance’
plot_tree_only: no visible binding for global variable ‘x’
plot_tree_only: no visible binding for global variable ‘y’
plot_tree_only: no visible binding for global variable ‘xend’
plot_tree_only: no visible binding for global variable ‘yend’
plot_tree_sampledodge: no visible binding for global variable ‘value’
plot_tree_sampledodge: no visible binding for global variable ‘x’
plot_tree_sampledodge: no visible binding for global variable ‘x.adj’
plot_tree_sampledodge: no visible binding for global variable ‘y’
plot_tree_sampledodge: no visible binding for global variable
‘tipLabels’
taxaplot: no visible binding for global variable ‘Abundance’
merge_phyloseq_pair,sample_data-sample_data : <anonymous>: no visible
binding for global variable ‘X0’
plot_phyloseq,phyloseq: no visible binding for global variable
‘esophagus’
* checking Rd files ... OK
* checking Rd metadata ... OK
* checking Rd cross-references ... OK
* checking for missing documentation entries ... OK
* checking for code/documentation mismatches ... OK
* checking Rd \usage sections ... OK
* checking Rd contents ... OK
* checking for unstated dependencies in examples ... OK
* checking contents of ‘data’ directory ... OK
* checking data for non-ASCII characters ... OK
* checking data for ASCII and uncompressed saves ... OK
* checking installed files from ‘inst/doc’ ... OK
* checking examples ... [265s/267s] OK
Examples with CPU or elapsed time > 5s
user system elapsed
plot_scree 48.691 0.120 49.315
plot_ordination 28.438 0.112 28.618
plot_tree 26.566 0.024 26.728
data-soilrep 18.413 0.180 18.984
data-GlobalPatterns 16.905 0.120 17.097
plot_richness 13.885 0.072 14.161
nodeplotblank 10.545 0.004 10.555
merge_samples-methods 9.385 0.056 9.443
data-enterotype 7.481 0.060 7.546
make_network 6.936 0.008 6.947
rarefy_even_depth 6.244 0.020 6.312
plot_phyloseq-methods 6.120 0.000 6.142
plot_bar 5.552 0.052 5.603
threshrank 4.397 0.908 5.428
plot_network 5.256 0.028 5.296
* checking for unstated dependencies in tests ... OK
* checking tests ...
Running ‘testthat-phyloseq.R’ [74s/75s]
[74s/75s] OK
* checking for unstated dependencies in vignettes ... OK
* checking package vignettes in ‘inst/doc’ ... OK
* checking running R code from vignettes ... SKIPPED
* checking re-building of vignettes ... SKIPPED
* checking PDF version of manual ... OK
NOTE: There was 1 note.
See
‘/home/biocbuild/bbs-2.12-bioc/meat/phyloseq.Rcheck/00check.log’
for details.
* installing *source* package ‘phyloseq’ ...
** R
** data
** inst
** preparing package for lazy loading
Warning in .simpleDuplicateClass(def, prev) :
the specification for S3 class “AsIs” in package ‘RJSONIO’ seems equivalent to one from package ‘BiocGenerics’ and is not turning on duplicate class definitions for this class
** help
*** installing help indices
** building package indices
** installing vignettes
** testing if installed package can be loaded
Warning in .simpleDuplicateClass(def, prev) :
the specification for S3 class “AsIs” in package ‘RJSONIO’ seems equivalent to one from package ‘BiocGenerics’ and is not turning on duplicate class definitions for this class
* DONE (phyloseq)