stepwiseCM 1.6.0 Askar Obulkasim
Snapshot Date: 2013-10-08 17:00:48 -0700 (Tue, 08 Oct 2013) | URL: https://hedgehog.fhcrc.org/bioconductor/branches/RELEASE_2_12/madman/Rpacks/stepwiseCM | Last Changed Rev: 75263 / Revision: 81334 | Last Changed Date: 2013-04-03 14:32:27 -0700 (Wed, 03 Apr 2013) |
| george2 | Linux (Ubuntu 12.04.1 LTS) / x86_64 | OK | OK | |
moscato2 | Windows Server 2008 R2 Enterprise SP1 (64-bit) / x64 | OK | [ OK ] | OK |
petty | Mac OS X Snow Leopard (10.6.8) / x86_64 | OK | OK | OK |
* using log directory 'E:/biocbld/bbs-2.12-bioc/meat/stepwiseCM.Rcheck'
* using R version 3.0.1 (2013-05-16)
* using platform: i386-w64-mingw32 (32-bit)
* using session charset: ISO8859-1
* using option '--no-vignettes'
* checking for file 'stepwiseCM/DESCRIPTION' ... OK
* checking extension type ... Package
* this is package 'stepwiseCM' version '1.6.0'
* checking package namespace information ... OK
* checking package dependencies ... OK
* checking if this is a source package ... OK
* checking if there is a namespace ... OK
* checking for hidden files and directories ... OK
* checking for portable file names ... OK
* checking whether package 'stepwiseCM' can be installed ... OK
* checking installed package size ... OK
* checking package directory ... OK
* checking DESCRIPTION meta-information ... NOTE
Non-standard license specification:
GPL (http://www.gnu.org/copyleft/gpl.html)
Standardizable: TRUE
Standardized license specification:
GPL
* checking top-level files ... OK
* checking for left-over files ... OK
* checking index information ... OK
* checking package subdirectories ... OK
* checking R files for non-ASCII characters ... OK
* checking R files for syntax errors ... OK
* loading checks for arch 'i386'
** checking whether the package can be loaded ... OK
** checking whether the package can be loaded with stated dependencies ... OK
** checking whether the package can be unloaded cleanly ... OK
** checking whether the namespace can be loaded with stated dependencies ... OK
** checking whether the namespace can be unloaded cleanly ... OK
* loading checks for arch 'x64'
** checking whether the package can be loaded ... OK
** checking whether the package can be loaded with stated dependencies ... OK
** checking whether the package can be unloaded cleanly ... OK
** checking whether the namespace can be loaded with stated dependencies ... OK
** checking whether the namespace can be unloaded cleanly ... OK
* checking for unstated dependencies in R code ... OK
* checking S3 generic/method consistency ... OK
* checking replacement functions ... OK
* checking foreign function calls ... OK
* checking R code for possible problems ... NOTE
Classifier.par: no visible binding for global variable 'stepwiseCM'
Proximity: no visible binding for global variable 'Stepwise'
* checking Rd files ... OK
* checking Rd metadata ... OK
* checking Rd cross-references ... OK
* checking for missing documentation entries ... OK
* checking for code/documentation mismatches ... OK
* checking Rd \usage sections ... OK
* checking Rd contents ... OK
* checking for unstated dependencies in examples ... OK
* checking contents of 'data' directory ... OK
* checking data for non-ASCII characters ... OK
* checking data for ASCII and uncompressed saves ... OK
* checking installed files from 'inst/doc' ... OK
* checking examples ...
** running examples for arch 'i386' ... [179s] OK
Examples with CPU or elapsed time > 5s
user system elapsed
stepwiseCM-package 36.30 0.25 36.55
Curve.generator 35.18 0.43 35.62
Step.pred 35.21 0.04 35.25
RS.generator 30.93 0.08 31.03
Proximity 21.85 0.02 21.87
Classifier 14.22 0.09 14.31
** running examples for arch 'x64' ... [198s] OK
Examples with CPU or elapsed time > 5s
user system elapsed
Curve.generator 38.94 0.57 39.52
RS.generator 36.19 0.02 36.21
Step.pred 35.60 0.05 35.64
stepwiseCM-package 32.87 0.28 33.17
Classifier 25.39 0.11 25.52
Proximity 22.51 0.03 22.54
* checking for unstated dependencies in vignettes ... OK
* checking package vignettes in 'inst/doc' ... OK
* checking running R code from vignettes ... SKIPPED
* checking re-building of vignettes ... SKIPPED
* checking PDF version of manual ... OK
NOTE: There were 2 notes.
See
'E:/biocbld/bbs-2.12-bioc/meat/stepwiseCM.Rcheck/00check.log'
for details.
install for i386
* installing *source* package 'stepwiseCM' ...
** R
** data
** inst
** preparing package for lazy loading
** help
*** installing help indices
** building package indices
** installing vignettes
** testing if installed package can be loaded
install for x64
* installing *source* package 'stepwiseCM' ...
** testing if installed package can be loaded
* MD5 sums
packaged installation of 'stepwiseCM' as stepwiseCM_1.6.0.zip
* DONE (stepwiseCM)