ACME 2.16.0 Sean Davis
Snapshot Date: 2013-04-30 17:01:37 -0700 (Tue, 30 Apr 2013) | URL: https://hedgehog.fhcrc.org/bioconductor/branches/RELEASE_2_12/madman/Rpacks/ACME | Last Changed Rev: 75263 / Revision: 76155 | Last Changed Date: 2013-04-03 14:32:27 -0700 (Wed, 03 Apr 2013) |
| george2 | Linux (Ubuntu 12.04.1 LTS) / x86_64 | OK | OK | |
moscato2 | Windows Server 2008 R2 Enterprise SP1 (64-bit) / x64 | OK | OK | OK |
petty | Mac OS X Snow Leopard (10.6.8) / x86_64 | OK | OK | OK |
pelham | Mac OS X Snow Leopard (10.6.8) / x86_64 | OK | [ OK ] | OK |
* using log directory '/Users/biocbuild/bbs-2.12-bioc/meat/ACME.Rcheck'
* using R version 3.0.0 Patched (2013-04-08 r62531)
* using platform: x86_64-apple-darwin10.8.0 (64-bit)
* using session charset: ASCII
* using option '--no-vignettes'
* checking for file 'ACME/DESCRIPTION' ... OK
* this is package 'ACME' version '2.16.0'
* checking package namespace information ... OK
* checking package dependencies ... OK
* checking if this is a source package ... OK
* checking if there is a namespace ... OK
* checking for hidden files and directories ... OK
* checking for portable file names ... OK
* checking for sufficient/correct file permissions ... OK
* checking whether package 'ACME' can be installed ... [6s/6s] OK
* checking installed package size ... NOTE
installed size is 30.9Mb
sub-directories of 1Mb or more:
data 3.1Mb
extdata 27.3Mb
* checking package directory ... OK
* checking DESCRIPTION meta-information ... OK
* checking top-level files ... OK
* checking for left-over files ... OK
* checking index information ... OK
* checking package subdirectories ... OK
* checking R files for non-ASCII characters ... OK
* checking R files for syntax errors ... OK
* checking whether the package can be loaded ... OK
* checking whether the package can be loaded with stated dependencies ... OK
* checking whether the package can be unloaded cleanly ... OK
* checking whether the namespace can be loaded with stated dependencies ... OK
* checking whether the namespace can be unloaded cleanly ... OK
* checking for unstated dependencies in R code ... OK
* checking S3 generic/method consistency ... OK
* checking replacement functions ... OK
* checking foreign function calls ... OK
* checking R code for possible problems ... NOTE
findClosestGene: no visible binding for global variable 'refflat'
findClosestGene: no visible binding for '<<-' assignment to 'refflat'
* checking Rd files ... OK
* checking Rd metadata ... OK
* checking Rd cross-references ... OK
* checking for missing documentation entries ... OK
* checking for code/documentation mismatches ... OK
* checking Rd \usage sections ... OK
* checking Rd contents ... OK
* checking for unstated dependencies in examples ... OK
* checking contents of 'data' directory ... OK
* checking data for non-ASCII characters ... OK
* checking data for ASCII and uncompressed saves ... OK
* checking line endings in C/C++/Fortran sources/headers ... OK
* checking line endings in Makefiles ... OK
* checking for portable use of $(BLAS_LIBS) and $(LAPACK_LIBS) ... OK
* checking compiled code ... OK
* checking installed files from 'inst/doc' ... OK
* checking examples ... [74s/78s] OK
Examples with CPU or elapsed time > 5s
user system elapsed
read.resultsGFF 13.283 0.727 14.474
findRegions 11.059 1.142 12.456
ACMECalcSet-class 10.631 0.575 11.392
aGFFCalc-class 7.814 0.888 9.020
do.aGFF.calc 7.419 0.922 8.727
* checking for unstated dependencies in vignettes ... OK
* checking package vignettes in 'inst/doc' ... OK
* checking running R code from vignettes ... SKIPPED
* checking re-building of vignettes ... SKIPPED
* checking PDF version of manual ... OK
NOTE: There were 2 notes.
See
'/Users/biocbuild/bbs-2.12-bioc/meat/ACME.Rcheck/00check.log'
for details.
* installing *source* package 'ACME' ...
** libs
clang -I/Library/Frameworks/R.framework/Resources/include -DNDEBUG -I/usr/local/include -fPIC -mtune=native -ggdb -O0 -Wall -pedantic -Wconversion -c windowChisq.c -o windowChisq.o
windowChisq.c:57:71: warning: & has lower precedence than >; > will be evaluated first [-Wparentheses]
while((xlocations[i]-xlocations[firstprobe-1] < (halfWindowSize)) &
^
windowChisq.c:57:71: note: place parentheses around the '>' expression to silence this warning
while((xlocations[i]-xlocations[firstprobe-1] < (halfWindowSize)) &
^
windowChisq.c:57:71: note: place parentheses around the & expression to evaluate it first
while((xlocations[i]-xlocations[firstprobe-1] < (halfWindowSize)) &
^
windowChisq.c:62:70: warning: & has lower precedence than <; < will be evaluated first [-Wparentheses]
while((xlocations[lastprobe+1]-xlocations[i] < (halfWindowSize)) &
^
windowChisq.c:62:70: note: place parentheses around the '<' expression to silence this warning
while((xlocations[lastprobe+1]-xlocations[i] < (halfWindowSize)) &
^
windowChisq.c:62:70: note: place parentheses around the & expression to evaluate it first
while((xlocations[lastprobe+1]-xlocations[i] < (halfWindowSize)) &
^
windowChisq.c:21:11: warning: unused variable 'xa' [-Wunused-variable]
double *xa,*xlocations,*xchivals;
^
windowChisq.c:86:20: warning: incompatible pointer types initializing 'DL_FUNC' (aka 'void *(*)()') with an expression of type 'SEXP (*)(SEXP, SEXP, SEXP, SEXP, SEXP)' [-Wincompatible-pointer-types]
{"windowChisq",&windowChisq,5},
^˜˜˜˜˜˜˜˜˜˜˜
4 warnings generated.
clang -dynamiclib -Wl,-headerpad_max_install_names -undefined dynamic_lookup -single_module -multiply_defined suppress -L/usr/local/lib -L/usr/local/lib -o ACME.so windowChisq.o -F/Library/Frameworks/R.framework/.. -framework R -Wl,-framework -Wl,CoreFoundation
installing to /Users/biocbuild/bbs-2.12-bioc/meat/ACME.Rcheck/ACME/libs
** R
** data
** inst
** preparing package for lazy loading
Creating a generic function for 'print' from package 'base' in package 'ACME'
** help
*** installing help indices
** building package indices
** installing vignettes
** testing if installed package can be loaded
* DONE (ACME)