BioSeqClass 1.17.0 Li Hong
Snapshot Date: 2013-01-15 17:01:14 -0800 (Tue, 15 Jan 2013) | URL: https://hedgehog.fhcrc.org/bioconductor/trunk/madman/Rpacks/BioSeqClass | Last Changed Rev: 70052 / Revision: 72575 | Last Changed Date: 2012-10-01 15:43:56 -0700 (Mon, 01 Oct 2012) |
| george2 | Linux (Ubuntu 12.04.1 LTS) / x86_64 | ERROR | skipped | |
lamb2 | Linux (openSUSE 11.4) / x86_64 | [ ERROR ] | skipped | |
moscato2 | Windows Server 2008 R2 Enterprise SP1 (64-bit) / x64 | ERROR | skipped | skipped |
petty | Mac OS X Leopard (10.5.8) / i386 | ERROR | skipped | skipped |
* checking for file ‘BioSeqClass/DESCRIPTION’ ... OK
* preparing ‘BioSeqClass’:
* checking DESCRIPTION meta-information ... OK
* installing the package to re-build vignettes
-----------------------------------
* installing *source* package ‘BioSeqClass’ ...
** R
** data
** inst
** preparing package for lazy loading
Error : object ‘writeFASTA’ is not exported by ‘namespace:Biostrings’
ERROR: lazy loading failed for package ‘BioSeqClass’
* removing ‘/tmp/RtmpMIEANQ/Rinst5abb6dffb69c/BioSeqClass’
-----------------------------------
ERROR: package installation failed