Biostrings 2.28.0 H. Pages
Snapshot Date: 2013-10-08 17:00:48 -0700 (Tue, 08 Oct 2013) | URL: https://hedgehog.fhcrc.org/bioconductor/branches/RELEASE_2_12/madman/Rpacks/Biostrings | Last Changed Rev: 75263 / Revision: 81334 | Last Changed Date: 2013-04-03 14:32:27 -0700 (Wed, 03 Apr 2013) |
| george2 | Linux (Ubuntu 12.04.1 LTS) / x86_64 | OK | WARNINGS | |
moscato2 | Windows Server 2008 R2 Enterprise SP1 (64-bit) / x64 | OK | WARNINGS | OK |
petty | Mac OS X Snow Leopard (10.6.8) / x86_64 | OK | WARNINGS | [ OK ] |
>>>>>>>
>>>>>>> INSTALLATION WITH 'R CMD INSTALL --preclean --no-multiarch --library=Biostrings.buildbin-libdir Biostrings_2.28.0.tar.gz'
>>>>>>>
* installing *source* package 'Biostrings' ...
** libs
llvm-gcc-4.2 -arch x86_64 -std=gnu99 -I/Library/Frameworks/R.framework/Resources/include -DNDEBUG -I/usr/local/include -I"/Library/Frameworks/R.framework/Versions/3.0/Resources/library/IRanges/include" -fPIC -mtune=core2 -g -O2 -c BAB_class.c -o BAB_class.o
llvm-gcc-4.2 -arch x86_64 -std=gnu99 -I/Library/Frameworks/R.framework/Resources/include -DNDEBUG -I/usr/local/include -I"/Library/Frameworks/R.framework/Versions/3.0/Resources/library/IRanges/include" -fPIC -mtune=core2 -g -O2 -c BitMatrix.c -o BitMatrix.o
llvm-gcc-4.2 -arch x86_64 -std=gnu99 -I/Library/Frameworks/R.framework/Resources/include -DNDEBUG -I/usr/local/include -I"/Library/Frameworks/R.framework/Versions/3.0/Resources/library/IRanges/include" -fPIC -mtune=core2 -g -O2 -c IRanges_stubs.c -o IRanges_stubs.o
llvm-gcc-4.2 -arch x86_64 -std=gnu99 -I/Library/Frameworks/R.framework/Resources/include -DNDEBUG -I/usr/local/include -I"/Library/Frameworks/R.framework/Versions/3.0/Resources/library/IRanges/include" -fPIC -mtune=core2 -g -O2 -c MIndex_class.c -o MIndex_class.o
llvm-gcc-4.2 -arch x86_64 -std=gnu99 -I/Library/Frameworks/R.framework/Resources/include -DNDEBUG -I/usr/local/include -I"/Library/Frameworks/R.framework/Versions/3.0/Resources/library/IRanges/include" -fPIC -mtune=core2 -g -O2 -c PreprocessedTB_class.c -o PreprocessedTB_class.o
llvm-gcc-4.2 -arch x86_64 -std=gnu99 -I/Library/Frameworks/R.framework/Resources/include -DNDEBUG -I/usr/local/include -I"/Library/Frameworks/R.framework/Versions/3.0/Resources/library/IRanges/include" -fPIC -mtune=core2 -g -O2 -c R_init_Biostrings.c -o R_init_Biostrings.o
llvm-gcc-4.2 -arch x86_64 -std=gnu99 -I/Library/Frameworks/R.framework/Resources/include -DNDEBUG -I/usr/local/include -I"/Library/Frameworks/R.framework/Versions/3.0/Resources/library/IRanges/include" -fPIC -mtune=core2 -g -O2 -c RoSeqs_utils.c -o RoSeqs_utils.o
llvm-gcc-4.2 -arch x86_64 -std=gnu99 -I/Library/Frameworks/R.framework/Resources/include -DNDEBUG -I/usr/local/include -I"/Library/Frameworks/R.framework/Versions/3.0/Resources/library/IRanges/include" -fPIC -mtune=core2 -g -O2 -c SparseList_utils.c -o SparseList_utils.o
llvm-gcc-4.2 -arch x86_64 -std=gnu99 -I/Library/Frameworks/R.framework/Resources/include -DNDEBUG -I/usr/local/include -I"/Library/Frameworks/R.framework/Versions/3.0/Resources/library/IRanges/include" -fPIC -mtune=core2 -g -O2 -c XStringSet_class.c -o XStringSet_class.o
llvm-gcc-4.2 -arch x86_64 -std=gnu99 -I/Library/Frameworks/R.framework/Resources/include -DNDEBUG -I/usr/local/include -I"/Library/Frameworks/R.framework/Versions/3.0/Resources/library/IRanges/include" -fPIC -mtune=core2 -g -O2 -c XStringSet_io.c -o XStringSet_io.o
llvm-gcc-4.2 -arch x86_64 -std=gnu99 -I/Library/Frameworks/R.framework/Resources/include -DNDEBUG -I/usr/local/include -I"/Library/Frameworks/R.framework/Versions/3.0/Resources/library/IRanges/include" -fPIC -mtune=core2 -g -O2 -c XString_class.c -o XString_class.o
llvm-gcc-4.2 -arch x86_64 -std=gnu99 -I/Library/Frameworks/R.framework/Resources/include -DNDEBUG -I/usr/local/include -I"/Library/Frameworks/R.framework/Versions/3.0/Resources/library/IRanges/include" -fPIC -mtune=core2 -g -O2 -c align_needwunsQS.c -o align_needwunsQS.o
llvm-gcc-4.2 -arch x86_64 -std=gnu99 -I/Library/Frameworks/R.framework/Resources/include -DNDEBUG -I/usr/local/include -I"/Library/Frameworks/R.framework/Versions/3.0/Resources/library/IRanges/include" -fPIC -mtune=core2 -g -O2 -c align_pairwiseAlignment.c -o align_pairwiseAlignment.o
llvm-gcc-4.2 -arch x86_64 -std=gnu99 -I/Library/Frameworks/R.framework/Resources/include -DNDEBUG -I/usr/local/include -I"/Library/Frameworks/R.framework/Versions/3.0/Resources/library/IRanges/include" -fPIC -mtune=core2 -g -O2 -c align_utils.c -o align_utils.o
llvm-gcc-4.2 -arch x86_64 -std=gnu99 -I/Library/Frameworks/R.framework/Resources/include -DNDEBUG -I/usr/local/include -I"/Library/Frameworks/R.framework/Versions/3.0/Resources/library/IRanges/include" -fPIC -mtune=core2 -g -O2 -c find_palindromes.c -o find_palindromes.o
llvm-gcc-4.2 -arch x86_64 -std=gnu99 -I/Library/Frameworks/R.framework/Resources/include -DNDEBUG -I/usr/local/include -I"/Library/Frameworks/R.framework/Versions/3.0/Resources/library/IRanges/include" -fPIC -mtune=core2 -g -O2 -c gtestsim.c -o gtestsim.o
llvm-gcc-4.2 -arch x86_64 -std=gnu99 -I/Library/Frameworks/R.framework/Resources/include -DNDEBUG -I/usr/local/include -I"/Library/Frameworks/R.framework/Versions/3.0/Resources/library/IRanges/include" -fPIC -mtune=core2 -g -O2 -c inject_code.c -o inject_code.o
llvm-gcc-4.2 -arch x86_64 -std=gnu99 -I/Library/Frameworks/R.framework/Resources/include -DNDEBUG -I/usr/local/include -I"/Library/Frameworks/R.framework/Versions/3.0/Resources/library/IRanges/include" -fPIC -mtune=core2 -g -O2 -c io_utils.c -o io_utils.o
llvm-gcc-4.2 -arch x86_64 -std=gnu99 -I/Library/Frameworks/R.framework/Resources/include -DNDEBUG -I/usr/local/include -I"/Library/Frameworks/R.framework/Versions/3.0/Resources/library/IRanges/include" -fPIC -mtune=core2 -g -O2 -c letter_frequency.c -o letter_frequency.o
llvm-gcc-4.2 -arch x86_64 -std=gnu99 -I/Library/Frameworks/R.framework/Resources/include -DNDEBUG -I/usr/local/include -I"/Library/Frameworks/R.framework/Versions/3.0/Resources/library/IRanges/include" -fPIC -mtune=core2 -g -O2 -c lowlevel_matching.c -o lowlevel_matching.o
llvm-gcc-4.2 -arch x86_64 -std=gnu99 -I/Library/Frameworks/R.framework/Resources/include -DNDEBUG -I/usr/local/include -I"/Library/Frameworks/R.framework/Versions/3.0/Resources/library/IRanges/include" -fPIC -mtune=core2 -g -O2 -c match_BOC.c -o match_BOC.o
llvm-gcc-4.2 -arch x86_64 -std=gnu99 -I/Library/Frameworks/R.framework/Resources/include -DNDEBUG -I/usr/local/include -I"/Library/Frameworks/R.framework/Versions/3.0/Resources/library/IRanges/include" -fPIC -mtune=core2 -g -O2 -c match_BOC2.c -o match_BOC2.o
llvm-gcc-4.2 -arch x86_64 -std=gnu99 -I/Library/Frameworks/R.framework/Resources/include -DNDEBUG -I/usr/local/include -I"/Library/Frameworks/R.framework/Versions/3.0/Resources/library/IRanges/include" -fPIC -mtune=core2 -g -O2 -c match_PWM.c -o match_PWM.o
llvm-gcc-4.2 -arch x86_64 -std=gnu99 -I/Library/Frameworks/R.framework/Resources/include -DNDEBUG -I/usr/local/include -I"/Library/Frameworks/R.framework/Versions/3.0/Resources/library/IRanges/include" -fPIC -mtune=core2 -g -O2 -c match_pattern.c -o match_pattern.o
llvm-gcc-4.2 -arch x86_64 -std=gnu99 -I/Library/Frameworks/R.framework/Resources/include -DNDEBUG -I/usr/local/include -I"/Library/Frameworks/R.framework/Versions/3.0/Resources/library/IRanges/include" -fPIC -mtune=core2 -g -O2 -c match_pattern_boyermoore.c -o match_pattern_boyermoore.o
llvm-gcc-4.2 -arch x86_64 -std=gnu99 -I/Library/Frameworks/R.framework/Resources/include -DNDEBUG -I/usr/local/include -I"/Library/Frameworks/R.framework/Versions/3.0/Resources/library/IRanges/include" -fPIC -mtune=core2 -g -O2 -c match_pattern_indels.c -o match_pattern_indels.o
llvm-gcc-4.2 -arch x86_64 -std=gnu99 -I/Library/Frameworks/R.framework/Resources/include -DNDEBUG -I/usr/local/include -I"/Library/Frameworks/R.framework/Versions/3.0/Resources/library/IRanges/include" -fPIC -mtune=core2 -g -O2 -c match_pattern_shiftor.c -o match_pattern_shiftor.o
llvm-gcc-4.2 -arch x86_64 -std=gnu99 -I/Library/Frameworks/R.framework/Resources/include -DNDEBUG -I/usr/local/include -I"/Library/Frameworks/R.framework/Versions/3.0/Resources/library/IRanges/include" -fPIC -mtune=core2 -g -O2 -c match_pdict.c -o match_pdict.o
llvm-gcc-4.2 -arch x86_64 -std=gnu99 -I/Library/Frameworks/R.framework/Resources/include -DNDEBUG -I/usr/local/include -I"/Library/Frameworks/R.framework/Versions/3.0/Resources/library/IRanges/include" -fPIC -mtune=core2 -g -O2 -c match_pdict_ACtree2.c -o match_pdict_ACtree2.o
llvm-gcc-4.2 -arch x86_64 -std=gnu99 -I/Library/Frameworks/R.framework/Resources/include -DNDEBUG -I/usr/local/include -I"/Library/Frameworks/R.framework/Versions/3.0/Resources/library/IRanges/include" -fPIC -mtune=core2 -g -O2 -c match_pdict_Twobit.c -o match_pdict_Twobit.o
llvm-gcc-4.2 -arch x86_64 -std=gnu99 -I/Library/Frameworks/R.framework/Resources/include -DNDEBUG -I/usr/local/include -I"/Library/Frameworks/R.framework/Versions/3.0/Resources/library/IRanges/include" -fPIC -mtune=core2 -g -O2 -c match_pdict_utils.c -o match_pdict_utils.o
llvm-gcc-4.2 -arch x86_64 -std=gnu99 -I/Library/Frameworks/R.framework/Resources/include -DNDEBUG -I/usr/local/include -I"/Library/Frameworks/R.framework/Versions/3.0/Resources/library/IRanges/include" -fPIC -mtune=core2 -g -O2 -c match_reporting.c -o match_reporting.o
llvm-gcc-4.2 -arch x86_64 -std=gnu99 -I/Library/Frameworks/R.framework/Resources/include -DNDEBUG -I/usr/local/include -I"/Library/Frameworks/R.framework/Versions/3.0/Resources/library/IRanges/include" -fPIC -mtune=core2 -g -O2 -c matchprobes.c -o matchprobes.o
llvm-gcc-4.2 -arch x86_64 -std=gnu99 -I/Library/Frameworks/R.framework/Resources/include -DNDEBUG -I/usr/local/include -I"/Library/Frameworks/R.framework/Versions/3.0/Resources/library/IRanges/include" -fPIC -mtune=core2 -g -O2 -c pmatchPattern.c -o pmatchPattern.o
llvm-gcc-4.2 -arch x86_64 -std=gnu99 -I/Library/Frameworks/R.framework/Resources/include -DNDEBUG -I/usr/local/include -I"/Library/Frameworks/R.framework/Versions/3.0/Resources/library/IRanges/include" -fPIC -mtune=core2 -g -O2 -c replace_letter_at.c -o replace_letter_at.o
llvm-gcc-4.2 -arch x86_64 -std=gnu99 -I/Library/Frameworks/R.framework/Resources/include -DNDEBUG -I/usr/local/include -I"/Library/Frameworks/R.framework/Versions/3.0/Resources/library/IRanges/include" -fPIC -mtune=core2 -g -O2 -c strutils.c -o strutils.o
llvm-gcc-4.2 -arch x86_64 -std=gnu99 -I/Library/Frameworks/R.framework/Resources/include -DNDEBUG -I/usr/local/include -I"/Library/Frameworks/R.framework/Versions/3.0/Resources/library/IRanges/include" -fPIC -mtune=core2 -g -O2 -c translate.c -o translate.o
llvm-gcc-4.2 -arch x86_64 -std=gnu99 -I/Library/Frameworks/R.framework/Resources/include -DNDEBUG -I/usr/local/include -I"/Library/Frameworks/R.framework/Versions/3.0/Resources/library/IRanges/include" -fPIC -mtune=core2 -g -O2 -c utils.c -o utils.o
llvm-gcc-4.2 -arch x86_64 -std=gnu99 -I/Library/Frameworks/R.framework/Resources/include -DNDEBUG -I/usr/local/include -I"/Library/Frameworks/R.framework/Versions/3.0/Resources/library/IRanges/include" -fPIC -mtune=core2 -g -O2 -c xscat.c -o xscat.o
llvm-gcc-4.2 -arch x86_64 -std=gnu99 -dynamiclib -Wl,-headerpad_max_install_names -undefined dynamic_lookup -single_module -multiply_defined suppress -L/usr/local/lib -L/usr/local/lib -o Biostrings.so BAB_class.o BitMatrix.o IRanges_stubs.o MIndex_class.o PreprocessedTB_class.o R_init_Biostrings.o RoSeqs_utils.o SparseList_utils.o XStringSet_class.o XStringSet_io.o XString_class.o align_needwunsQS.o align_pairwiseAlignment.o align_utils.o find_palindromes.o gtestsim.o inject_code.o io_utils.o letter_frequency.o lowlevel_matching.o match_BOC.o match_BOC2.o match_PWM.o match_pattern.o match_pattern_boyermoore.o match_pattern_indels.o match_pattern_shiftor.o match_pdict.o match_pdict_ACtree2.o match_pdict_Twobit.o match_pdict_utils.o match_reporting.o matchprobes.o pmatchPattern.o replace_letter_at.o strutils.o translate.o utils.o xscat.o -F/Library/Frameworks/R.framework/.. -framework R -Wl,-framework -Wl,CoreFoundation
installing to /Users/biocbuild/bbs-2.12-bioc/meat/Biostrings.buildbin-libdir/Biostrings/libs
** R
** data
** inst
** preparing package for lazy loading
Creating a generic function for 'setequal' from package 'base' in package 'Biostrings'
Creating a generic function for 'ls' from package 'base' in package 'Biostrings'
Creating a new generic function for 'offset' in package 'Biostrings'
** help
*** installing help indices
** building package indices
** installing vignettes
** testing if installed package can be loaded
* DONE (Biostrings)
>>>>>>>
>>>>>>> FIXING LINKS FOR Biostrings.buildbin-libdir/Biostrings/libs//Biostrings.so
>>>>>>>
install_name_tool -change "/usr/local/lib/libgcc_s.1.dylib" "/Library/Frameworks/R.framework/Versions/3.0/Resources/lib/libgcc_s.1.dylib" "Biostrings.buildbin-libdir/Biostrings/libs//Biostrings.so"
install_name_tool -change "/usr/local/lib/libgfortran.2.dylib" "/Library/Frameworks/R.framework/Versions/3.0/Resources/lib/libgfortran.2.dylib" "Biostrings.buildbin-libdir/Biostrings/libs//Biostrings.so"
install_name_tool -change "/usr/local/lib/libreadline.5.2.dylib" "/Library/Frameworks/R.framework/Versions/3.0/Resources/lib/libreadline.5.2.dylib" "Biostrings.buildbin-libdir/Biostrings/libs//Biostrings.so"
install_name_tool -change "/usr/local/lib/libreadline.dylib" "/Library/Frameworks/R.framework/Versions/3.0/Resources/lib/libreadline.dylib" "Biostrings.buildbin-libdir/Biostrings/libs//Biostrings.so"