Back to the "Multiple platform build/check report" A  B  C [D] E  F  G  H  I  J  K  L  M  N  O  P  Q  R  S  T  U  V  W  X  Y  Z 

Package 178/671HostnameOS / ArchBUILDCHECKBUILD BIN
DEXSeq 1.6.0
Alejandro Reyes
Snapshot Date: 2013-04-30 17:01:37 -0700 (Tue, 30 Apr 2013)
URL: https://hedgehog.fhcrc.org/bioconductor/branches/RELEASE_2_12/madman/Rpacks/DEXSeq
Last Changed Rev: 75263 / Revision: 76155
Last Changed Date: 2013-04-03 14:32:27 -0700 (Wed, 03 Apr 2013)
george2 Linux (Ubuntu 12.04.1 LTS) / x86_64  OK  OK 
moscato2 Windows Server 2008 R2 Enterprise SP1 (64-bit) / x64  OK  OK  OK 
petty Mac OS X Snow Leopard (10.6.8) / x86_64  OK  OK  OK 
pelham Mac OS X Snow Leopard (10.6.8) / x86_64  OK [ OK ] OK 

Summary

Package: DEXSeq
Version: 1.6.0
Command: /Library/Frameworks/R.framework/Versions/Current/Resources/bin/R CMD check --no-vignettes --timings --no-multiarch DEXSeq_1.6.0.tar.gz
StartedAt: 2013-05-01 04:34:51 -0700 (Wed, 01 May 2013)
EndedAt: 2013-05-01 04:40:44 -0700 (Wed, 01 May 2013)
EllapsedTime: 352.7 seconds
RetCode: 0
Status:  OK 
CheckDir: DEXSeq.Rcheck
Warnings: 0

Command output

* using log directory '/Users/biocbuild/bbs-2.12-bioc/meat/DEXSeq.Rcheck'
* using R version 3.0.0 Patched (2013-04-08 r62531)
* using platform: x86_64-apple-darwin10.8.0 (64-bit)
* using session charset: ASCII
* using option '--no-vignettes'
* checking for file 'DEXSeq/DESCRIPTION' ... OK
* this is package 'DEXSeq' version '1.6.0'
* checking package namespace information ... OK
* checking package dependencies ... OK
* checking if this is a source package ... OK
* checking if there is a namespace ... OK
* checking for hidden files and directories ... OK
* checking for portable file names ... OK
* checking for sufficient/correct file permissions ... OK
* checking whether package 'DEXSeq' can be installed ... [20s/21s] OK
* checking installed package size ... OK
* checking package directory ... OK
* checking DESCRIPTION meta-information ... OK
* checking top-level files ... OK
* checking for left-over files ... OK
* checking index information ... OK
* checking package subdirectories ... OK
* checking R files for non-ASCII characters ... OK
* checking R files for syntax errors ... OK
* checking whether the package can be loaded ... OK
* checking whether the package can be loaded with stated dependencies ... OK
* checking whether the package can be unloaded cleanly ... OK
* checking whether the namespace can be loaded with stated dependencies ... OK
* checking whether the namespace can be unloaded cleanly ... OK
* checking for unstated dependencies in R code ... OK
* checking S3 generic/method consistency ... OK
* checking replacement functions ... OK
* checking foreign function calls ... OK
* checking R code for possible problems ... OK
* checking Rd files ... OK
* checking Rd metadata ... OK
* checking Rd cross-references ... OK
* checking for missing documentation entries ... OK
* checking for code/documentation mismatches ... OK
* checking Rd \usage sections ... OK
* checking Rd contents ... OK
* checking for unstated dependencies in examples ... OK
* checking installed files from 'inst/doc' ... OK
* checking examples ... [145s/147s] OK
Examples with CPU or elapsed time > 5s
                          user system elapsed
read.HTSeqCounts        44.515  1.242  46.281
estimateDispersionsTRT  23.930  0.147  24.403
makeCompleteDEUAnalysis 21.444  0.249  21.976
estimateDispersions     14.616  0.295  15.127
testGeneForDEU          12.230  0.632  12.985
fitDispersionFunction   12.737  0.124  13.022
* checking for unstated dependencies in vignettes ... OK
* checking package vignettes in 'inst/doc' ... OK
* checking running R code from vignettes ... SKIPPED
* checking re-building of vignettes ... SKIPPED
* checking PDF version of manual ... OK

DEXSeq.Rcheck/00install.out:

* installing *source* package 'DEXSeq' ...
** R
** inst
** preparing package for lazy loading
** help
*** installing help indices
** building package indices
** installing vignettes
** testing if installed package can be loaded
* DONE (DEXSeq)

DEXSeq.Rcheck/DEXSeq-Ex.timings:

nameusersystemelapsed
DEUresultTable0.3180.0050.323
DEXSeqHTML0.0090.0030.011
ExonCountSet-class0.0100.0030.012
buildExonCountSet0.0100.0030.013
countReadsForDEXSeq0.0120.0040.017
countTableForGene0.1520.0160.183
counts0.0270.0030.031
design0.0340.0050.039
estimateDispersions14.616 0.29515.127
estimateDispersionsTRT23.930 0.14724.403
estimateExonDispersionsForModelFrame0.2910.0080.305
estimateSizeFactors0.0590.0050.066
estimatelog2FoldChanges0.0120.0050.017
exonIDs0.0300.0110.042
fitDispersionFunction12.737 0.12413.022
geneCountTable0.1460.0040.149
geneIDs0.0450.0040.049
makeCompleteDEUAnalysis21.444 0.24921.976
modelFrameForGene0.0460.0080.054
modelFrameForTRT0.0360.0050.044
newExonCountSet0.3640.0100.375
perGeneQValue0.0010.0020.004
plotDEXSeq0.0080.0040.012
prepareAnnotationForDEXSeq0.0090.0040.013
read.HTSeqCounts44.515 1.24246.281
sizeFactors0.0520.0070.064
subsetByGenes0.0580.0080.066
testForDEU0.0030.0080.011
testForDEUTRT0.0120.0130.024
testGeneForDEU12.230 0.63212.985