GRENITS 1.12.0 Edward Morrissey
Snapshot Date: 2013-10-08 17:00:48 -0700 (Tue, 08 Oct 2013) | URL: https://hedgehog.fhcrc.org/bioconductor/branches/RELEASE_2_12/madman/Rpacks/GRENITS | Last Changed Rev: 75263 / Revision: 81334 | Last Changed Date: 2013-04-03 14:32:27 -0700 (Wed, 03 Apr 2013) |
| george2 | Linux (Ubuntu 12.04.1 LTS) / x86_64 | OK | OK | |
moscato2 | Windows Server 2008 R2 Enterprise SP1 (64-bit) / x64 | OK | WARNINGS | OK |
petty | Mac OS X Snow Leopard (10.6.8) / x86_64 | OK | [ OK ] | OK |
* using log directory '/Users/biocbuild/bbs-2.12-bioc/meat/GRENITS.Rcheck'
* using R version 3.0.1 (2013-05-16)
* using platform: x86_64-apple-darwin10.8.0 (64-bit)
* using session charset: ASCII
* using option '--no-vignettes'
* checking for file 'GRENITS/DESCRIPTION' ... OK
* checking extension type ... Package
* this is package 'GRENITS' version '1.12.0'
* checking package namespace information ... OK
* checking package dependencies ... OK
* checking if this is a source package ... OK
* checking if there is a namespace ... OK
* checking for hidden files and directories ... OK
* checking for portable file names ... OK
* checking for sufficient/correct file permissions ... OK
* checking whether package 'GRENITS' can be installed ... [101s/102s] OK
* checking installed package size ... OK
* checking package directory ... OK
* checking DESCRIPTION meta-information ... OK
* checking top-level files ... OK
* checking for left-over files ... OK
* checking index information ... OK
* checking package subdirectories ... OK
* checking R files for non-ASCII characters ... OK
* checking R files for syntax errors ... OK
* checking whether the package can be loaded ... OK
* checking whether the package can be loaded with stated dependencies ... OK
* checking whether the package can be unloaded cleanly ... OK
* checking whether the namespace can be loaded with stated dependencies ... OK
* checking whether the namespace can be unloaded cleanly ... OK
* checking for unstated dependencies in R code ... OK
* checking S3 generic/method consistency ... OK
* checking replacement functions ... OK
* checking foreign function calls ... OK
* checking R code for possible problems ... NOTE
.heatMap.ggplot: no visible binding for global variable 'Var2'
.heatMap.ggplot: no visible binding for global variable 'Var1'
.heatMap.ggplot: no visible binding for global variable 'value'
.plotDistribParents.LargeMat: no visible binding for global variable
'variable'
.plotDistribParents.LargeMat: no visible binding for global variable
'GeneNames'
.plotDistribParents.LargeMat: no visible binding for global variable
'value'
* checking Rd files ... OK
* checking Rd metadata ... OK
* checking Rd cross-references ... OK
* checking for missing documentation entries ... OK
* checking for code/documentation mismatches ... OK
* checking Rd \usage sections ... OK
* checking Rd contents ... OK
* checking for unstated dependencies in examples ... OK
* checking contents of 'data' directory ... OK
* checking data for non-ASCII characters ... OK
* checking data for ASCII and uncompressed saves ... OK
* checking line endings in C/C++/Fortran sources/headers ... OK
* checking line endings in Makefiles ... OK
* checking for portable compilation flags in Makevars ... OK
* checking for portable use of $(BLAS_LIBS) and $(LAPACK_LIBS) ... OK
* checking compiled code ... NOTE
File '/Users/biocbuild/bbs-2.12-bioc/meat/GRENITS.Rcheck/GRENITS/libs/GRENITS.so':
Found '__ZSt4cout', possibly from 'std::cout' (C++)
Object: 'commonFunctions.o'
Compiled code should not call entry points which might terminate R nor
write to stdout/stderr instead of to the console.
See 'Writing portable packages' in the 'Writing R Extensions' manual.
* checking sizes of PDF files under 'inst/doc' ... OK
* checking installed files from 'inst/doc' ... OK
* checking examples ... [323s/336s] OK
Examples with CPU or elapsed time > 5s
user system elapsed
function_NonLinearNet 166.980 0.519 172.512
function_ReplicatesNet_student 60.696 0.457 63.020
function_ReplicatesNet_gauss 43.282 0.402 47.392
analyse.output 19.113 0.240 19.709
function_LinearNet 18.335 0.203 19.483
readChains 9.899 0.107 10.270
* checking for unstated dependencies in vignettes ... OK
* checking package vignettes in 'inst/doc' ... OK
* checking running R code from vignettes ... SKIPPED
* checking re-building of vignettes ... SKIPPED
* checking PDF version of manual ... OK
NOTE: There were 2 notes.
See
'/Users/biocbuild/bbs-2.12-bioc/meat/GRENITS.Rcheck/00check.log'
for details.
* installing *source* package 'GRENITS' ...
** libs
llvm-g++-4.2 -arch x86_64 -I/Library/Frameworks/R.framework/Resources/include -DNDEBUG -I/usr/local/include -I"/Library/Frameworks/R.framework/Versions/3.0/Resources/library/Rcpp/include" -I"/Library/Frameworks/R.framework/Versions/3.0/Resources/library/RcppArmadillo/include" -fPIC -mtune=core2 -g -O2 -c AR1_Gauss_biocond.cc -o AR1_Gauss_biocond.o
llvm-g++-4.2 -arch x86_64 -I/Library/Frameworks/R.framework/Resources/include -DNDEBUG -I/usr/local/include -I"/Library/Frameworks/R.framework/Versions/3.0/Resources/library/Rcpp/include" -I"/Library/Frameworks/R.framework/Versions/3.0/Resources/library/RcppArmadillo/include" -fPIC -mtune=core2 -g -O2 -c AR1_Student_biocond.cc -o AR1_Student_biocond.o
llvm-g++-4.2 -arch x86_64 -I/Library/Frameworks/R.framework/Resources/include -DNDEBUG -I/usr/local/include -I"/Library/Frameworks/R.framework/Versions/3.0/Resources/library/Rcpp/include" -I"/Library/Frameworks/R.framework/Versions/3.0/Resources/library/RcppArmadillo/include" -fPIC -mtune=core2 -g -O2 -c AR1_biocond.cc -o AR1_biocond.o
llvm-g++-4.2 -arch x86_64 -I/Library/Frameworks/R.framework/Resources/include -DNDEBUG -I/usr/local/include -I"/Library/Frameworks/R.framework/Versions/3.0/Resources/library/Rcpp/include" -I"/Library/Frameworks/R.framework/Versions/3.0/Resources/library/RcppArmadillo/include" -fPIC -mtune=core2 -g -O2 -c PSplines_biocond.cc -o PSplines_biocond.o
llvm-g++-4.2 -arch x86_64 -I/Library/Frameworks/R.framework/Resources/include -DNDEBUG -I/usr/local/include -I"/Library/Frameworks/R.framework/Versions/3.0/Resources/library/Rcpp/include" -I"/Library/Frameworks/R.framework/Versions/3.0/Resources/library/RcppArmadillo/include" -fPIC -mtune=core2 -g -O2 -c R_C_interface.cpp -o R_C_interface.o
llvm-g++-4.2 -arch x86_64 -I/Library/Frameworks/R.framework/Resources/include -DNDEBUG -I/usr/local/include -I"/Library/Frameworks/R.framework/Versions/3.0/Resources/library/Rcpp/include" -I"/Library/Frameworks/R.framework/Versions/3.0/Resources/library/RcppArmadillo/include" -fPIC -mtune=core2 -g -O2 -c ReadMCMCFiles.cpp -o ReadMCMCFiles.o
llvm-g++-4.2 -arch x86_64 -I/Library/Frameworks/R.framework/Resources/include -DNDEBUG -I/usr/local/include -I"/Library/Frameworks/R.framework/Versions/3.0/Resources/library/Rcpp/include" -I"/Library/Frameworks/R.framework/Versions/3.0/Resources/library/RcppArmadillo/include" -fPIC -mtune=core2 -g -O2 -c commonFunctions.cc -o commonFunctions.o
llvm-g++-4.2 -arch x86_64 -I/Library/Frameworks/R.framework/Resources/include -DNDEBUG -I/usr/local/include -I"/Library/Frameworks/R.framework/Versions/3.0/Resources/library/Rcpp/include" -I"/Library/Frameworks/R.framework/Versions/3.0/Resources/library/RcppArmadillo/include" -fPIC -mtune=core2 -g -O2 -c functionsErrorModel.cc -o functionsErrorModel.o
llvm-g++-4.2 -arch x86_64 -I/Library/Frameworks/R.framework/Resources/include -DNDEBUG -I/usr/local/include -I"/Library/Frameworks/R.framework/Versions/3.0/Resources/library/Rcpp/include" -I"/Library/Frameworks/R.framework/Versions/3.0/Resources/library/RcppArmadillo/include" -fPIC -mtune=core2 -g -O2 -c matrixManipulationFunctions.cc -o matrixManipulationFunctions.o
llvm-g++-4.2 -arch x86_64 -I/Library/Frameworks/R.framework/Resources/include -DNDEBUG -I/usr/local/include -I"/Library/Frameworks/R.framework/Versions/3.0/Resources/library/Rcpp/include" -I"/Library/Frameworks/R.framework/Versions/3.0/Resources/library/RcppArmadillo/include" -fPIC -mtune=core2 -g -O2 -c updateFunctions_AR1.cc -o updateFunctions_AR1.o
llvm-g++-4.2 -arch x86_64 -I/Library/Frameworks/R.framework/Resources/include -DNDEBUG -I/usr/local/include -I"/Library/Frameworks/R.framework/Versions/3.0/Resources/library/Rcpp/include" -I"/Library/Frameworks/R.framework/Versions/3.0/Resources/library/RcppArmadillo/include" -fPIC -mtune=core2 -g -O2 -c updateFunctions_Splines.cc -o updateFunctions_Splines.o
llvm-g++-4.2 -arch x86_64 -dynamiclib -Wl,-headerpad_max_install_names -undefined dynamic_lookup -single_module -multiply_defined suppress -L/usr/local/lib -L/usr/local/lib -o GRENITS.so AR1_Gauss_biocond.o AR1_Student_biocond.o AR1_biocond.o PSplines_biocond.o R_C_interface.o ReadMCMCFiles.o commonFunctions.o functionsErrorModel.o matrixManipulationFunctions.o updateFunctions_AR1.o updateFunctions_Splines.o /Library/Frameworks/R.framework/Versions/3.0/Resources/library/Rcpp/lib/libRcpp.a -L/Library/Frameworks/R.framework/Resources/lib -lRlapack -L/Library/Frameworks/R.framework/Resources/lib -lRblas -L/usr/local/lib/gcc/i686-apple-darwin8/4.2.3/x86_64 -L/usr/local/lib/x86_64 -L/usr/local/lib/gcc/i686-apple-darwin8/4.2.3 -lgfortran -F/Library/Frameworks/R.framework/.. -framework R -Wl,-framework -Wl,CoreFoundation
installing to /Users/biocbuild/bbs-2.12-bioc/meat/GRENITS.Rcheck/GRENITS/libs
** R
** data
** inst
** preparing package for lazy loading
** help
*** installing help indices
** building package indices
** installing vignettes
** testing if installed package can be loaded
* DONE (GRENITS)