MotIV 1.16.0 Eloi Mercier , Raphael Gottardo
Snapshot Date: 2013-10-08 17:00:48 -0700 (Tue, 08 Oct 2013) | URL: https://hedgehog.fhcrc.org/bioconductor/branches/RELEASE_2_12/madman/Rpacks/MotIV | Last Changed Rev: 75263 / Revision: 81334 | Last Changed Date: 2013-04-03 14:32:27 -0700 (Wed, 03 Apr 2013) |
| george2 | Linux (Ubuntu 12.04.1 LTS) / x86_64 | OK | OK | |
moscato2 | Windows Server 2008 R2 Enterprise SP1 (64-bit) / x64 | OK | OK | OK |
petty | Mac OS X Snow Leopard (10.6.8) / x86_64 | OK | OK | [ OK ] |
>>>>>>>
>>>>>>> INSTALLATION WITH 'R CMD INSTALL --preclean --no-multiarch --library=MotIV.buildbin-libdir MotIV_1.16.0.tar.gz'
>>>>>>>
* installing *source* package 'MotIV' ...
checking for gcc... llvm-gcc-4.2 -arch x86_64 -std=gnu99
checking for C compiler default output file name... rm: a.out.dSYM: is a directory
a.out
checking whether the C compiler works... yes
checking whether we are cross compiling... no
checking for suffix of executables...
checking for suffix of object files... o
checking whether we are using the GNU C compiler... yes
checking whether llvm-gcc-4.2 -arch x86_64 -std=gnu99 accepts -g... yes
checking for llvm-gcc-4.2 -arch x86_64 -std=gnu99 option to accept ISO C89... none needed
checking for gsl-config... /usr/local/bin/gsl-config
checking for GSL - version >= 1.6... yes
configure: creating ./config.status
config.status: creating src/Makevars
** libs
llvm-g++-4.2 -arch x86_64 -I/Library/Frameworks/R.framework/Resources/include -DNDEBUG -I/usr/local/include -fPIC -mtune=core2 -g -O2 -c Alignment.cpp -o Alignment.o
llvm-g++-4.2 -arch x86_64 -I/Library/Frameworks/R.framework/Resources/include -DNDEBUG -I/usr/local/include -fPIC -mtune=core2 -g -O2 -c ColumnComp.cpp -o ColumnComp.o
llvm-g++-4.2 -arch x86_64 -I/Library/Frameworks/R.framework/Resources/include -DNDEBUG -I/usr/local/include -fPIC -mtune=core2 -g -O2 -c DeclareAll.cpp -o DeclareAll.o
llvm-g++-4.2 -arch x86_64 -I/Library/Frameworks/R.framework/Resources/include -DNDEBUG -I/usr/local/include -fPIC -mtune=core2 -g -O2 -c Motif.cpp -o Motif.o
llvm-g++-4.2 -arch x86_64 -I/Library/Frameworks/R.framework/Resources/include -DNDEBUG -I/usr/local/include -fPIC -mtune=core2 -g -O2 -c MotifDistances.cpp -o MotifDistances.o
llvm-g++-4.2 -arch x86_64 -I/Library/Frameworks/R.framework/Resources/include -DNDEBUG -I/usr/local/include -fPIC -mtune=core2 -g -O2 -c MotifMatch.cpp -o MotifMatch.o
llvm-g++-4.2 -arch x86_64 -I/Library/Frameworks/R.framework/Resources/include -DNDEBUG -I/usr/local/include -fPIC -mtune=core2 -g -O2 -c PlatformSupport.cpp -o PlatformSupport.o
llvm-g++-4.2 -arch x86_64 -I/Library/Frameworks/R.framework/Resources/include -DNDEBUG -I/usr/local/include -fPIC -mtune=core2 -g -O2 -c RandPSSMGen.cpp -o RandPSSMGen.o
llvm-g++-4.2 -arch x86_64 -I/Library/Frameworks/R.framework/Resources/include -DNDEBUG -I/usr/local/include -fPIC -mtune=core2 -g -O2 -c generateScoresDB.cpp -o generateScoresDB.o
llvm-g++-4.2 -arch x86_64 -dynamiclib -Wl,-headerpad_max_install_names -undefined dynamic_lookup -single_module -multiply_defined suppress -L/usr/local/lib -L/usr/local/lib -o MotIV.so Alignment.o ColumnComp.o DeclareAll.o Motif.o MotifDistances.o MotifMatch.o PlatformSupport.o RandPSSMGen.o generateScoresDB.o -lgsl -lgslcblas -lm -F/Library/Frameworks/R.framework/.. -framework R -Wl,-framework -Wl,CoreFoundation
installing to /Users/biocbuild/bbs-2.12-bioc/meat/MotIV.buildbin-libdir/MotIV/libs
** R
** data
** inst
** preparing package for lazy loading
Creating a new generic function for 'filter' in package 'MotIV'
Creating a generic function for 'plot' from package 'graphics' in package 'MotIV'
** help
*** installing help indices
** building package indices
** installing vignettes
** testing if installed package can be loaded
* DONE (MotIV)
>>>>>>>
>>>>>>> FIXING LINKS FOR MotIV.buildbin-libdir/MotIV/libs//MotIV.so
>>>>>>>
install_name_tool -change "/usr/local/lib/libgcc_s.1.dylib" "/Library/Frameworks/R.framework/Versions/3.0/Resources/lib/libgcc_s.1.dylib" "MotIV.buildbin-libdir/MotIV/libs//MotIV.so"
install_name_tool -change "/usr/local/lib/libgfortran.2.dylib" "/Library/Frameworks/R.framework/Versions/3.0/Resources/lib/libgfortran.2.dylib" "MotIV.buildbin-libdir/MotIV/libs//MotIV.so"
install_name_tool -change "/usr/local/lib/libreadline.5.2.dylib" "/Library/Frameworks/R.framework/Versions/3.0/Resources/lib/libreadline.5.2.dylib" "MotIV.buildbin-libdir/MotIV/libs//MotIV.so"
install_name_tool -change "/usr/local/lib/libreadline.dylib" "/Library/Frameworks/R.framework/Versions/3.0/Resources/lib/libreadline.dylib" "MotIV.buildbin-libdir/MotIV/libs//MotIV.so"