SeqArray 1.0.0 Xiuwen Zheng
Snapshot Date: 2013-10-08 17:00:48 -0700 (Tue, 08 Oct 2013) | URL: https://hedgehog.fhcrc.org/bioconductor/branches/RELEASE_2_12/madman/Rpacks/SeqArray | Last Changed Rev: 80821 / Revision: 81334 | Last Changed Date: 2013-09-26 19:27:59 -0700 (Thu, 26 Sep 2013) |
| george2 | Linux (Ubuntu 12.04.1 LTS) / x86_64 | OK | OK | |
moscato2 | Windows Server 2008 R2 Enterprise SP1 (64-bit) / x64 | OK | OK | OK |
petty | Mac OS X Snow Leopard (10.6.8) / x86_64 | OK | OK | [ OK ] |
>>>>>>>
>>>>>>> INSTALLATION WITH 'R CMD INSTALL --preclean --no-multiarch --library=SeqArray.buildbin-libdir SeqArray_1.0.0.tar.gz'
>>>>>>>
* installing *source* package 'SeqArray' ...
** libs
llvm-g++-4.2 -arch x86_64 -I/Library/Frameworks/R.framework/Resources/include -DNDEBUG -I. -DCOREARRAY_NO_FORCEINLINE -DCOREARRAY_R_LINK -I/usr/local/include -fPIC -mtune=core2 -g -O2 -c CoreGDSLink.cpp -o CoreGDSLink.o
llvm-g++-4.2 -arch x86_64 -I/Library/Frameworks/R.framework/Resources/include -DNDEBUG -I. -DCOREARRAY_NO_FORCEINLINE -DCOREARRAY_R_LINK -I/usr/local/include -fPIC -mtune=core2 -g -O2 -c main.cpp -o main.o
llvm-g++-4.2 -arch x86_64 -dynamiclib -Wl,-headerpad_max_install_names -undefined dynamic_lookup -single_module -multiply_defined suppress -L/usr/local/lib -L/usr/local/lib -o SeqArray.so CoreGDSLink.o main.o -L/usr/local/lib/gcc/i686-apple-darwin8/4.2.3/x86_64 -L/usr/local/lib/x86_64 -L/usr/local/lib/gcc/i686-apple-darwin8/4.2.3 -lgfortran -L/Library/Frameworks/R.framework/Resources/lib -lRblas -L/Library/Frameworks/R.framework/Resources/lib -lRlapack -F/Library/Frameworks/R.framework/.. -framework R -Wl,-framework -Wl,CoreFoundation
installing to /Users/biocbuild/bbs-2.12-bioc/meat/SeqArray.buildbin-libdir/SeqArray/libs
** R
** inst
** preparing package for lazy loading
** help
*** installing help indices
** building package indices
** installing vignettes
** testing if installed package can be loaded
* DONE (SeqArray)
>>>>>>>
>>>>>>> FIXING LINKS FOR SeqArray.buildbin-libdir/SeqArray/libs//SeqArray.so
>>>>>>>
install_name_tool -change "/usr/local/lib/libgcc_s.1.dylib" "/Library/Frameworks/R.framework/Versions/3.0/Resources/lib/libgcc_s.1.dylib" "SeqArray.buildbin-libdir/SeqArray/libs//SeqArray.so"
install_name_tool -change "/usr/local/lib/libgfortran.2.dylib" "/Library/Frameworks/R.framework/Versions/3.0/Resources/lib/libgfortran.2.dylib" "SeqArray.buildbin-libdir/SeqArray/libs//SeqArray.so"
install_name_tool -change "/usr/local/lib/libreadline.5.2.dylib" "/Library/Frameworks/R.framework/Versions/3.0/Resources/lib/libreadline.5.2.dylib" "SeqArray.buildbin-libdir/SeqArray/libs//SeqArray.so"
install_name_tool -change "/usr/local/lib/libreadline.dylib" "/Library/Frameworks/R.framework/Versions/3.0/Resources/lib/libreadline.dylib" "SeqArray.buildbin-libdir/SeqArray/libs//SeqArray.so"