flowCore 1.26.0 M.Jiang
Snapshot Date: 2013-04-30 17:01:37 -0700 (Tue, 30 Apr 2013) | URL: https://hedgehog.fhcrc.org/bioconductor/branches/RELEASE_2_12/madman/Rpacks/flowCore | Last Changed Rev: 75263 / Revision: 76155 | Last Changed Date: 2013-04-03 14:32:27 -0700 (Wed, 03 Apr 2013) |
| george2 | Linux (Ubuntu 12.04.1 LTS) / x86_64 | OK | OK | |
moscato2 | Windows Server 2008 R2 Enterprise SP1 (64-bit) / x64 | OK | OK | OK |
petty | Mac OS X Snow Leopard (10.6.8) / x86_64 | OK | OK | OK |
pelham | Mac OS X Snow Leopard (10.6.8) / x86_64 | OK | OK | [ OK ] |
>>>>>>>
>>>>>>> INSTALLATION WITH 'R CMD INSTALL --preclean --no-multiarch --library=flowCore.buildbin-libdir flowCore_1.26.0.tar.gz'
>>>>>>>
* installing *source* package 'flowCore' ...
** libs
clang++ -I/Library/Frameworks/R.framework/Resources/include -DNDEBUG -I/usr/local/include -fPIC -mtune=native -g -O2 -Wall -pedantic -Wconversion -c FastLogicle.cpp -o FastLogicle.o
FastLogicle.cpp:55:48: warning: implicit conversion changes signedness: 'int' to 'unsigned long' [-Wsign-conversion]
memcpy(p->lookup, logicle.p->lookup, (p->bins + 1) * sizeof (double));
˜˜˜˜˜˜˜˜^˜˜ ˜
1 warning generated.
clang++ -I/Library/Frameworks/R.framework/Resources/include -DNDEBUG -I/usr/local/include -fPIC -mtune=native -g -O2 -Wall -pedantic -Wconversion -c Logicle.cpp -o Logicle.o
clang -I/Library/Frameworks/R.framework/Resources/include -DNDEBUG -I/usr/local/include -fPIC -mtune=native -g -O2 -Wall -pedantic -Wconversion -c biexponential.c -o biexponential.o
clang -I/Library/Frameworks/R.framework/Resources/include -DNDEBUG -I/usr/local/include -fPIC -mtune=native -g -O2 -Wall -pedantic -Wconversion -c inPolygon.c -o inPolygon.o
clang -I/Library/Frameworks/R.framework/Resources/include -DNDEBUG -I/usr/local/include -fPIC -mtune=native -g -O2 -Wall -pedantic -Wconversion -c inPolytope.c -o inPolytope.o
inPolytope.c:33:26: warning: implicit conversion loses floating-point precision: 'double' to 'float' [-Wconversion]
sigma[i+nRowA*k]=temp+b[i];
˜˜˜˜˜^˜˜˜˜
1 warning generated.
clang -I/Library/Frameworks/R.framework/Resources/include -DNDEBUG -I/usr/local/include -fPIC -mtune=native -g -O2 -Wall -pedantic -Wconversion -c init.c -o init.o
clang++ -I/Library/Frameworks/R.framework/Resources/include -DNDEBUG -I/usr/local/include -fPIC -mtune=native -g -O2 -Wall -pedantic -Wconversion -c logicleTransform.cpp -o logicleTransform.o
clang -I/Library/Frameworks/R.framework/Resources/include -DNDEBUG -I/usr/local/include -fPIC -mtune=native -g -O2 -Wall -pedantic -Wconversion -c zeroin.c -o zeroin.o
clang++ -dynamiclib -Wl,-headerpad_max_install_names -undefined dynamic_lookup -single_module -multiply_defined suppress -L/usr/local/lib -L/usr/local/lib -o flowCore.so FastLogicle.o Logicle.o biexponential.o inPolygon.o inPolytope.o init.o logicleTransform.o zeroin.o -F/Library/Frameworks/R.framework/.. -framework R -Wl,-framework -Wl,CoreFoundation
installing to /Users/biocbuild/bbs-2.12-bioc/meat/flowCore.buildbin-libdir/flowCore/libs
** R
** data
** inst
** preparing package for lazy loading
Creating a new generic function for 'filter' in package 'flowCore'
Creating a new generic function for 'ls' in package 'flowCore'
** help
*** installing help indices
** building package indices
** installing vignettes
** testing if installed package can be loaded
* DONE (flowCore)
>>>>>>>
>>>>>>> FIXING LINKS FOR flowCore.buildbin-libdir/flowCore/libs//flowCore.so
>>>>>>>
install_name_tool -change "/usr/local/lib/libgcc_s.1.dylib" "/Library/Frameworks/R.framework/Versions/3.0/Resources/lib/libgcc_s.1.dylib" "flowCore.buildbin-libdir/flowCore/libs//flowCore.so"
install_name_tool -change "/usr/local/lib/libgfortran.2.dylib" "/Library/Frameworks/R.framework/Versions/3.0/Resources/lib/libgfortran.2.dylib" "flowCore.buildbin-libdir/flowCore/libs//flowCore.so"
install_name_tool -change "/usr/local/lib/libreadline.5.2.dylib" "/Library/Frameworks/R.framework/Versions/3.0/Resources/lib/libreadline.5.2.dylib" "flowCore.buildbin-libdir/flowCore/libs//flowCore.so"
install_name_tool -change "/usr/local/lib/libreadline.dylib" "/Library/Frameworks/R.framework/Versions/3.0/Resources/lib/libreadline.dylib" "flowCore.buildbin-libdir/flowCore/libs//flowCore.so"