flowWorkspace 1.5.87 Greg Finak ,Mike Jiang
Snapshot Date: 2013-03-14 17:01:24 -0700 (Thu, 14 Mar 2013) | URL: https://hedgehog.fhcrc.org/bioconductor/trunk/madman/Rpacks/flowWorkspace | Last Changed Rev: 74361 / Revision: 74364 | Last Changed Date: 2013-03-14 16:00:54 -0700 (Thu, 14 Mar 2013) |
| george2 | Linux (Ubuntu 12.04.1 LTS) / x86_64 | OK | OK | |
moscato2 | Windows Server 2008 R2 Enterprise SP1 (64-bit) / x64 | [ ERROR ] | skipped | skipped |
petty | Mac OS X Leopard (10.5.8) / i386 | OK | OK | OK |
* checking for file 'flowWorkspace/DESCRIPTION' ... OK
* preparing 'flowWorkspace':
* checking DESCRIPTION meta-information ... OK
* cleaning src
* installing the package to re-build vignettes
-----------------------------------
* installing *source* package 'flowWorkspace' ...
**********************************************
WARNING: this package has a configure script
It probably needs manual configuration
**********************************************
** libs
g++ -m32 -I"E:/biocbld/BBS-2˜1.12-/R/include" -DNDEBUG -I"E:/biocbld/bbs-2.12-bioc/R/library/Rcpp/include" -I"E:/biocbld/bbs-2.12-bioc/R/library/ncdfFlow/include" -I"d:/RCompile/CRANpkg/extralibs64/local/include" -O2 -Wall -mtune=core2 -c GatingHierarchy.cpp -o GatingHierarchy.o
In file included from include/gate.hpp:14:0,
from include/POPINDICES.hpp:15,
from include/nodeProperties.hpp:11,
from include/populationTree.hpp:11,
from include/GatingHierarchy.hpp:13,
from GatingHierarchy.cpp:8:
include/flowData.hpp:19:28: fatal error: boost/config.hpp: No such file or directory
compilation terminated.
make: *** [GatingHierarchy.o] Error 1
ERROR: compilation failed for package 'flowWorkspace'
* removing 'E:/biocbld/bbs-2.12-bioc/tmpdir/RtmpKAb2QS/Rinstba45951864/flowWorkspace'
-----------------------------------
ERROR: package installation failed