iBMQ 0.99.1 Marie-Pier Scott-Boyer
Snapshot Date: 2012-12-16 17:02:38 -0800 (Sun, 16 Dec 2012) | URL: https://hedgehog.fhcrc.org/bioconductor/trunk/madman/Rpacks/iBMQ | Last Changed Rev: 71956 / Revision: 71973 | Last Changed Date: 2012-12-14 16:31:05 -0800 (Fri, 14 Dec 2012) |
| lamb2 | Linux (openSUSE 11.4) / x86_64 | OK | OK | |
moscato2 | Windows Server 2008 R2 Enterprise SP1 (64-bit) / x64 | [ ERROR ] | skipped | skipped |
petty | Mac OS X Leopard (10.5.8) / i386 | OK | OK | OK |
george2 | Linux (Ubuntu 12.04.1 LTS) / x86_64 | OK | OK | |
* checking for file 'iBMQ/DESCRIPTION' ... OK
* preparing 'iBMQ':
* checking DESCRIPTION meta-information ... OK
* cleaning src
* installing the package to re-build vignettes
-----------------------------------
* installing *source* package 'iBMQ' ...
**********************************************
WARNING: this package has a configure script
It probably needs manual configuration
**********************************************
** libs
gcc -m32 -I"E:/biocbld/BBS-2˜1.12-/R/include" -DNDEBUG -I"d:/RCompile/CRANpkg/extralibs64/local/include" -fopenmp -O3 -Wall -std=gnu99 -mtune=core2 -c ARS.c -o ARS.o
In file included from ARS.c:8:0:
ARS.h:39:24: fatal error: Rinterface.h: No such file or directory
compilation terminated.
make: *** [ARS.o] Error 1
ERROR: compilation failed for package 'iBMQ'
* removing 'E:/biocbld/bbs-2.12-bioc/tmpdir/RtmpgfoL7y/Rinst123ce1514db/iBMQ'
-----------------------------------
ERROR: package installation failed