rhdf5 2.4.0 Bernd Fischer
Snapshot Date: 2013-04-30 17:01:37 -0700 (Tue, 30 Apr 2013) | URL: https://hedgehog.fhcrc.org/bioconductor/branches/RELEASE_2_12/madman/Rpacks/rhdf5 | Last Changed Rev: 75263 / Revision: 76155 | Last Changed Date: 2013-04-03 14:32:27 -0700 (Wed, 03 Apr 2013) |
| george2 | Linux (Ubuntu 12.04.1 LTS) / x86_64 | OK | OK | |
moscato2 | Windows Server 2008 R2 Enterprise SP1 (64-bit) / x64 | OK | OK | OK |
petty | Mac OS X Snow Leopard (10.6.8) / x86_64 | OK | OK | OK |
pelham | Mac OS X Snow Leopard (10.6.8) / x86_64 | [ ERROR ] | skipped | skipped |
* checking for file 'rhdf5/DESCRIPTION' ... OK
* preparing 'rhdf5':
* checking DESCRIPTION meta-information ... OK
* cleaning src
* running 'cleanup'
* installing the package to re-build vignettes
* creating vignettes ...sh: line 1: 51047 Illegal instruction '/Library/Frameworks/R.framework/Resources/bin/Rscript' --vanilla --default-packages= -e "tools::buildVignettes(dir = '.', tangle = TRUE)" > '/tmp/Rtmph6EXiA/xshella1635d35b1e7' 2>&1
ERROR
*** caught illegal operation ***
address 0x103b3644e, cause 'illegal opcode'
Traceback:
1: .Call("_H5Fclose", h5file@ID, PACKAGE = "rhdf5")
2: H5Fclose(h5loc)
3: h5createFile("myhdf5file.h5")
4: eval(expr, envir, enclos)
5: eval(expr, .GlobalEnv)
6: withVisible(eval(expr, .GlobalEnv))
7: doTryCatch(return(expr), name, parentenv, handler)
8: tryCatchOne(expr, names, parentenv, handlers[[1L]])
9: tryCatchList(expr, classes, parentenv, handlers)
10: tryCatch(expr, error = function(e) { call <- conditionCall(e) if (!is.null(call)) { if (identical(call[[1L]], quote(doTryCatch))) call <- sys.call(-4L) dcall <- deparse(call)[1L] prefix <- paste("Error in", dcall, ": ") LONG <- 75L msg <- conditionMessage(e) sm <- strsplit(msg, "\n")[[1L]] w <- 14L + nchar(dcall, type = "w") + nchar(sm[1L], type = "w") if (is.na(w)) w <- 14L + nchar(dcall, type = "b") + nchar(sm[1L], type = "b") if (w > LONG) prefix <- paste0(prefix, "\n ") } else prefix <- "Error : " msg <- paste0(prefix, conditionMessage(e), "\n") .Internal(seterrmessage(msg[1L])) if (!silent && identical(getOption("show.error.messages"), TRUE)) { cat(msg, file = stderr()) .Internal(printDeferredWarnings()) } invisible(structure(msg, class = "try-error", condition = e))})
11: try(withVisible(eval(expr, .GlobalEnv)), silent = TRUE)
12: evalFunc(ce, options)
13: driver$runcode(drobj, chunk, chunkopts)
14: utils::Sweave(...)
15: engine$weave(file, quiet = quiet)
16: doTryCatch(return(expr), name, parentenv, handler)
17: tryCatchOne(expr, names, parentenv, handlers[[1L]])
18: tryCatchList(expr, classes, parentenv, handlers)
19: tryCatch({ engine$weave(file, quiet = quiet) setwd(startdir) find_vignette_product(name, by = "weave", engine = engine)}, error = function(e) { stop(gettextf("processing vignette '%s' failed with diagnostics:\n%s", file, conditionMessage(e)), domain = NA, call. = FALSE)})
20: tools::buildVignettes(dir = ".", tangle = TRUE)
aborting ...