rqubic 1.6.0 Jitao David Zhang
Snapshot Date: 2013-10-08 17:00:48 -0700 (Tue, 08 Oct 2013) | URL: https://hedgehog.fhcrc.org/bioconductor/branches/RELEASE_2_12/madman/Rpacks/rqubic | Last Changed Rev: 75263 / Revision: 81334 | Last Changed Date: 2013-04-03 14:32:27 -0700 (Wed, 03 Apr 2013) |
| george2 | Linux (Ubuntu 12.04.1 LTS) / x86_64 | OK | [ OK ] | |
moscato2 | Windows Server 2008 R2 Enterprise SP1 (64-bit) / x64 | OK | OK | OK |
petty | Mac OS X Snow Leopard (10.6.8) / x86_64 | OK | OK | OK |
* using log directory ‘/home/biocbuild/bbs-2.12-bioc/meat/rqubic.Rcheck’
* using R version 3.0.1 (2013-05-16)
* using platform: x86_64-unknown-linux-gnu (64-bit)
* using session charset: UTF-8
* using option ‘--no-vignettes’
* checking for file ‘rqubic/DESCRIPTION’ ... OK
* checking extension type ... Package
* this is package ‘rqubic’ version ‘1.6.0’
* checking package namespace information ... OK
* checking package dependencies ... OK
* checking if this is a source package ... OK
* checking if there is a namespace ... OK
* checking for hidden files and directories ... OK
* checking for portable file names ... OK
* checking for sufficient/correct file permissions ... OK
* checking whether package ‘rqubic’ can be installed ... [8s/8s] OK
* checking installed package size ... OK
* checking package directory ... OK
* checking DESCRIPTION meta-information ... OK
* checking top-level files ... OK
* checking for left-over files ... OK
* checking index information ... OK
* checking package subdirectories ... OK
* checking R files for non-ASCII characters ... OK
* checking R files for syntax errors ... OK
* checking whether the package can be loaded ... OK
* checking whether the package can be loaded with stated dependencies ... OK
* checking whether the package can be unloaded cleanly ... OK
* checking whether the namespace can be loaded with stated dependencies ... OK
* checking whether the namespace can be unloaded cleanly ... OK
* checking for unstated dependencies in R code ... OK
* checking S3 generic/method consistency ... OK
* checking replacement functions ... OK
* checking foreign function calls ... OK
* checking R code for possible problems ... OK
* checking Rd files ... OK
* checking Rd metadata ... OK
* checking Rd cross-references ... OK
* checking for missing documentation entries ... OK
* checking for code/documentation mismatches ... OK
* checking Rd \usage sections ... OK
* checking Rd contents ... OK
* checking for unstated dependencies in examples ... OK
* checking line endings in C/C++/Fortran sources/headers ... OK
* checking line endings in Makefiles ... OK
* checking for portable use of $(BLAS_LIBS) and $(LAPACK_LIBS) ... OK
* checking compiled code ... OK
* checking installed files from ‘inst/doc’ ... NOTE
The following files should probably not be installed:
‘backup.sty’
Consider the use of a .Rinstignore file: see ‘Writing R Extensions’,
or move the vignette sources from ‘inst/doc’ to ‘vignettes’.
* checking examples ... [8s/8s] OK
* checking for unstated dependencies in tests ... OK
* checking tests ...
Running ‘c_output_parser_tests.R’ [3s/3s]
Running ‘rqubic_implementations.R’ [3s/4s]
Running ‘test_read.R’ [3s/3s]
Running ‘test_utilities.R’ [0s/0s]
[9s/10s] OK
* checking for unstated dependencies in vignettes ... OK
* checking package vignettes in ‘inst/doc’ ... OK
* checking running R code from vignettes ... SKIPPED
* checking re-building of vignettes ... SKIPPED
* checking PDF version of manual ... OK
NOTE: There was 1 note.
See
‘/home/biocbuild/bbs-2.12-bioc/meat/rqubic.Rcheck/00check.log’
for details.
* installing *source* package ‘rqubic’ ...
** libs
gcc -std=gnu99 -I/home/biocbuild/bbs-2.12-bioc/R/include -DNDEBUG -I/usr/local/include -fpic -g -O2 -Wall -c bicluster.c -o bicluster.o
bicluster.c: In function ‘seed_intersect_r’:
bicluster.c:354:7: warning: suggest parentheses around assignment used as truth value [-Wparentheses]
gcc -std=gnu99 -I/home/biocbuild/bbs-2.12-bioc/R/include -DNDEBUG -I/usr/local/include -fpic -g -O2 -Wall -c discretize.c -o discretize.o
rqubic.h:60:20: warning: ‘EDGELIST_ATT_NAME’ defined but not used [-Wunused-variable]
rqubic.h:61:20: warning: ‘MINCOL_ATT_NAME’ defined but not used [-Wunused-variable]
gcc -std=gnu99 -I/home/biocbuild/bbs-2.12-bioc/R/include -DNDEBUG -I/usr/local/include -fpic -g -O2 -Wall -c fib.c -o fib.o
rqubic.h:60:20: warning: ‘EDGELIST_ATT_NAME’ defined but not used [-Wunused-variable]
rqubic.h:61:20: warning: ‘MINCOL_ATT_NAME’ defined but not used [-Wunused-variable]
gcc -std=gnu99 -I/home/biocbuild/bbs-2.12-bioc/R/include -DNDEBUG -I/usr/local/include -fpic -g -O2 -Wall -c graph.c -o graph.o
gcc -std=gnu99 -I/home/biocbuild/bbs-2.12-bioc/R/include -DNDEBUG -I/usr/local/include -fpic -g -O2 -Wall -c rqubic.c -o rqubic.o
rqubic.h:60:20: warning: ‘EDGELIST_ATT_NAME’ defined but not used [-Wunused-variable]
rqubic.h:61:20: warning: ‘MINCOL_ATT_NAME’ defined but not used [-Wunused-variable]
gcc -std=gnu99 -shared -L/usr/local/lib -o rqubic.so bicluster.o discretize.o fib.o graph.o rqubic.o -L/home/biocbuild/bbs-2.12-bioc/R/lib -lR
installing to /home/biocbuild/bbs-2.12-bioc/meat/rqubic.Rcheck/rqubic/libs
** R
** inst
** preparing package for lazy loading
** help
*** installing help indices
** building package indices
** installing vignettes
** testing if installed package can be loaded
* DONE (rqubic)