virtualArray 1.4.1 Andreas Heider
Snapshot Date: 2013-10-08 17:00:48 -0700 (Tue, 08 Oct 2013) | URL: https://hedgehog.fhcrc.org/bioconductor/branches/RELEASE_2_12/madman/Rpacks/virtualArray | Last Changed Rev: 76869 / Revision: 81334 | Last Changed Date: 2013-05-24 10:07:32 -0700 (Fri, 24 May 2013) |
| george2 | Linux (Ubuntu 12.04.1 LTS) / x86_64 | OK | OK | |
moscato2 | Windows Server 2008 R2 Enterprise SP1 (64-bit) / x64 | OK | OK | [ OK ] |
petty | Mac OS X Snow Leopard (10.6.8) / x86_64 | OK | WARNINGS | OK |
install for i386
* installing *source* package 'virtualArray' ...
** R
** data
*** moving datasets to lazyload DB
** inst
** preparing package for lazy loading
Creating a generic function for 'hist' from package 'graphics' in package 'affyPLM'
Warning: replacing previous import 'new' when loading 'methods'
Warning: replacing previous import 'density' when loading 'stats'
Warning: replacing previous import 'installed.packages' when loading 'utils'
Warning: replacing previous import 'read.csv' when loading 'utils'
Warning: replacing previous import 'read.table' when loading 'utils'
Warning: replacing previous import 'write.table' when loading 'utils'
Creating a generic function from function 'virtualArrayComBat' in package 'virtualArray'
** help
*** installing help indices
** building package indices
** installing vignettes
** testing if installed package can be loaded
Creating a generic function for 'hist' from package 'graphics' in package 'affyPLM'
Warning: replacing previous import 'new' when loading 'methods'
Warning: replacing previous import 'density' when loading 'stats'
Warning: replacing previous import 'installed.packages' when loading 'utils'
Warning: replacing previous import 'read.csv' when loading 'utils'
Warning: replacing previous import 'read.table' when loading 'utils'
Warning: replacing previous import 'write.table' when loading 'utils'
To support our work please cite:
To cite package 'virtualArray' in publications use:
Andreas Heider and Rüdiger Alt (2013). virtualArray: a R/bioconductor
package to merge raw data from different microarray platforms. R
package version 1.4.1.
A BibTeX entry for LaTeX users is
@Article{,
title = {virtualArray: a R/bioconductor package to merge raw data from different microarray platforms},
author = {{Andreas Heider} and {Rüdiger Alt}},
year = {2013},
note = {R package version 1.4.1},
journal = {BMC Bioinformatics},
volume = {14},
pages = {75},
}
Thanks.
install for x64
* installing *source* package 'virtualArray' ...
** testing if installed package can be loaded
Creating a generic function for 'hist' from package 'graphics' in package 'affyPLM'
Warning: replacing previous import 'new' when loading 'methods'
Warning: replacing previous import 'density' when loading 'stats'
Warning: replacing previous import 'installed.packages' when loading 'utils'
Warning: replacing previous import 'read.csv' when loading 'utils'
Warning: replacing previous import 'read.table' when loading 'utils'
Warning: replacing previous import 'write.table' when loading 'utils'
To support our work please cite:
To cite package 'virtualArray' in publications use:
Andreas Heider and Rüdiger Alt (2013). virtualArray: a R/bioconductor
package to merge raw data from different microarray platforms. R
package version 1.4.1.
A BibTeX entry for LaTeX users is
@Article{,
title = {virtualArray: a R/bioconductor package to merge raw data from different microarray platforms},
author = {{Andreas Heider} and {Rüdiger Alt}},
year = {2013},
note = {R package version 1.4.1},
journal = {BMC Bioinformatics},
volume = {14},
pages = {75},
}
Thanks.
* MD5 sums
packaged installation of 'virtualArray' as virtualArray_1.4.1.zip
* DONE (virtualArray)