waveTiling 1.2.0 Kristof De Beuf
Snapshot Date: 2013-10-08 17:00:48 -0700 (Tue, 08 Oct 2013) | URL: https://hedgehog.fhcrc.org/bioconductor/branches/RELEASE_2_12/madman/Rpacks/waveTiling | Last Changed Rev: 75263 / Revision: 81334 | Last Changed Date: 2013-04-03 14:32:27 -0700 (Wed, 03 Apr 2013) |
| george2 | Linux (Ubuntu 12.04.1 LTS) / x86_64 | OK | OK | |
moscato2 | Windows Server 2008 R2 Enterprise SP1 (64-bit) / x64 | OK | OK | OK |
petty | Mac OS X Snow Leopard (10.6.8) / x86_64 | OK | [ OK ] | OK |
* using log directory '/Users/biocbuild/bbs-2.12-bioc/meat/waveTiling.Rcheck'
* using R version 3.0.1 (2013-05-16)
* using platform: x86_64-apple-darwin10.8.0 (64-bit)
* using session charset: ASCII
* using option '--no-vignettes'
* checking for file 'waveTiling/DESCRIPTION' ... OK
* this is package 'waveTiling' version '1.2.0'
* checking package namespace information ... OK
* checking package dependencies ... OK
* checking if this is a source package ... OK
* checking if there is a namespace ... OK
* checking for hidden files and directories ... OK
* checking for portable file names ... OK
* checking for sufficient/correct file permissions ... OK
* checking whether package 'waveTiling' can be installed ... [31s/32s] OK
* checking installed package size ... OK
* checking package directory ... OK
* checking DESCRIPTION meta-information ... OK
* checking top-level files ... OK
* checking for left-over files ... OK
* checking index information ... OK
* checking package subdirectories ... OK
* checking R files for non-ASCII characters ... OK
* checking R files for syntax errors ... OK
* checking whether the package can be loaded ... OK
* checking whether the package can be loaded with stated dependencies ... OK
* checking whether the package can be unloaded cleanly ... OK
* checking whether the namespace can be loaded with stated dependencies ... OK
* checking whether the namespace can be unloaded cleanly ... OK
* checking for unstated dependencies in R code ... OK
* checking S3 generic/method consistency ... OK
* checking replacement functions ... OK
* checking foreign function calls ... NOTE
Foreign function calls with 'PACKAGE' argument in a different package:
.C("dwt", ..., PACKAGE = "waveslim")
.C("idwt", ..., PACKAGE = "waveslim")
See the chapter 'System and foreign language interfaces' of the
'Writing R Extensions' manual.
* checking R code for possible problems ... NOTE
plotWfm,WfmFit-WfmInf: warning in
makeNewTranscriptRectangleOverlay(sigRegions =
as.matrix(data.frame(start(regions[[1]]), end(regions[[1]]))),
location = Gloc, start = sta, end = end, region = c(trackCount,
trackCount), dp = DisplayPars(color = "darkgrey", alpha = 0.1)):
partial argument match of 'location' to 'locations'
plotWfm,WfmFit-WfmInf: warning in
makeNewTranscriptRectangleOverlay(sigRegions =
as.matrix(data.frame(start(regions[[2]]), end(regions[[2]]))),
location = Gloc, start = sta, end = end, region = c(trackCount,
trackCount), dp = DisplayPars(color = "darkgrey", alpha = 0.1)):
partial argument match of 'location' to 'locations'
plotWfm,WfmFit-WfmInf: warning in gdPlot(trackInfo, minBase = minBase,
maxBase = maxBase, overlay = overlayInfoCorr[hlpIndex]): partial
argument match of 'overlay' to 'overlays'
plotWfm,WfmFit-WfmInf: warning in
makeNewTranscriptRectangleOverlay(sigRegions =
as.matrix(data.frame(start(regions[[effectId[effectNo] + 1]]),
end(regions[[effectId[effectNo] + 1]]))), location = Gloc, start =
sta, end = end, region = c(trackCount, trackCount), dp =
DisplayPars(color = "darkgrey", alpha = 0.1)): partial argument match
of 'location' to 'locations'
plotWfm,WfmFit-WfmInf: warning in
makeNewTranscriptRectangleOverlay(sigRegions =
as.matrix(data.frame(start(regions[[effectId[length(effectsToPlot) -
2] + 2]]), end(regions[[effectId[length(effectsToPlot) - 2] + 2]]))),
location = Gloc, start = sta, end = end, region = c(trackCount,
trackCount), dp = DisplayPars(color = "darkgrey", alpha = 0.1)):
partial argument match of 'location' to 'locations'
plotWfm,WfmFit-WfmInf: warning in
makeNewTranscriptRectangleOverlay(sigRegions =
as.matrix(data.frame(start(regions[[i + 1]]), end(regions[[i +
1]]))), location = Gloc, start = sta, end = end, region =
c(trackCount, trackCount), dp = DisplayPars(color = "darkgrey", alpha
= 0.1)): partial argument match of 'location' to 'locations'
plotWfm,WfmFit-WfmInf: warning in
makeNewTranscriptRectangleOverlay(sigRegions =
as.matrix(data.frame(start(regions[[i]]), end(regions[[i]]))),
location = Gloc, start = sta, end = end, region = c(trackCount,
trackCount), dp = DisplayPars(color = "darkgrey", alpha = 0.1)):
partial argument match of 'location' to 'locations'
* checking Rd files ... OK
* checking Rd metadata ... OK
* checking Rd cross-references ... OK
* checking for missing documentation entries ... OK
* checking for code/documentation mismatches ... OK
* checking Rd \usage sections ... OK
* checking Rd contents ... OK
* checking for unstated dependencies in examples ... OK
* checking line endings in C/C++/Fortran sources/headers ... OK
* checking line endings in Makefiles ... OK
* checking for portable use of $(BLAS_LIBS) and $(LAPACK_LIBS) ... OK
* checking compiled code ... OK
* checking sizes of PDF files under 'inst/doc' ... OK
* checking installed files from 'inst/doc' ... OK
* checking examples ... [152s/154s] OK
Examples with CPU or elapsed time > 5s
user system elapsed
WaveTilingFeatureSet-class 47.552 1.653 49.240
wfm.fit 40.698 2.392 43.115
MapFilterProbe-class 12.064 0.284 12.390
selectProbesFromFilterOverlap 11.652 0.657 12.309
getNonAnnotatedRegions 6.613 0.876 8.341
getSigGenes 6.355 0.288 6.669
plotWfm 5.292 0.606 6.063
* checking for unstated dependencies in vignettes ... OK
* checking package vignettes in 'inst/doc' ... OK
* checking running R code from vignettes ... SKIPPED
* checking re-building of vignettes ... SKIPPED
* checking PDF version of manual ... OK
NOTE: There were 2 notes.
See
'/Users/biocbuild/bbs-2.12-bioc/meat/waveTiling.Rcheck/00check.log'
for details.