ITALICSData 2.0.7 Guillem Rigaill
Snapshot Date: 2013-10-08 10:15:19 -0700 (Tue, 08 Oct 2013) | URL: https://hedgehog.fhcrc.org/bioc-data/trunk/experiment/pkgs/ITALICSData | Last Changed Rev: 2494 / Revision: 2510 | Last Changed Date: 2013-10-04 19:28:10 -0700 (Fri, 04 Oct 2013) |
| george2 | Linux (Ubuntu 12.04.1 LTS) / x86_64 | OK | WARNINGS | |
moscato2 | Windows Server 2008 R2 Enterprise SP1 (64-bit) / x64 | OK | WARNINGS | OK |
petty | Mac OS X Snow Leopard (10.6.8) / x86_64 | OK | WARNINGS | [ OK ] |
>>>>>>>
>>>>>>> INSTALLATION WITH 'R CMD INSTALL --preclean --no-multiarch --library=ITALICSData.buildbin-libdir ITALICSData_2.0.7.tar.gz'
>>>>>>>
* installing *source* package 'ITALICSData' ...
** data
** inst
** help
*** installing help indices
** building package indices
** testing if installed package can be loaded
* DONE (ITALICSData)