Back to the "Multiple platform build/check report" |
Package 59/140 | Hostname | OS / Arch | BUILD | CHECK | BUILD BIN | ||||
hapmap100khind 1.4.1 Benilton Carvalho
| george2 | Linux (Ubuntu 12.04.1 LTS) / x86_64 | OK | OK | |||||
lamb2 | Linux (openSUSE 11.4) / x86_64 | [ OK ] | OK | ||||||
moscato2 | Windows Server 2008 R2 Enterprise SP1 (64-bit) / x64 | OK | OK | OK | |||||
petty | Mac OS X Leopard (10.5.8) / i386 | OK | OK | OK |
Package: hapmap100khind |
Version: 1.4.1 |
Command: /home/biocbuild/bbs-2.12-bioc/R/bin/R CMD build --keep-empty-dirs --no-resave-data hapmap100khind |
StartedAt: 2013-01-17 11:48:33 -0800 (Thu, 17 Jan 2013) |
EndedAt: 2013-01-17 11:49:42 -0800 (Thu, 17 Jan 2013) |
EllapsedTime: 69.4 seconds |
RetCode: 0 |
Status: OK |
PackageFile: hapmap100khind_1.4.1.tar.gz |
PackageFileSize: 38.05 MiB |
* checking for file ‘hapmap100khind/DESCRIPTION’ ... OK * preparing ‘hapmap100khind’: * checking DESCRIPTION meta-information ... OK * checking for LF line-endings in source and make files * checking for empty or unneeded directories * building ‘hapmap100khind_1.4.1.tar.gz’