Back to the "Multiple platform build/check report" |
Package 84/140 | Hostname | OS / Arch | BUILD | CHECK | BUILD BIN | ||||
maqcExpression4plex 1.6.1 Benilton Carvalho
| george2 | Linux (Ubuntu 12.04.1 LTS) / x86_64 | OK | OK | |||||
lamb2 | Linux (openSUSE 11.4) / x86_64 | [ OK ] | OK | ||||||
moscato2 | Windows Server 2008 R2 Enterprise SP1 (64-bit) / x64 | OK | OK | OK | |||||
petty | Mac OS X Leopard (10.5.8) / i386 | OK | OK | OK |
Package: maqcExpression4plex |
Version: 1.6.1 |
Command: /home/biocbuild/bbs-2.12-bioc/R/bin/R CMD build --keep-empty-dirs --no-resave-data maqcExpression4plex |
StartedAt: 2013-01-17 11:48:25 -0800 (Thu, 17 Jan 2013) |
EndedAt: 2013-01-17 11:48:31 -0800 (Thu, 17 Jan 2013) |
EllapsedTime: 6.8 seconds |
RetCode: 0 |
Status: OK |
PackageFile: maqcExpression4plex_1.6.1.tar.gz |
PackageFileSize: 6.578 MiB |
* checking for file ‘maqcExpression4plex/DESCRIPTION’ ... OK * preparing ‘maqcExpression4plex’: * checking DESCRIPTION meta-information ... OK * checking for LF line-endings in source and make files * checking for empty or unneeded directories * building ‘maqcExpression4plex_1.6.1.tar.gz’