Back to the "Multiple platform build/check report"

Package 91/140HostnameOS / ArchBUILDCHECKBUILD BIN
miRNATarget 0.99.2
Y-h. Taguchi
Snapshot Date: 2013-01-17 10:15:10 -0800 (Thu, 17 Jan 2013)
URL: https://hedgehog.fhcrc.org/bioc-data/trunk/experiment/pkgs/miRNATarget
Last Changed Rev: 2168 / Revision: 2199
Last Changed Date: 2012-10-01 10:57:19 -0700 (Mon, 01 Oct 2012)
george2 Linux (Ubuntu 12.04.1 LTS) / x86_64  OK  OK 
lamb2 Linux (openSUSE 11.4) / x86_64  OK [ OK ]
moscato2 Windows Server 2008 R2 Enterprise SP1 (64-bit) / x64  OK  OK  OK 
petty Mac OS X Leopard (10.5.8) / i386  OK  OK  OK 

Summary

Package: miRNATarget
Version: 0.99.2
Command: /home/biocbuild/bbs-2.12-bioc/R/bin/R CMD check --no-vignettes --timings miRNATarget_0.99.2.tar.gz
StartedAt: 2013-01-17 13:11:10 -0800 (Thu, 17 Jan 2013)
EndedAt: 2013-01-17 13:12:24 -0800 (Thu, 17 Jan 2013)
EllapsedTime: 74.0 seconds
RetCode: 0
Status:  OK 
CheckDir: miRNATarget.Rcheck
Warnings: 0

Command output

* using log directory ‘/loc/home/biocbuild/bbs-2.12-data-experiment/meat/miRNATarget.Rcheck’
* using R Under development (unstable) (2012-12-17 r61365)
* using platform: x86_64-unknown-linux-gnu (64-bit)
* using session charset: UTF-8
* using option ‘--no-vignettes’
* checking for file ‘miRNATarget/DESCRIPTION’ ... OK
* this is package ‘miRNATarget’ version ‘0.99.2’
* checking package namespace information ... OK
* checking package dependencies ... OK
* checking if this is a source package ... OK
* checking if there is a namespace ... OK
* checking for hidden files and directories ... OK
* checking for portable file names ... OK
* checking for sufficient/correct file permissions ... OK
* checking whether package ‘miRNATarget’ can be installed ... OK
* checking installed package size ... NOTE
  installed size is 23.1Mb
  sub-directories of 1Mb or more:
    data  22.7Mb
* checking package directory ... OK
* checking DESCRIPTION meta-information ... OK
* checking top-level files ... OK
* checking for left-over files ... OK
* checking index information ... OK
* checking package subdirectories ... OK
* checking whether the package can be loaded ... OK
* checking whether the package can be loaded with stated dependencies ... OK
* checking whether the package can be unloaded cleanly ... OK
* checking whether the namespace can be loaded with stated dependencies ... OK
* checking whether the namespace can be unloaded cleanly ... OK
* checking Rd files ... OK
* checking Rd metadata ... OK
* checking Rd cross-references ... OK
* checking for missing documentation entries ... OK
* checking for code/documentation mismatches ... OK
* checking Rd \usage sections ... OK
* checking Rd contents ... OK
* checking for unstated dependencies in examples ... OK
* checking contents of ‘data’ directory ... OK
* checking data for non-ASCII characters ... OK
* checking data for ASCII and uncompressed saves ... OK
* checking installed files from ‘inst/doc’ ... OK
* checking examples ... OK
Examples with CPU or elapsed time > 5s
         user system elapsed
TBL2_HS 5.336   0.26   5.601
* checking for unstated dependencies in vignettes ... OK
* checking package vignettes in ‘inst/doc’ ... OK
* checking running R code from vignettes ... SKIPPED
* checking re-building of vignettes ... SKIPPED
* checking PDF version of manual ... OK

NOTE: There was 1 note.
See
  ‘/loc/home/biocbuild/bbs-2.12-data-experiment/meat/miRNATarget.Rcheck/00check.log’
for details.

miRNATarget.Rcheck/00install.out:

* installing *source* package ‘miRNATarget’ ...
** data
** inst
** help
*** installing help indices
** building package indices
** installing vignettes
   ‘miRNATarget.Rnw’ 
** testing if installed package can be loaded

* DONE (miRNATarget)

miRNATarget.Rcheck/miRNATarget-Ex.timings:

nameusersystemelapsed
HS_conv_id0.0240.0040.030
HS_refseq_to_affy_hc_g1100.0160.0040.017
HS_refseq_to_affy_hg_focus0.0440.0040.047
HS_refseq_to_affy_hg_u133_plus_20.1680.0040.177
HS_refseq_to_affy_hg_u133a0.1120.0000.112
HS_refseq_to_affy_hg_u133a_20.1920.0000.188
HS_refseq_to_affy_hg_u133b0.080.000.08
HS_refseq_to_affy_hg_u95a0.0680.0000.068
HS_refseq_to_affy_hg_u95av20.0800.0000.081
HS_refseq_to_affy_hg_u95b0.0520.0000.054
HS_refseq_to_affy_hg_u95c0.0440.0080.049
HS_refseq_to_affy_hg_u95d0.0120.0040.015
HS_refseq_to_affy_hg_u95e0.0200.0080.026
HS_refseq_to_affy_huex_1_0_st_v22.7160.0642.783
HS_refseq_to_affy_hugene_1_0_st_v10.0800.0040.085
HS_refseq_to_affy_hugenefl0.0200.0080.030
HS_refseq_to_affy_u133_x3p0.1360.0040.144
HS_refseq_to_agilent_cgh_44b0.0440.0040.050
HS_refseq_to_agilent_wholegenome0.1040.0040.108
HS_refseq_to_canonical_transcript_stable_id0.1040.0120.118
HS_refseq_to_ccds0.0920.0040.095
HS_refseq_to_codelink0.1720.0040.176
HS_refseq_to_embl0.4000.0200.421
HS_refseq_to_ensembl_gene_id0.1520.0040.155
HS_refseq_to_ensembl_peptide_id0.1040.0040.107
HS_refseq_to_ensembl_transcript_id0.1600.0000.161
HS_refseq_to_entrezgene0.1400.0040.144
HS_refseq_to_hgnc_id0.0840.0000.084
HS_refseq_to_hgnc_symbol0.1400.0000.138
HS_refseq_to_hgnc_transcript_name0.2520.0040.257
HS_refseq_to_illumina_humanht_120.3240.0000.324
HS_refseq_to_illumina_humanwg_6_v10.1520.0040.157
HS_refseq_to_illumina_humanwg_6_v20.1520.0000.154
HS_refseq_to_illumina_humanwg_6_v30.0960.0000.096
HS_refseq_to_interpro0.2200.0000.223
HS_refseq_to_ipi0.2080.0000.208
HS_refseq_to_merops0.0120.0000.010
HS_refseq_to_pdb0.0480.0040.052
HS_refseq_to_pfam0.1480.0000.148
HS_refseq_to_phalanx_onearray0.1480.0040.152
HS_refseq_to_protein_id0.7120.0120.726
HS_refseq_to_refseq_dna0.0840.0080.095
HS_refseq_to_refseq_genomic0.0360.0000.035
HS_refseq_to_refseq_peptide0.1200.0040.125
HS_refseq_to_rfam0.0040.0040.007
HS_refseq_to_rfam_gene_name0.0080.0000.005
HS_refseq_to_rfam_transcript_name0.0040.0000.005
HS_refseq_to_smart0.0880.0040.091
HS_refseq_to_tigrfam0.0440.0000.045
HS_refseq_to_ucsc0.1320.0000.132
HS_refseq_to_unigene0.1040.0000.103
HS_refseq_to_uniprot_genename0.1520.0000.152
HS_refseq_to_wikigene_name0.0680.0040.074
MM_conv_id0.0480.0040.050
MM_refseq_to_affy_mg_u74a0.0720.0000.074
MM_refseq_to_affy_mg_u74av20.0320.0000.031
MM_refseq_to_affy_mg_u74b0.0720.0000.070
MM_refseq_to_affy_mg_u74bv20.0200.0000.027
MM_refseq_to_affy_mg_u74c0.0600.0000.058
MM_refseq_to_affy_mg_u74cv20.0120.0040.014
MM_refseq_to_affy_moe430a0.1160.0040.120
MM_refseq_to_affy_moe430b0.080.000.08
MM_refseq_to_affy_moex_1_0_st_v11.1880.0201.212
MM_refseq_to_affy_mogene_1_0_st_v10.0760.0000.077
MM_refseq_to_affy_mouse430_20.1280.0040.131
MM_refseq_to_affy_mouse430a_20.1600.0000.162
MM_refseq_to_affy_mu11ksuba0.0600.0120.071
MM_refseq_to_affy_mu11ksubb0.0600.0000.061
MM_refseq_to_agilent_wholegenome0.1400.0000.138
MM_refseq_to_canonical_transcript_stable_id0.1200.0040.123
MM_refseq_to_ccds0.1160.0000.115
MM_refseq_to_codelink0.1160.0000.119
MM_refseq_to_embl0.3810.0160.398
MM_refseq_to_ensembl_gene_id0.0600.0000.062
MM_refseq_to_ensembl_peptide_id0.080.000.08
MM_refseq_to_ensembl_transcript_id0.0800.0040.086
MM_refseq_to_entrezgene0.0840.0040.087
MM_refseq_to_fantom0.1160.0040.125
MM_refseq_to_illumina_mousewg_6_v10.1080.0040.111
MM_refseq_to_illumina_mousewg_6_v20.2760.0000.275
MM_refseq_to_interpro0.1480.0040.151
MM_refseq_to_ipi0.1040.0080.115
MM_refseq_to_merops0.0080.0000.009
MM_refseq_to_mgi_id0.0640.0000.063
MM_refseq_to_mgi_symbol0.0960.0000.095
MM_refseq_to_mgi_transcript_name0.1040.0000.105
MM_refseq_to_pdb0.0440.0000.044
MM_refseq_to_pfam0.1080.0040.109
MM_refseq_to_phalanx_onearray0.0600.0000.057
MM_refseq_to_protein_id0.2680.0040.271
MM_refseq_to_refseq_dna0.1080.0000.107
MM_refseq_to_refseq_peptide0.1320.0000.134
MM_refseq_to_rfam0.0600.0000.059
MM_refseq_to_rfam_gene_name0.0720.0000.070
MM_refseq_to_rfam_transcript_name0.140.000.14
MM_refseq_to_smart0.0840.0040.088
MM_refseq_to_tigrfam0.0400.0040.048
MM_refseq_to_ucsc0.1120.0000.111
MM_refseq_to_unigene0.1320.0080.144
MM_refseq_to_uniprot_genename0.1320.0040.137
MM_refseq_to_wikigene_name0.1280.0040.132
TBL22.7680.0922.860
TBL2_HS5.3360.2605.601
TBL2_MM2.4280.1802.609
conv_id0.0080.0000.008
id_conv0.0640.0000.064