GWASdata 1.0.9 Stephanie Gogarten , Adrienne Stilp
Snapshot Date: 2013-10-08 10:15:19 -0700 (Tue, 08 Oct 2013) | URL: https://hedgehog.fhcrc.org/bioc-data/trunk/experiment/pkgs/GWASdata | Last Changed Rev: 2487 / Revision: 2510 | Last Changed Date: 2013-10-04 19:11:40 -0700 (Fri, 04 Oct 2013) |
| george2 | Linux (Ubuntu 12.04.1 LTS) / x86_64 | [ OK ] | OK | |
moscato2 | Windows Server 2008 R2 Enterprise SP1 (64-bit) / x64 | OK | OK | OK |
petty | Mac OS X Snow Leopard (10.6.8) / x86_64 | OK | OK | OK |
* checking for file ‘GWASdata/DESCRIPTION’ ... OK
* preparing ‘GWASdata’:
* checking DESCRIPTION meta-information ... OK
* checking for LF line-endings in source and make files
* checking for empty or unneeded directories
* looking to see if a ‘data/datalist’ file should be added
* building ‘GWASdata_1.0.9.tar.gz’
Warning in utils::tar(filepath, pkgname, compression = "gzip", compression_level = 9L, :
storing paths of more than 100 bytes is not portable:
‘GWASdata/inst/extdata/affy_raw_data/GIGAS_g_GAINmixHapMapAffy2_GenomeWideEx_6_A03_31250.BIRDSEED.ALLELE_SUMMARY.TXT’
Warning in utils::tar(filepath, pkgname, compression = "gzip", compression_level = 9L, :
storing paths of more than 100 bytes is not portable:
‘GWASdata/inst/extdata/affy_raw_data/GIGAS_g_GAINmixHapMapAffy2_GenomeWideEx_6_A03_31250.BIRDSEED.CHP.TXT’
Warning in utils::tar(filepath, pkgname, compression = "gzip", compression_level = 9L, :
storing paths of more than 100 bytes is not portable:
‘GWASdata/inst/extdata/affy_raw_data/GIGAS_g_GAINmixHapMapAffy2_GenomeWideEx_6_A05_31282.BIRDSEED.ALLELE_SUMMARY.TXT’
Warning in utils::tar(filepath, pkgname, compression = "gzip", compression_level = 9L, :
storing paths of more than 100 bytes is not portable:
‘GWASdata/inst/extdata/affy_raw_data/GIGAS_g_GAINmixHapMapAffy2_GenomeWideEx_6_A05_31282.BIRDSEED.CHP.TXT’
Warning in utils::tar(filepath, pkgname, compression = "gzip", compression_level = 9L, :
storing paths of more than 100 bytes is not portable:
‘GWASdata/inst/extdata/affy_raw_data/GIGAS_g_GAINmixHapMapAffy2_GenomeWideEx_6_B02_31236.BIRDSEED.ALLELE_SUMMARY.TXT’
Warning in utils::tar(filepath, pkgname, compression = "gzip", compression_level = 9L, :
storing paths of more than 100 bytes is not portable:
‘GWASdata/inst/extdata/affy_raw_data/GIGAS_g_GAINmixHapMapAffy2_GenomeWideEx_6_B02_31236.BIRDSEED.CHP.TXT’