minfiData 0.3.4 Kasper Daniel Hansen
Snapshot Date: 2013-10-08 10:15:19 -0700 (Tue, 08 Oct 2013) | URL: https://hedgehog.fhcrc.org/bioc-data/trunk/experiment/pkgs/minfiData | Last Changed Rev: 2398 / Revision: 2510 | Last Changed Date: 2013-07-17 10:10:34 -0700 (Wed, 17 Jul 2013) |
| george2 | Linux (Ubuntu 12.04.1 LTS) / x86_64 | OK | OK | |
moscato2 | Windows Server 2008 R2 Enterprise SP1 (64-bit) / x64 | OK | OK | OK |
petty | Mac OS X Snow Leopard (10.6.8) / x86_64 | OK | OK | [ OK ] |
>>>>>>>
>>>>>>> INSTALLATION WITH 'R CMD INSTALL --preclean --no-multiarch --library=minfiData.buildbin-libdir minfiData_0.3.4.tar.gz'
>>>>>>>
* installing *source* package 'minfiData' ...
** data
*** moving datasets to lazyload DB
** inst
** help
*** installing help indices
** building package indices
** testing if installed package can be loaded
* DONE (minfiData)