prebsdata 0.99.4 Karolis Uziela
Snapshot Date: 2013-10-08 10:15:19 -0700 (Tue, 08 Oct 2013) | URL: https://hedgehog.fhcrc.org/bioc-data/trunk/experiment/pkgs/prebsdata | Last Changed Rev: 2330 / Revision: 2510 | Last Changed Date: 2013-04-16 03:55:03 -0700 (Tue, 16 Apr 2013) |
| george2 | Linux (Ubuntu 12.04.1 LTS) / x86_64 | [ OK ] | OK | |
moscato2 | Windows Server 2008 R2 Enterprise SP1 (64-bit) / x64 | OK | OK | OK |
petty | Mac OS X Snow Leopard (10.6.8) / x86_64 | OK | OK | OK |
* checking for file ‘prebsdata/DESCRIPTION’ ... OK
* preparing ‘prebsdata’:
* checking DESCRIPTION meta-information ... OK
* installing the package to re-build vignettes
* creating vignettes ... OK
* checking for LF line-endings in source and make files
* checking for empty or unneeded directories
* building ‘prebsdata_0.99.4.tar.gz’