Back to the "Multiple platform build/check report" | A B C D E F G H I J K L M N O P Q [R] S T U V W X Y Z |
This page was generated on 2014-04-05 09:47:02 -0700 (Sat, 05 Apr 2014).
Package 574/750 | Hostname | OS / Arch | BUILD | CHECK | BUILD BIN | ||||
RBGL 1.38.0 Bioconductor Package Maintainer
| zin1 | Linux (Ubuntu 12.04.4 LTS) / x86_64 | [ OK ] | OK | |||||
moscato1 | Windows Server 2008 R2 Enterprise SP1 (64-bit) / x64 | OK | OK | OK | |||||
perceval | Mac OS X Snow Leopard (10.6.8) / x86_64 | OK | OK | OK |
Package: RBGL |
Version: 1.38.0 |
Command: /home/biocbuild/bbs-2.13-bioc/R/bin/R CMD build --keep-empty-dirs --no-resave-data RBGL |
StartedAt: 2014-04-04 20:25:33 -0700 (Fri, 04 Apr 2014) |
EndedAt: 2014-04-04 20:27:04 -0700 (Fri, 04 Apr 2014) |
EllapsedTime: 91.3 seconds |
RetCode: 0 |
Status: OK |
PackageFile: RBGL_1.38.0.tar.gz |
PackageFileSize: 2.161 MiB |
* checking for file ‘RBGL/DESCRIPTION’ ... OK * preparing ‘RBGL’: * checking DESCRIPTION meta-information ... OK * cleaning src * running ‘cleanup’ * installing the package to build vignettes * creating vignettes ... OK * cleaning src * running ‘cleanup’ * checking for LF line-endings in source and make files * checking for empty or unneeded directories * looking to see if a ‘data/datalist’ file should be added * building ‘RBGL_1.38.0.tar.gz’