Back to the "Multiple platform build/check report" | A B C D E F G H I J K L M N O P Q R S [T] U V W X Y Z |
This page was generated on 2014-04-05 09:48:42 -0700 (Sat, 05 Apr 2014).
Package 705/750 | Hostname | OS / Arch | BUILD | CHECK | BUILD BIN | ||||
TargetScore 1.0.0 Yue Li
| zin1 | Linux (Ubuntu 12.04.4 LTS) / x86_64 | [ OK ] | OK | |||||
moscato1 | Windows Server 2008 R2 Enterprise SP1 (64-bit) / x64 | OK | OK | OK | |||||
perceval | Mac OS X Snow Leopard (10.6.8) / x86_64 | OK | OK | OK |
Package: TargetScore |
Version: 1.0.0 |
Command: /home/biocbuild/bbs-2.13-bioc/R/bin/R CMD build --keep-empty-dirs --no-resave-data TargetScore |
StartedAt: 2014-04-04 22:50:19 -0700 (Fri, 04 Apr 2014) |
EndedAt: 2014-04-04 22:50:49 -0700 (Fri, 04 Apr 2014) |
EllapsedTime: 29.8 seconds |
RetCode: 0 |
Status: OK |
PackageFile: TargetScore_1.0.0.tar.gz |
PackageFileSize: 729.8 KiB |
* checking for file ‘TargetScore/DESCRIPTION’ ... OK * preparing ‘TargetScore’: * checking DESCRIPTION meta-information ... OK * installing the package to build vignettes * creating vignettes ... OK * checking for LF line-endings in source and make files * checking for empty or unneeded directories * building ‘TargetScore_1.0.0.tar.gz’