ddgraph 1.6.3 Robert Stojnic
Snapshot Date: 2014-04-04 16:20:29 -0700 (Fri, 04 Apr 2014) | URL: https://hedgehog.fhcrc.org/bioconductor/branches/RELEASE_2_13/madman/Rpacks/ddgraph | Last Changed Rev: 87517 / Revision: 88450 | Last Changed Date: 2014-03-17 10:58:58 -0700 (Mon, 17 Mar 2014) |
| zin1 | Linux (Ubuntu 12.04.4 LTS) / x86_64 | OK | OK | |
moscato1 | Windows Server 2008 R2 Enterprise SP1 (64-bit) / x64 | OK | OK | [ OK ] |
perceval | Mac OS X Snow Leopard (10.6.8) / x86_64 | OK | OK | OK |
Scanning files
adding: data/ (256 bytes security) (stored 0%)
adding: data/mesoBin.RData (188 bytes security) (deflated 28%)
adding: data/mesoCont.RData (188 bytes security) (deflated 27%)
adding: data/toyExample.RData (188 bytes security) (stored 0%)
adding: DESCRIPTION (188 bytes security) (deflated 46%)
adding: doc/ (256 bytes security) (stored 0%)
adding: doc/ddgraph.pdf (188 bytes security) (deflated 11%)
adding: doc/ddgraph.R (188 bytes security) (deflated 80%)
adding: doc/ddgraph.Rnw (188 bytes security) (deflated 63%)
adding: doc/index.html (188 bytes security) (deflated 59%)
adding: doc/references.bib (188 bytes security) (deflated 38%)
adding: extdata/ (256 bytes security) (stored 0%)
adding: extdata/supplementary_table_8_training_set.txt (188 bytes security) (deflated 68%)
adding: help/ (256 bytes security) (stored 0%)
adding: help/aliases.rds (188 bytes security) (stored 0%)
adding: help/AnIndex (188 bytes security) (deflated 75%)
adding: help/ddgraph.rdb (188 bytes security) (deflated 2%)
adding: help/ddgraph.rdx (188 bytes security) (stored 0%)
adding: help/paths.rds (188 bytes security) (stored 0%)
adding: html/ (256 bytes security) (stored 0%)
adding: html/00Index.html (188 bytes security) (deflated 80%)
adding: html/R.css (188 bytes security) (deflated 70%)
adding: INDEX (188 bytes security) (deflated 70%)
adding: libs/ (256 bytes security) (stored 0%)
adding: libs/i386/ (256 bytes security) (stored 0%)
adding: libs/i386/ddgraph.dll (188 bytes security) (deflated 65%)
adding: libs/x64/ (256 bytes security) (stored 0%)
adding: libs/x64/ddgraph.dll (188 bytes security) (deflated 69%)
adding: MD5 (188 bytes security) (deflated 54%)
adding: Meta/ (256 bytes security) (stored 0%)
adding: Meta/data.rds (188 bytes security) (stored 0%)
adding: Meta/hsearch.rds (188 bytes security) (deflated 1%)
adding: Meta/links.rds (188 bytes security) (stored 0%)
adding: Meta/nsInfo.rds (188 bytes security) (stored 0%)
adding: Meta/package.rds (188 bytes security) (stored 0%)
adding: Meta/Rd.rds (188 bytes security) (stored 0%)
adding: Meta/vignette.rds (188 bytes security) (stored 0%)
adding: NAMESPACE (188 bytes security) (deflated 60%)
adding: NEWS (188 bytes security) (deflated 42%)
adding: R/ (256 bytes security) (stored 0%)
adding: R/ddgraph (188 bytes security) (deflated 41%)
adding: R/ddgraph.rdb (188 bytes security) (deflated 21%)
adding: R/ddgraph.rdx (188 bytes security) (stored 0%)
adding: tests/ (256 bytes security) (stored 0%)
adding: tests/gold_standard/ (256 bytes security) (stored 0%)
adding: tests/gold_standard/meso_0.05.txt (188 bytes security) (deflated 91%)
adding: tests/gold_standard/meso_0.1.txt (188 bytes security) (deflated 92%)
adding: tests/gold_standard/meso_0.2.txt (188 bytes security) (deflated 93%)
adding: tests/gold_standard/meso_sm_0.05.txt (188 bytes security) (deflated 92%)
adding: tests/gold_standard/meso_sm_0.1.txt (188 bytes security) (deflated 92%)
adding: tests/gold_standard/meso_sm_0.2.txt (188 bytes security) (deflated 92%)
adding: tests/gold_standard/sm_0.05.txt (188 bytes security) (deflated 89%)
adding: tests/gold_standard/sm_0.1.txt (188 bytes security) (deflated 89%)
adding: tests/gold_standard/sm_0.2.txt (188 bytes security) (deflated 90%)
adding: tests/gold_standard/star-meso_0.05.txt (188 bytes security) (deflated 90%)
adding: tests/gold_standard/star-meso_0.1.txt (188 bytes security) (deflated 93%)
adding: tests/gold_standard/star-meso_0.2.txt (188 bytes security) (deflated 93%)
adding: tests/gold_standard/star-meso_sm_0.05.txt (188 bytes security) (deflated 90%)
adding: tests/gold_standard/star-meso_sm_0.1.txt (188 bytes security) (deflated 91%)
adding: tests/gold_standard/star-meso_sm_0.2.txt (188 bytes security) (deflated 92%)
adding: tests/gold_standard/star-sm_0.05.txt (188 bytes security) (deflated 87%)
adding: tests/gold_standard/star-sm_0.1.txt (188 bytes security) (deflated 87%)
adding: tests/gold_standard/star-sm_0.2.txt (188 bytes security) (deflated 89%)
adding: tests/gold_standard/star-vm_0.05.txt (188 bytes security) (deflated 91%)
adding: tests/gold_standard/star-vm_0.1.txt (188 bytes security) (deflated 92%)
adding: tests/gold_standard/star-vm_0.2.txt (188 bytes security) (deflated 92%)
adding: tests/gold_standard/star-vm_sm_0.05.txt (188 bytes security) (deflated 92%)
adding: tests/gold_standard/star-vm_sm_0.1.txt (188 bytes security) (deflated 92%)
adding: tests/gold_standard/star-vm_sm_0.2.txt (188 bytes security) (deflated 92%)
adding: tests/gold_standard/vm_0.05.txt (188 bytes security) (deflated 92%)
adding: tests/gold_standard/vm_0.1.txt (188 bytes security) (deflated 92%)
adding: tests/gold_standard/vm_0.2.txt (188 bytes security) (deflated 93%)
adding: tests/gold_standard/vm_sm_0.05.txt (188 bytes security) (deflated 91%)
adding: tests/gold_standard/vm_sm_0.1.txt (188 bytes security) (deflated 93%)
adding: tests/gold_standard/vm_sm_0.2.txt (188 bytes security) (deflated 93%)
adding: tests/reports/ (256 bytes security) (stored 0%)
adding: tests/reports/this_is_where_test_results_go.txt (188 bytes security) (stored 0%)
adding: tests/test_DDDataSet.R (188 bytes security) (deflated 79%)
adding: tests/test_functions.R (188 bytes security) (deflated 64%)
adding: tests/test_FurlongDataSet.R (188 bytes security) (deflated 82%)
adding: tests/test_lake.R (188 bytes security) (deflated 62%)
adding: tests/test_NCPCRobustness.R (188 bytes security) (deflated 71%)