motifStack 1.8.1 Jianhong Ou
Snapshot Date: 2014-10-07 17:20:37 -0700 (Tue, 07 Oct 2014) | URL: https://hedgehog.fhcrc.org/bioconductor/branches/RELEASE_2_14/madman/Rpacks/motifStack | Last Changed Rev: 91446 / Revision: 95116 | Last Changed Date: 2014-06-16 08:26:05 -0700 (Mon, 16 Jun 2014) |
| zin2 | Linux (Ubuntu 12.04.4 LTS) / x86_64 | OK | OK | OK | |
moscato2 | Windows Server 2008 R2 Enterprise SP1 (64-bit) / x64 | OK | OK | OK | [ OK ] |
petty | Mac OS X Snow Leopard (10.6.8) / x86_64 | OK | OK | OK | OK |
morelia | Mac OS X Mavericks (10.9.5) / x86_64 | OK | OK | OK | OK |
##############################################################################
##############################################################################
###
### Running command:
###
### cd motifStack.buildbin-libdir/motifStack && zip -r ../../motifStack_1.8.1.zip . & cd ../..
###
##############################################################################
##############################################################################
adding: DESCRIPTION (188 bytes security) (deflated 50%)
adding: doc/ (256 bytes security) (stored 0%)
adding: doc/index.html (188 bytes security) (deflated 58%)
adding: doc/motifStack.pdf (188 bytes security) (deflated 14%)
adding: doc/motifStack.R (188 bytes security) (deflated 71%)
adding: doc/motifStack.Rnw (188 bytes security) (deflated 65%)
adding: extdata/ (256 bytes security) (stored 0%)
adding: extdata/bin_SOLEXA.pcm (188 bytes security) (deflated 29%)
adding: extdata/cap.txt (188 bytes security) (deflated 67%)
adding: extdata/fd64A_SOLEXA.pcm (188 bytes security) (deflated 30%)
adding: extdata/fkh_NAR.pcm (188 bytes security) (deflated 37%)
adding: extdata/foxo_SOLEXA.pcm (188 bytes security) (deflated 29%)
adding: extdata/FoxP_SOLEXA.pcm (188 bytes security) (deflated 32%)
adding: extdata/slp1_SOLEXA.pcm (188 bytes security) (deflated 34%)
adding: extdata/slp2_SOLEXA.pcm (188 bytes security) (deflated 34%)
adding: help/ (256 bytes security) (stored 0%)
adding: help/aliases.rds (188 bytes security) (stored 0%)
adding: help/AnIndex (188 bytes security) (deflated 75%)
adding: help/motifStack.rdb (188 bytes security) (deflated 1%)
adding: help/motifStack.rdx (188 bytes security) (stored 0%)
adding: help/paths.rds (188 bytes security) (stored 0%)
adding: html/ (256 bytes security) (stored 0%)
adding: html/00Index.html (188 bytes security) (deflated 81%)
adding: html/R.css (188 bytes security) (deflated 70%)
adding: INDEX (188 bytes security) (deflated 70%)
adding: MD5 (188 bytes security) (deflated 45%)
adding: Meta/ (256 bytes security) (stored 0%)
adding: Meta/hsearch.rds (188 bytes security) (stored 0%)
adding: Meta/links.rds (188 bytes security) (stored 0%)
adding: Meta/nsInfo.rds (188 bytes security) (stored 0%)
adding: Meta/package.rds (188 bytes security) (stored 0%)
adding: Meta/Rd.rds (188 bytes security) (stored 0%)
adding: Meta/vignette.rds (188 bytes security) (stored 0%)
adding: NAMESPACE (188 bytes security) (deflated 48%)
adding: NEWS (188 bytes security) (deflated 81%)
adding: R/ (256 bytes security) (stored 0%)
adding: R/motifStack (188 bytes security) (deflated 41%)
adding: R/motifStack.rdb (188 bytes security) (deflated 26%)
adding: R/motifStack.rdx (188 bytes security) (deflated 2%)
adding: unitTests/ (256 bytes security) (stored 0%)
adding: unitTests/test_motifStack.R (188 bytes security) (deflated 79%)