Back to the "Multiple platform build/check report" | A B [C] D E F G H I J K L M N O P Q R S T U V W X Y Z |
This page was generated on 2014-04-02 13:17:10 -0700 (Wed, 02 Apr 2014).
Package 193/812 | Hostname | OS / Arch | BUILD | CHECK | BUILD BIN | ||||
CoverageView 0.99.9 Ernesto Lowy
| zin2 | Linux (Ubuntu 12.04.4 LTS) / x86_64 | OK | OK | |||||
moscato2 | Windows Server 2008 R2 Enterprise SP1 (64-bit) / x64 | OK | ERROR | [ OK ] | |||||
petty | Mac OS X Snow Leopard (10.6.8) / x86_64 | OK | OK | OK |
Package: CoverageView |
Version: 0.99.9 |
Command: cd CoverageView.Rcheck/CoverageView && zip -r ../../CoverageView_0.99.9.zip . & cd ../.. |
StartedAt: 2014-04-02 12:22:23 -0700 (Wed, 02 Apr 2014) |
EndedAt: 2014-04-02 12:22:27 -0700 (Wed, 02 Apr 2014) |
EllapsedTime: 4.4 seconds |
RetCode: 0 |
Status: OK |
PackageFile: CoverageView_0.99.9.zip |
PackageFileSize: 2.415 MiB |
The system cannot find the path specified.