Back to the "Build/check report" | A B C D [E] F G H I J K L M N O P Q R S T U V W X Y Z |
This page was generated on 2013-10-08 10:03:32 -0700 (Tue, 08 Oct 2013).
Package 229/730 | Hostname | OS / Arch | BUILD | CHECK | BUILD BIN | ||||
externalVector 1.27.0 Bioconductor Package Maintainer
| zin2 | Linux (Ubuntu 12.04.2 LTS) / x86_64 | [ OK ] | ERROR |
Package: externalVector |
Version: 1.27.0 |
Command: /home/biocbuild/bbs-2.14-bioc/R/bin/R CMD build --keep-empty-dirs --no-resave-data externalVector |
StartedAt: 2013-10-07 20:45:07 -0700 (Mon, 07 Oct 2013) |
EndedAt: 2013-10-07 20:45:10 -0700 (Mon, 07 Oct 2013) |
EllapsedTime: 2.2 seconds |
RetCode: 0 |
Status: OK |
PackageFile: externalVector_1.27.0.tar.gz |
PackageFileSize: 82.1 KiB |
* checking for file ‘externalVector/DESCRIPTION’ ... OK * preparing ‘externalVector’: * checking DESCRIPTION meta-information ... OK * cleaning src * checking for LF line-endings in source and make files * checking for empty or unneeded directories * building ‘externalVector_1.27.0.tar.gz’